BEGIN:VCALENDAR
VERSION:2.0
PRODID:-//Reiki Home - ECPv6.15.20//NONSGML v1.0//EN
CALSCALE:GREGORIAN
METHOD:PUBLISH
X-WR-CALNAME:Reiki Home
X-ORIGINAL-URL:https://reikihome.org
X-WR-CALDESC:Events for Reiki Home
REFRESH-INTERVAL;VALUE=DURATION:PT1H
X-Robots-Tag:noindex
X-PUBLISHED-TTL:PT1H
BEGIN:VTIMEZONE
TZID:America/Los_Angeles
BEGIN:DAYLIGHT
TZOFFSETFROM:-0800
TZOFFSETTO:-0700
TZNAME:PDT
DTSTART:20240310T100000
END:DAYLIGHT
BEGIN:STANDARD
TZOFFSETFROM:-0700
TZOFFSETTO:-0800
TZNAME:PST
DTSTART:20241103T090000
END:STANDARD
BEGIN:DAYLIGHT
TZOFFSETFROM:-0800
TZOFFSETTO:-0700
TZNAME:PDT
DTSTART:20250309T100000
END:DAYLIGHT
BEGIN:STANDARD
TZOFFSETFROM:-0700
TZOFFSETTO:-0800
TZNAME:PST
DTSTART:20251102T090000
END:STANDARD
BEGIN:DAYLIGHT
TZOFFSETFROM:-0800
TZOFFSETTO:-0700
TZNAME:PDT
DTSTART:20260308T100000
END:DAYLIGHT
BEGIN:STANDARD
TZOFFSETFROM:-0700
TZOFFSETTO:-0800
TZNAME:PST
DTSTART:20261101T090000
END:STANDARD
END:VTIMEZONE
BEGIN:VEVENT
DTSTART;TZID=America/Los_Angeles:20250702T080000
DTEND;TZID=America/Los_Angeles:20250702T093000
DTSTAMP:20260425T211014
CREATED:20250619T043224Z
LAST-MODIFIED:20250619T043458Z
UID:10004655-1751443200-1751448600@reikihome.org
SUMMARY:EC: Healing the Wounded Healer #1
DESCRIPTION:Have you experienced trauma—physically\, mentally\, or spiritually—and felt its lingering effects in your daily life? Whether through surgery\, a stroke\, PTSD\, or spiritual disconnection\, trauma leaves its mark. But healing is possible. \nTrauma touches us all—but healing begins with recognition. In this powerful session\, we’ll open space to explore how trauma lives in the body (stroke\, surgery\, accidents)\, the mind (PTSD\, anxiety)\, and the spirit (disconnection\, grief\, betrayal). Through guided reflection and compassionate sharing\, we’ll begin to ntangle the complex layers of our wounding.
URL:https://reikihome.org/event/ec-healing-the-wounded-healer-1/
CATEGORIES:Engaged Conversation
END:VEVENT
BEGIN:VEVENT
DTSTART;TZID=America/Los_Angeles:20250702T093000
DTEND;TZID=America/Los_Angeles:20250702T103000
DTSTAMP:20260425T211014
CREATED:20250521T180657Z
LAST-MODIFIED:20250625T185313Z
UID:10004660-1751448600-1751452200@reikihome.org
SUMMARY:Together in Reiki - Earthsong
DESCRIPTION:Together in Reiki circles create an opportunity to sit in a virtual circle.  Each facilitator and host offers a variety of ways to experience a Reiki circle by bringing their own creativity\, sensitivity and gifts from Reiki.  You are encouraged to enjoy a unique experience.  Participate in a language you do not speak and experience Reiki in a way that goes beyond the spoken word.  It is unique and special!   All events are listed in PDT. For your own time zone\, please check the World Clock Converter.
URL:https://reikihome.org/event/together-in-reiki-earthsong-65/
CATEGORIES:Reiki Circles and Meditations
END:VEVENT
END:VCALENDAR