BEGIN:VCALENDAR
VERSION:2.0
PRODID:-//Reiki Home - ECPv6.15.20//NONSGML v1.0//EN
CALSCALE:GREGORIAN
METHOD:PUBLISH
X-ORIGINAL-URL:https://reikihome.org
X-WR-CALDESC:Events for Reiki Home
REFRESH-INTERVAL;VALUE=DURATION:PT1H
X-Robots-Tag:noindex
X-PUBLISHED-TTL:PT1H
BEGIN:VTIMEZONE
TZID:America/Los_Angeles
BEGIN:DAYLIGHT
TZOFFSETFROM:-0800
TZOFFSETTO:-0700
TZNAME:PDT
DTSTART:20240310T100000
END:DAYLIGHT
BEGIN:STANDARD
TZOFFSETFROM:-0700
TZOFFSETTO:-0800
TZNAME:PST
DTSTART:20241103T090000
END:STANDARD
BEGIN:DAYLIGHT
TZOFFSETFROM:-0800
TZOFFSETTO:-0700
TZNAME:PDT
DTSTART:20250309T100000
END:DAYLIGHT
BEGIN:STANDARD
TZOFFSETFROM:-0700
TZOFFSETTO:-0800
TZNAME:PST
DTSTART:20251102T090000
END:STANDARD
BEGIN:DAYLIGHT
TZOFFSETFROM:-0800
TZOFFSETTO:-0700
TZNAME:PDT
DTSTART:20260308T100000
END:DAYLIGHT
BEGIN:STANDARD
TZOFFSETFROM:-0700
TZOFFSETTO:-0800
TZNAME:PST
DTSTART:20261101T090000
END:STANDARD
END:VTIMEZONE
BEGIN:VEVENT
DTSTART;TZID=America/Los_Angeles:20250802T080000
DTEND;TZID=America/Los_Angeles:20250802T093000
DTSTAMP:20260425T194319
CREATED:20250714T224804Z
LAST-MODIFIED:20250714T224804Z
UID:10004699-1754121600-1754127000@reikihome.org
SUMMARY:A Master's Story
DESCRIPTION:Join us for an inspiring conversation with Elaine Andres\, Reiki Master\, Ordained Minister\, and Spiritual Companion\, as she shares her lifelong journey of Reiki as a living prayer. Ethel Lombardi\, a Takata master\, initiated Elaine in the First & Second Degrees in 1981 and 1982. She was initiated by Phyllis Lei Furumoto in 1984. Elaine brings over four decades of experience weaving Reiki\, spiritual direction\, and interfaith ministry into a life devoted to healing and trust in the Mystery of Life. \nThrough her story\, you’ll witness how Reiki can be more than a healing practice — it can become a spiritual path\, a way of living\, and a profound source of connection with self\, others\, and the Divine.
URL:https://reikihome.org/event/a-masters-story-2/
CATEGORIES:Master Story
END:VEVENT
END:VCALENDAR