BEGIN:VCALENDAR
VERSION:2.0
PRODID:-//Reiki Home - ECPv6.15.20//NONSGML v1.0//EN
CALSCALE:GREGORIAN
METHOD:PUBLISH
X-ORIGINAL-URL:https://reikihome.org
X-WR-CALDESC:Events for Reiki Home
REFRESH-INTERVAL;VALUE=DURATION:PT1H
X-Robots-Tag:noindex
X-PUBLISHED-TTL:PT1H
BEGIN:VTIMEZONE
TZID:America/Los_Angeles
BEGIN:DAYLIGHT
TZOFFSETFROM:-0800
TZOFFSETTO:-0700
TZNAME:PDT
DTSTART:20240310T100000
END:DAYLIGHT
BEGIN:STANDARD
TZOFFSETFROM:-0700
TZOFFSETTO:-0800
TZNAME:PST
DTSTART:20241103T090000
END:STANDARD
BEGIN:DAYLIGHT
TZOFFSETFROM:-0800
TZOFFSETTO:-0700
TZNAME:PDT
DTSTART:20250309T100000
END:DAYLIGHT
BEGIN:STANDARD
TZOFFSETFROM:-0700
TZOFFSETTO:-0800
TZNAME:PST
DTSTART:20251102T090000
END:STANDARD
BEGIN:DAYLIGHT
TZOFFSETFROM:-0800
TZOFFSETTO:-0700
TZNAME:PDT
DTSTART:20260308T100000
END:DAYLIGHT
BEGIN:STANDARD
TZOFFSETFROM:-0700
TZOFFSETTO:-0800
TZNAME:PST
DTSTART:20261101T090000
END:STANDARD
END:VTIMEZONE
BEGIN:VEVENT
DTSTART;TZID=America/Los_Angeles:20250806T080000
DTEND;TZID=America/Los_Angeles:20250806T093000
DTSTAMP:20260425T194221
CREATED:20250714T224805Z
LAST-MODIFIED:20250714T224805Z
UID:10004700-1754467200-1754472600@reikihome.org
SUMMARY:EC: Healing the Wounded Healer #2
DESCRIPTION:Healing the Wounded Healer  \n A Transformational Journey for Mind\, Body & Spirit – Part 2 of 3 of Engaged Conversations Series \n Have you experienced trauma—physically\, mentally\, or spiritually—and felt its lingering effects in your daily life? Whether through surgery\, a stroke\, PTSD\, or spiritual disconnection\, trauma leaves its mark. But healing is possible. \n Join us for Healing the Wounded Healer\, a powerful event where we’ll explore the deep impacts of trauma and guide you on a personalized path to renewal. This workshop we will focus on movement\, nutrition\, meditation\, journaling\, art\, and music\, you’ll begin crafting your healing journey. \n 🌀 Share your story. \n 🌀 Reclaim your power. \n 🌀 Become your own health care advocate. \n It’s time to transform your pain into purpose. \n You’re not alone. You’re healing. And you’re not just surviving—you’re thriving. \n Facilitator: Bridgid Ruden \n Date: August 6\, 2025 \n Other Series Dates: September 3\, 2025 \n Time: 8 a.m. – 9:30 a.m. PDT \n Tiered Fees – Choose the level that supports you and Reiki Home. \n $50 Abundance – We are grateful for your support of others.\n $40 Sustaining – Thank you for sustaining this webinar.\n $30 Basic – We appreciate your gift.\n Recording: Engaged Conversations are not recorded due to confidentiality for the participants.
URL:https://reikihome.org/event/ec-healing-the-wounded-healer-2/
CATEGORIES:Engaged Conversation
END:VEVENT
BEGIN:VEVENT
DTSTART;TZID=America/Los_Angeles:20250806T093000
DTEND;TZID=America/Los_Angeles:20250806T103000
DTSTAMP:20260425T194221
CREATED:20250521T180707Z
LAST-MODIFIED:20250625T185317Z
UID:10004662-1754472600-1754476200@reikihome.org
SUMMARY:Together in Reiki - Earthsong
DESCRIPTION:Together in Reiki circles create an opportunity to sit in a virtual circle.  Each facilitator and host offers a variety of ways to experience a Reiki circle by bringing their own creativity\, sensitivity and gifts from Reiki.  You are encouraged to enjoy a unique experience.  Participate in a language you do not speak and experience Reiki in a way that goes beyond the spoken word.  It is unique and special!   All events are listed in PDT. For your own time zone\, please check the World Clock Converter.
URL:https://reikihome.org/event/together-in-reiki-earthsong-67/
CATEGORIES:Reiki Circles and Meditations
END:VEVENT
END:VCALENDAR