BEGIN:VCALENDAR
VERSION:2.0
PRODID:-//Reiki Home - ECPv6.15.20//NONSGML v1.0//EN
CALSCALE:GREGORIAN
METHOD:PUBLISH
X-WR-CALNAME:Reiki Home
X-ORIGINAL-URL:https://reikihome.org
X-WR-CALDESC:Events for Reiki Home
REFRESH-INTERVAL;VALUE=DURATION:PT1H
X-Robots-Tag:noindex
X-PUBLISHED-TTL:PT1H
BEGIN:VTIMEZONE
TZID:America/Los_Angeles
BEGIN:DAYLIGHT
TZOFFSETFROM:-0800
TZOFFSETTO:-0700
TZNAME:PDT
DTSTART:20240310T100000
END:DAYLIGHT
BEGIN:STANDARD
TZOFFSETFROM:-0700
TZOFFSETTO:-0800
TZNAME:PST
DTSTART:20241103T090000
END:STANDARD
BEGIN:DAYLIGHT
TZOFFSETFROM:-0800
TZOFFSETTO:-0700
TZNAME:PDT
DTSTART:20250309T100000
END:DAYLIGHT
BEGIN:STANDARD
TZOFFSETFROM:-0700
TZOFFSETTO:-0800
TZNAME:PST
DTSTART:20251102T090000
END:STANDARD
BEGIN:DAYLIGHT
TZOFFSETFROM:-0800
TZOFFSETTO:-0700
TZNAME:PDT
DTSTART:20260308T100000
END:DAYLIGHT
BEGIN:STANDARD
TZOFFSETFROM:-0700
TZOFFSETTO:-0800
TZNAME:PST
DTSTART:20261101T090000
END:STANDARD
END:VTIMEZONE
BEGIN:VEVENT
DTSTART;TZID=America/Los_Angeles:20250816T100000
DTEND;TZID=America/Los_Angeles:20250816T113000
DTSTAMP:20260425T194212
CREATED:20250714T224806Z
LAST-MODIFIED:20250714T224806Z
UID:10004701-1755338400-1755343800@reikihome.org
SUMMARY:A Master's Story - Rick Bockner
DESCRIPTION:Join us for a special session of A Master’s Story as we welcome Rick Bockner\, the last Reiki Master personally initiated by Hawayo Takata in October 1980. \nRick brings more than 44 years of lived Reiki experience to the community—from his early days of teaching across North America and Europe\, to his deepening connection with Reiki through the lens of nature\, music\, woodworking\, and grandfatherhood. \nRick will share his story of how Reiki has evolved from a practice to a place of residence—a state of being he returns to again and again. Through reflection and storytelling\, Rick invites us into the wisdom of long-time practice\, the stillness of presence\, and the quiet unfolding of Universal Life Energy through all of life’s seasons.
URL:https://reikihome.org/event/a-masters-story-rick-bockner/
CATEGORIES:Master Story
END:VEVENT
END:VCALENDAR