BEGIN:VCALENDAR
VERSION:2.0
PRODID:-//Reiki Home - ECPv6.15.20//NONSGML v1.0//EN
CALSCALE:GREGORIAN
METHOD:PUBLISH
X-WR-CALNAME:Reiki Home
X-ORIGINAL-URL:https://reikihome.org
X-WR-CALDESC:Events for Reiki Home
REFRESH-INTERVAL;VALUE=DURATION:PT1H
X-Robots-Tag:noindex
X-PUBLISHED-TTL:PT1H
BEGIN:VTIMEZONE
TZID:America/Los_Angeles
BEGIN:DAYLIGHT
TZOFFSETFROM:-0800
TZOFFSETTO:-0700
TZNAME:PDT
DTSTART:20240310T100000
END:DAYLIGHT
BEGIN:STANDARD
TZOFFSETFROM:-0700
TZOFFSETTO:-0800
TZNAME:PST
DTSTART:20241103T090000
END:STANDARD
BEGIN:DAYLIGHT
TZOFFSETFROM:-0800
TZOFFSETTO:-0700
TZNAME:PDT
DTSTART:20250309T100000
END:DAYLIGHT
BEGIN:STANDARD
TZOFFSETFROM:-0700
TZOFFSETTO:-0800
TZNAME:PST
DTSTART:20251102T090000
END:STANDARD
BEGIN:DAYLIGHT
TZOFFSETFROM:-0800
TZOFFSETTO:-0700
TZNAME:PDT
DTSTART:20260308T100000
END:DAYLIGHT
BEGIN:STANDARD
TZOFFSETFROM:-0700
TZOFFSETTO:-0800
TZNAME:PST
DTSTART:20261101T090000
END:STANDARD
END:VTIMEZONE
BEGIN:VEVENT
DTSTART;TZID=America/Los_Angeles:20250823T070000
DTEND;TZID=America/Los_Angeles:20250823T083000
DTSTAMP:20260425T194212
CREATED:20250714T224808Z
LAST-MODIFIED:20250714T224808Z
UID:10004702-1755932400-1755937800@reikihome.org
SUMMARY:Reiki as Love in Action Impacting the World
DESCRIPTION:Reiki as Love in Action Impacting the World.\nJoin us for a powerful and heart-centered Engaged Conversation with Dr Rosina Wiltshire\, a Reiki Master whose life embodies Reiki as Love in Action. With decades of global experience in international social development\, governance\, gender equality and transformational leadership\, Dr Rosina Wiltshire\, brings a profound perspective to what it means to live in Reiki\, not just as a healing practice but as a force of systemic and spiritual change.  \n We explore how Reiki principles guide global awareness\, leadership and fosters peace and compassion in action. Drawing from her role in historical moments\, Rosina offers stories and insights into how Reiki energy and principals can ripple into the cultural fabric of our world.  \n Expect a dialogue that bridges spiritual practice with collective responsibility and personal healing with global awareness and transformation. Together the conversation will reflect on how each of us can embody Reiki as a living principle for a more just and loving planet. Don’t miss this unique conversation! \n BIO: \n Dr Wiltshire is a Reiki Master. She has an extensive career in International Development\, Governance and Gender Equality. She builds capacity in Transformational Leadership and mentors leaders. She is a member of the OAS High Level Group to promote women’s political participation and supported the South African Transition Team led by Nelson Mandela in mainstreaming gender across the policy spectrum and Constitutional Reform. She was a member of the team drafting the Earth Charter and was a member of the Planning Committee for the 1991 World Women’s Congress for a Healthy Planet held in Miami. She also was a part of the official delegation and the NGO delegation to the UN Conference on Environment and Development in Rio 1992. \n Dr. Wiltshire holds a Master’s and a Ph.D in Political Science (International Relations) from the University of Michigan\, Ann Arbor\, USA and a B.Sc (Economics) from UWI Mona. She is committed to equality\, justice\, peace and care of the earth.  \n Presenter: Dr. Rosina Wiltshire \n Date: Saturday\, August 23\, 2025 \n Time: 7:00 – 8:30 am PDT – Seattle\, WA \n Tiered Fees – Choose the level that supports you and Reiki Home. \n $50 Abundance – We are grateful for your support of others.\n $40 Sustaining – Thank you for sustaining this webinar.\n $30 Basic – We appreciate your gift.\n Recording: This webinar will be recorded. You will receive a link and passcode for unlimited viewing on Vimeo once the recording is available—typically within two weeks after the event concludes.
URL:https://reikihome.org/event/reiki-as-love-in-action-impacting-the-world/
CATEGORIES:Engaged Conversation
END:VEVENT
END:VCALENDAR