BEGIN:VCALENDAR
VERSION:2.0
PRODID:-//Reiki Home - ECPv6.15.20//NONSGML v1.0//EN
CALSCALE:GREGORIAN
METHOD:PUBLISH
X-ORIGINAL-URL:https://reikihome.org
X-WR-CALDESC:Events for Reiki Home
REFRESH-INTERVAL;VALUE=DURATION:PT1H
X-Robots-Tag:noindex
X-PUBLISHED-TTL:PT1H
BEGIN:VTIMEZONE
TZID:Africa/Abidjan
BEGIN:STANDARD
TZOFFSETFROM:+0000
TZOFFSETTO:+0000
TZNAME:GMT
DTSTART:20240101T000000
END:STANDARD
END:VTIMEZONE
BEGIN:VEVENT
DTSTART;TZID=Africa/Abidjan:20250921T080000
DTEND;TZID=Africa/Abidjan:20250921T093000
DTSTAMP:20260425T180745
CREATED:20250808T152027Z
LAST-MODIFIED:20250910T054626Z
UID:10004706-1758441600-1758447000@reikihome.org
SUMMARY:A Master's Story
DESCRIPTION:Elaine Andres\, Reiki Master\, Minister\, and Spiritual Companion\, shares her expanded journey of over 40 years with Reiki\, as a living prayer\, a path of healing\, and a faithful companion through life’s joys and unknowns. \nEthel Lombardi\, a Takata Master\, initiated Elaine in the First & Second Degrees in 1981 and 1982. She was initiated by Phyllis Lei Furumoto in 1984. She brings over four decades of experience weaving Reiki\, spiritual direction\, and interfaith ministry into a life devoted to healing and trusting in the Mystery of Life. \nJoin us as Elaine shares from her heart a story of healing and radical trust. May it remind you of the power of Reiki to transform how we heal and how we live. In Reiki\, as in life\, nothing is ever lost\, only transformed.
URL:https://reikihome.org/event/a-masters-story-3/
CATEGORIES:Master's Story
END:VEVENT
END:VCALENDAR