BEGIN:VCALENDAR
VERSION:2.0
PRODID:-//Reiki Home - ECPv6.15.20//NONSGML v1.0//EN
CALSCALE:GREGORIAN
METHOD:PUBLISH
X-WR-CALNAME:Reiki Home
X-ORIGINAL-URL:https://reikihome.org
X-WR-CALDESC:Events for Reiki Home
REFRESH-INTERVAL;VALUE=DURATION:PT1H
X-Robots-Tag:noindex
X-PUBLISHED-TTL:PT1H
BEGIN:VTIMEZONE
TZID:America/Los_Angeles
BEGIN:DAYLIGHT
TZOFFSETFROM:-0800
TZOFFSETTO:-0700
TZNAME:PDT
DTSTART:20240310T100000
END:DAYLIGHT
BEGIN:STANDARD
TZOFFSETFROM:-0700
TZOFFSETTO:-0800
TZNAME:PST
DTSTART:20241103T090000
END:STANDARD
BEGIN:DAYLIGHT
TZOFFSETFROM:-0800
TZOFFSETTO:-0700
TZNAME:PDT
DTSTART:20250309T100000
END:DAYLIGHT
BEGIN:STANDARD
TZOFFSETFROM:-0700
TZOFFSETTO:-0800
TZNAME:PST
DTSTART:20251102T090000
END:STANDARD
BEGIN:DAYLIGHT
TZOFFSETFROM:-0800
TZOFFSETTO:-0700
TZNAME:PDT
DTSTART:20260308T100000
END:DAYLIGHT
BEGIN:STANDARD
TZOFFSETFROM:-0700
TZOFFSETTO:-0800
TZNAME:PST
DTSTART:20261101T090000
END:STANDARD
END:VTIMEZONE
BEGIN:VEVENT
DTSTART;TZID=America/Los_Angeles:20251001T080000
DTEND;TZID=America/Los_Angeles:20251001T093000
DTSTAMP:20260425T164056
CREATED:20250714T224809Z
LAST-MODIFIED:20250831T011241Z
UID:10004703-1759305600-1759311000@reikihome.org
SUMMARY:EC: Healing the Wounded Healer #3
DESCRIPTION:Healing the Wounded Healer – Part 3: Become Your Own Health Care Advocate \nOctober 1\, 2025 | 8:00–9:30 a.m. \nOctober Topic: \nYou’ve done the inner work. Now it’s time to stand in your power. In this final session\, you’ll learn to become your own health care advocate—confidently navigating systems\, asking the right questions\, and trusting your intuition every step of the way. Healing means taking up space—mindfully and boldly. \nStep into your role as both healer and advocate—for yourself\, and for others. \nThe journey doesn’t end here. It begins with you.
URL:https://reikihome.org/event/ec-healing-the-wounded-healer-3/
CATEGORIES:Engaged Conversation
END:VEVENT
BEGIN:VEVENT
DTSTART;TZID=America/Los_Angeles:20251001T093000
DTEND;TZID=America/Los_Angeles:20251001T103000
DTSTAMP:20260425T164056
CREATED:20250910T050231Z
LAST-MODIFIED:20250910T050231Z
UID:10005203-1759311000-1759314600@reikihome.org
SUMMARY:Together in Reiki - Earthsong
DESCRIPTION:Together in Reiki circles create an opportunity to sit in a virtual circle.  Each facilitator and host offers a variety of ways to experience a Reiki circle by bringing their own creativity\, sensitivity and gifts from Reiki.  You are encouraged to enjoy a unique experience.  Participate in a language you do not speak and experience Reiki in a way that goes beyond the spoken word.  It is unique and special!   All events are listed in PDT. For your own time zone\, please check the World Clock Converter.
URL:https://reikihome.org/event/together-in-reiki-earthsong-74/
CATEGORIES:Reiki Circles and Meditations
END:VEVENT
END:VCALENDAR