BEGIN:VCALENDAR
VERSION:2.0
PRODID:-//Reiki Home - ECPv6.15.20//NONSGML v1.0//EN
CALSCALE:GREGORIAN
METHOD:PUBLISH
X-WR-CALNAME:Reiki Home
X-ORIGINAL-URL:https://reikihome.org
X-WR-CALDESC:Events for Reiki Home
REFRESH-INTERVAL;VALUE=DURATION:PT1H
X-Robots-Tag:noindex
X-PUBLISHED-TTL:PT1H
BEGIN:VTIMEZONE
TZID:America/Phoenix
BEGIN:STANDARD
TZOFFSETFROM:-0700
TZOFFSETTO:-0700
TZNAME:MST
DTSTART:20240101T000000
END:STANDARD
END:VTIMEZONE
BEGIN:VEVENT
DTSTART;TZID=America/Phoenix:20251004T080000
DTEND;TZID=America/Phoenix:20251004T103000
DTSTAMP:20260425T164057
CREATED:20250910T035225Z
LAST-MODIFIED:20250910T035225Z
UID:10005202-1759564800-1759573800@reikihome.org
SUMMARY:A Master Story with Penelope Jewell
DESCRIPTION:A Master’s Story with Penelope Jewell \nIn this inspiring Master’s Story webinar\, Reiki Master Penelope Jewell shares her remarkable journey with Reiki\, a path shaped by courage\, dedication\, and a deep calling to service. \nPenelope’s introduction to Reiki came unexpectedly through a Waldorf school auction\, where she experienced its benefits firsthand. What began as curiosity quickly became a life’s work\, guiding her to train\, teach\, and eventually mentor others around the world. \nHer story unfolds through moments of challenge and transformation\, leaving behind a business\, navigating personal loss\, and following Reiki’s call across continents. From mentoring 20 Master candidates in Scotland and England to bringing Reiki to hospitals in Bali and leper communities in Nepal\, Penelope embodies the universal and accessible nature of Reiki. \nAlong the way\, she reflects on Reiki’s non-dogmatic essence\, its ability to meet people wherever they are\, and its alignment with Mrs. Takata’s vision of Reiki becoming “as common as aspirin.” Through her experiences\, Reiki emerges not only as a healing practice but as a way of being one with the world and within. \nJoin us for this heartfelt retelling of Reiki’s global journey through one teacher’s eyes\, a story of resilience\, service\, and the transformative power of connection. \nBIO: \nPenelope Jewell lives in Bolton Landing\, New York\, was initiated into the Usui System of Natural Healing: Reiki in 1985\, and as the first Teaching Master in New York State in 1988. Since that time\, she taught hundreds of classes and workshops in Reiki\, Self-Empowerment\, and personal mastery from Alaska to Hawaii\, Scotland\, England\, Trinidad and Tobago\, Bali\, Indonesia and Nepal; and has spoken at Reiki gatherings in British Columbia\, the United Kingdom\, Spain\, France\, and Holland.    \nPenelope was one of the first Reiki Masters to bring Reiki into AIDS centers\, at The Living Room in Cleveland\, Ohio; and the Globe Center in London. She has worked and taught Reiki in leper communities in both Bali and Nepal.  \nPenelope served on the Board of both The Reiki Alliance (an international organization for Reiki Masters of the Usui tradition) and the NorthEast Reiki Gathering\, of which she was a founding member; was a member of the faculty of the Omega Institute in Rhinebeck\, New York; and taught for several years with the International Women’s Writing Guild at Skidmore College. \nPenelope is the author of two books on Reiki\, A Guide to Your Practice of Reiki Energy Healing (1995) and A Master’s Path (2002) \nRecording: This webinar is recorded. You will receive a link and passcode for unlimited viewing on Vimeo. The recording is usually available within one week after the webinar.
URL:https://reikihome.org/event/a-master-story-with-penelope-jewell/
LOCATION:
END:VEVENT
END:VCALENDAR