BEGIN:VCALENDAR
VERSION:2.0
PRODID:-//Reiki Home - ECPv6.15.20//NONSGML v1.0//EN
CALSCALE:GREGORIAN
METHOD:PUBLISH
X-ORIGINAL-URL:https://reikihome.org
X-WR-CALDESC:Events for Reiki Home
REFRESH-INTERVAL;VALUE=DURATION:PT1H
X-Robots-Tag:noindex
X-PUBLISHED-TTL:PT1H
BEGIN:VTIMEZONE
TZID:PDT
END:VTIMEZONE
BEGIN:VEVENT
DTSTART;TZID=PDT:20251008T080000
DTEND;TZID=PDT:20251008T110000
DTSTAMP:20260425T164101
CREATED:20250808T152030Z
LAST-MODIFIED:20250808T152030Z
UID:10004708-1759910400-1759921200@reikihome.org
SUMMARY:Mindfulness and Reiki Retreat: The Three Characteristics of Existence
DESCRIPTION:Mindfulness and Reiki\nThe Three Characteristics of Existence \nIn response to my asking\, “How are you?”\, my niece said with a delicate shrug\,“Life be lifin’” \nWhattt!!!  On reflection I realized that Life really does just ‘life’.  It does what it does\, so the big question is\, how am I going to relate to it?  This ‘lifin’… \nWe are all perfectly imperfect\, so sometimes we don’t respond to Life doing its thing in the most skillful way.  The automatic tendency is to resist\, we forget in the moment when life be lifin’\, that nothing is perfect\, personal or permanent. \nJoin me\, as together we tease apart and gain insight into the ways we perceive\, project onto and relate to all the things that Life places on our path. \n“We are all perfect in our imperfections\, which is always changing.” says author and teacher Ruth King.  \nSo\, I invite you to gather\, complete in the perfection of our imperfection\, to explore and learn together. \nDate: Wednesday\, October 8th\, 2025\nTime: 8:00 am -11:00 am PDT\nFacilitator: Jasmine Loney \nFee: $45 \nRecording Statement: Not Recorded. In order to create and provide a safe\, confidential space for participants to explore their inner path deeply with those sharing this journey\, the retreat will not be recorded nor available through Vimeo.
URL:https://reikihome.org/event/mindfulness-and-reiki-retreat-the-three-characteristics-of-existence/
CATEGORIES:Retreat
END:VEVENT
END:VCALENDAR