BEGIN:VCALENDAR
VERSION:2.0
PRODID:-//Reiki Home - ECPv6.15.20//NONSGML v1.0//EN
CALSCALE:GREGORIAN
METHOD:PUBLISH
X-WR-CALNAME:Reiki Home
X-ORIGINAL-URL:https://reikihome.org
X-WR-CALDESC:Events for Reiki Home
REFRESH-INTERVAL;VALUE=DURATION:PT1H
X-Robots-Tag:noindex
X-PUBLISHED-TTL:PT1H
BEGIN:VTIMEZONE
TZID:PST
END:VTIMEZONE
BEGIN:VEVENT
DTSTART;TZID=PST:20251207T100000
DTEND;TZID=PST:20251207T120000
DTSTAMP:20260425T140428
CREATED:20251103T225659Z
LAST-MODIFIED:20251103T225659Z
UID:10005243-1765101600-1765108800@reikihome.org
SUMMARY:Grief and Loss Collide with the Holidays - Part 2
DESCRIPTION:This two-hour interactive two-session workshop explores the types of grief that participants are experiencing and how that complicates the prospect of “celebrating” holidays when we are not feeling celebratory. \nThe focus is on loving ourselves where we are and experiencing the holidays in a way that honors what is true for us at this time.
URL:https://reikihome.org/event/grief-and-loss-collide-with-the-holidays-part-2/
CATEGORIES:Personal Development
END:VEVENT
END:VCALENDAR