BEGIN:VCALENDAR
VERSION:2.0
PRODID:-//Reiki Home - ECPv6.15.20//NONSGML v1.0//EN
CALSCALE:GREGORIAN
METHOD:PUBLISH
X-ORIGINAL-URL:https://reikihome.org
X-WR-CALDESC:Events for Reiki Home
REFRESH-INTERVAL;VALUE=DURATION:PT1H
X-Robots-Tag:noindex
X-PUBLISHED-TTL:PT1H
BEGIN:VTIMEZONE
TZID:America/Los_Angeles
BEGIN:DAYLIGHT
TZOFFSETFROM:-0800
TZOFFSETTO:-0700
TZNAME:PDT
DTSTART:20250309T100000
END:DAYLIGHT
BEGIN:STANDARD
TZOFFSETFROM:-0700
TZOFFSETTO:-0800
TZNAME:PST
DTSTART:20251102T090000
END:STANDARD
BEGIN:DAYLIGHT
TZOFFSETFROM:-0800
TZOFFSETTO:-0700
TZNAME:PDT
DTSTART:20260308T100000
END:DAYLIGHT
BEGIN:STANDARD
TZOFFSETFROM:-0700
TZOFFSETTO:-0800
TZNAME:PST
DTSTART:20261101T090000
END:STANDARD
BEGIN:DAYLIGHT
TZOFFSETFROM:-0800
TZOFFSETTO:-0700
TZNAME:PDT
DTSTART:20270314T100000
END:DAYLIGHT
BEGIN:STANDARD
TZOFFSETFROM:-0700
TZOFFSETTO:-0800
TZNAME:PST
DTSTART:20271107T090000
END:STANDARD
END:VTIMEZONE
BEGIN:VEVENT
DTSTART;TZID=America/Los_Angeles:20260118T090000
DTEND;TZID=America/Los_Angeles:20260118T103000
DTSTAMP:20260425T124155
CREATED:20260101T181704Z
LAST-MODIFIED:20260101T181704Z
UID:10005301-1768726800-1768732200@reikihome.org
SUMMARY:Master's Story
DESCRIPTION:We are honored to invite you to an exclusive webinar with Krishna Kloers. Krishna’s relationship with Reiki has unfolded through steady\, sustained involvement in the international Reiki community for over 40 years. Based in Germany\, her path has been shaped not only by teaching and practice\, but by decades of participation in gatherings where Reiki has been spoken\, translated\, questioned\, clarified\, and lived together.
URL:https://reikihome.org/event/masters-story-3/
CATEGORIES:Webinar
END:VEVENT
END:VCALENDAR