BEGIN:VCALENDAR
VERSION:2.0
PRODID:-//Reiki Home - ECPv6.15.20//NONSGML v1.0//EN
CALSCALE:GREGORIAN
METHOD:PUBLISH
X-ORIGINAL-URL:https://reikihome.org
X-WR-CALDESC:Events for Reiki Home
REFRESH-INTERVAL;VALUE=DURATION:PT1H
X-Robots-Tag:noindex
X-PUBLISHED-TTL:PT1H
BEGIN:VTIMEZONE
TZID:America/Los_Angeles
BEGIN:DAYLIGHT
TZOFFSETFROM:-0800
TZOFFSETTO:-0700
TZNAME:PDT
DTSTART:20250309T100000
END:DAYLIGHT
BEGIN:STANDARD
TZOFFSETFROM:-0700
TZOFFSETTO:-0800
TZNAME:PST
DTSTART:20251102T090000
END:STANDARD
BEGIN:DAYLIGHT
TZOFFSETFROM:-0800
TZOFFSETTO:-0700
TZNAME:PDT
DTSTART:20260308T100000
END:DAYLIGHT
BEGIN:STANDARD
TZOFFSETFROM:-0700
TZOFFSETTO:-0800
TZNAME:PST
DTSTART:20261101T090000
END:STANDARD
BEGIN:DAYLIGHT
TZOFFSETFROM:-0800
TZOFFSETTO:-0700
TZNAME:PDT
DTSTART:20270314T100000
END:DAYLIGHT
BEGIN:STANDARD
TZOFFSETFROM:-0700
TZOFFSETTO:-0800
TZNAME:PST
DTSTART:20271107T090000
END:STANDARD
END:VTIMEZONE
BEGIN:VEVENT
DTSTART;TZID=America/Los_Angeles:20260204T080000
DTEND;TZID=America/Los_Angeles:20260204T093000
DTSTAMP:20260425T112531
CREATED:20260223T232000Z
LAST-MODIFIED:20260223T232000Z
UID:10005351-1770192000-1770197400@reikihome.org
SUMMARY:Unveiling the Healing Science of Reiki Energy with Bridgid Ruden
DESCRIPTION:Join us for a focused webinar exploring how Reiki is being studied and understood within scientific research. As interest in Reiki continues to grow\, this session offers an opportunity to engage with international\, peer-reviewed studies that examine Reiki’s healing effects across living systems. \nTogether\, we’ll look at research involving humans\, animals\, plants\, and water\, and reflect on what happens when careful scientific inquiry meets lived Reiki practice. The webinar will also introduce ways practitioners can begin developing research skills\, participate in individual projects\, and collaborate with research groups supporting the future of Reiki inquiry. \nThis is an invitation to explore Reiki through a thoughtful scientific lens – honoring experience\, curiosity\, and the ongoing question of how Reiki works in the world.
URL:https://reikihome.org/event/unveilingthehealingscienceofreikibridgidruden/
CATEGORIES:Webinar
END:VEVENT
END:VCALENDAR