BEGIN:VCALENDAR
VERSION:2.0
PRODID:-//Reiki Home - ECPv6.15.20//NONSGML v1.0//EN
CALSCALE:GREGORIAN
METHOD:PUBLISH
X-WR-CALNAME:Reiki Home
X-ORIGINAL-URL:https://reikihome.org
X-WR-CALDESC:Events for Reiki Home
REFRESH-INTERVAL;VALUE=DURATION:PT1H
X-Robots-Tag:noindex
X-PUBLISHED-TTL:PT1H
BEGIN:VTIMEZONE
TZID:America/Los_Angeles
BEGIN:DAYLIGHT
TZOFFSETFROM:-0800
TZOFFSETTO:-0700
TZNAME:PDT
DTSTART:20250309T100000
END:DAYLIGHT
BEGIN:STANDARD
TZOFFSETFROM:-0700
TZOFFSETTO:-0800
TZNAME:PST
DTSTART:20251102T090000
END:STANDARD
BEGIN:DAYLIGHT
TZOFFSETFROM:-0800
TZOFFSETTO:-0700
TZNAME:PDT
DTSTART:20260308T100000
END:DAYLIGHT
BEGIN:STANDARD
TZOFFSETFROM:-0700
TZOFFSETTO:-0800
TZNAME:PST
DTSTART:20261101T090000
END:STANDARD
BEGIN:DAYLIGHT
TZOFFSETFROM:-0800
TZOFFSETTO:-0700
TZNAME:PDT
DTSTART:20270314T100000
END:DAYLIGHT
BEGIN:STANDARD
TZOFFSETFROM:-0700
TZOFFSETTO:-0800
TZNAME:PST
DTSTART:20271107T090000
END:STANDARD
END:VTIMEZONE
BEGIN:VEVENT
DTSTART;TZID=America/Los_Angeles:20260402T090000
DTEND;TZID=America/Los_Angeles:20260402T100000
DTSTAMP:20260423T114132
CREATED:20260305T060714Z
LAST-MODIFIED:20260305T060714Z
UID:10005357-1775120400-1775124000@reikihome.org
SUMMARY:Together in Reiki in Dutch and English - 21-Day Reiki Meditation
DESCRIPTION:LIVING OUR ESSENCE\, BUILDING PEACE\, SENDING LOVELIVING OUR ESSENCE\, BUILDING PEACE\, SENDING LOVE   In this 21-Days of Reiki meditation\, we unite as one global community to honor and heal Earth and all beings. We hold the planet and all living things in our hands and hearts. Even as we witness pain\, the killing of thousands and destruction of our habitat\, we make a choice. We sit for 21-days online or offline as we hold transformation and envision and embody a new Earth—one of harmony\, compassion\, acceptance\, and expanded consciousness—where all life is valued and connected. Sitting together in Reiki\, we send healing energy for world peace\, climate balance\, and wise\, heart-centered leadership. We continue to affirm that the dream of a healed and awakened planet begins now – with us.   All events are listed in PDT. For your own time zone\, please check the World Clock Converter.
URL:https://reikihome.org/event/together-in-reiki-in-dutch-and-english-21-day-reiki-meditation/
CATEGORIES:21-Day Meditation,Reiki Circle
END:VEVENT
BEGIN:VEVENT
DTSTART;TZID=America/Los_Angeles:20260402T093000
DTEND;TZID=America/Los_Angeles:20260402T103000
DTSTAMP:20260423T114132
CREATED:20260305T061121Z
LAST-MODIFIED:20260305T194002Z
UID:10005400-1775122200-1775125800@reikihome.org
SUMMARY:Together in Reiki - Earthsong
DESCRIPTION:Together in Reiki circles create an opportunity to sit in a virtual circle.  Each facilitator and host offers a variety of ways to experience a Reiki circle by bringing their own creativity\, sensitivity and gifts from Reiki.  You are encouraged to enjoy a unique experience.  Participate in a language you do not speak and experience Reiki in a way that goes beyond the spoken word.  It is unique and special!   All events are listed in PDT. For your own time zone\, please check the World Clock Converter.
URL:https://reikihome.org/event/together-in-reiki-earthsong-84/
CATEGORIES:Reiki Circles and Meditations
END:VEVENT
BEGIN:VEVENT
DTSTART;TZID=America/Los_Angeles:20260402T110000
DTEND;TZID=America/Los_Angeles:20260402T123000
DTSTAMP:20260423T114132
CREATED:20260226T124221Z
LAST-MODIFIED:20260228T004809Z
UID:10005352-1775127600-1775133000@reikihome.org
SUMMARY:Sharing Wisdom with Elder Master John Latz
DESCRIPTION:Come Sit in the Energy With John ~ Let’s Be Guided By Reiki Together \nIn his Master’s Story\, John Latz reflected on 45 years of practice and 43 years of teaching\, beginning with a powerful initiation experience in 1981 that changed the course of his life.  Through seasons of growth\, controversy\, integration with bodywork\, and personal challenge\, John shared stories of his life\, where he has come to experience Reiki mastership as something we grow into — learning to find resonance with the energy at all times. “The answers come from the Reiki energy\,” he says. Over decades\, that steady listening has shaped both his teaching and his life. John included insights about initiations\, how the practice of Reiki has evolved in his experience and through the lineage. \nSharing Wisdom with John is a conversation that will be shaped by what arises in the circle — your questions\, your reflections\, your lived practice — guided by Reiki itself. \nJoin us for a gathering rooted in experience\, humility\, and the understanding that the path of Reiki mastership continues to unfold.
URL:https://reikihome.org/event/sharing-wisdom-with-elder-master-john-latz/
CATEGORIES:Webinar
END:VEVENT
BEGIN:VEVENT
DTSTART;TZID=America/Los_Angeles:20260402T170000
DTEND;TZID=America/Los_Angeles:20260402T174500
DTSTAMP:20260423T114132
CREATED:20260305T060716Z
LAST-MODIFIED:20260305T060716Z
UID:10005358-1775149200-1775151900@reikihome.org
SUMMARY:Together in Reiki - 21 Day Meditation
DESCRIPTION:LIVING OUR ESSENCE\, BUILDING PEACE\, SENDING LOVELIVING OUR ESSENCE\, BUILDING PEACE\, SENDING LOVE   In this 21-Days of Reiki meditation\, we unite as one global community to honor and heal Earth and all beings. We hold the planet and all living things in our hands and hearts. Even as we witness pain\, the killing of thousands and destruction of our habitat\, we make a choice. We sit for 21-days online or offline as we hold transformation and envision and embody a new Earth—one of harmony\, compassion\, acceptance\, and expanded consciousness—where all life is valued and connected. Sitting together in Reiki\, we send healing energy for world peace\, climate balance\, and wise\, heart-centered leadership. We continue to affirm that the dream of a healed and awakened planet begins now – with us.  All events are listed in PDT. For your own time zone\, please check the World Clock Converter.
URL:https://reikihome.org/event/together-in-reiki-21-day-meditation/
CATEGORIES:21-Day Meditation,Reiki Circle
END:VEVENT
END:VCALENDAR