BEGIN:VCALENDAR
VERSION:2.0
PRODID:-//Reiki Home - ECPv6.15.20//NONSGML v1.0//EN
CALSCALE:GREGORIAN
METHOD:PUBLISH
X-ORIGINAL-URL:https://reikihome.org
X-WR-CALDESC:Events for Reiki Home
REFRESH-INTERVAL;VALUE=DURATION:PT1H
X-Robots-Tag:noindex
X-PUBLISHED-TTL:PT1H
BEGIN:VTIMEZONE
TZID:America/Los_Angeles
BEGIN:DAYLIGHT
TZOFFSETFROM:-0800
TZOFFSETTO:-0700
TZNAME:PDT
DTSTART:20250309T100000
END:DAYLIGHT
BEGIN:STANDARD
TZOFFSETFROM:-0700
TZOFFSETTO:-0800
TZNAME:PST
DTSTART:20251102T090000
END:STANDARD
BEGIN:DAYLIGHT
TZOFFSETFROM:-0800
TZOFFSETTO:-0700
TZNAME:PDT
DTSTART:20260308T100000
END:DAYLIGHT
BEGIN:STANDARD
TZOFFSETFROM:-0700
TZOFFSETTO:-0800
TZNAME:PST
DTSTART:20261101T090000
END:STANDARD
BEGIN:DAYLIGHT
TZOFFSETFROM:-0800
TZOFFSETTO:-0700
TZNAME:PDT
DTSTART:20270314T100000
END:DAYLIGHT
BEGIN:STANDARD
TZOFFSETFROM:-0700
TZOFFSETTO:-0800
TZNAME:PST
DTSTART:20271107T090000
END:STANDARD
END:VTIMEZONE
BEGIN:VEVENT
DTSTART;TZID=America/Los_Angeles:20260407T100000
DTEND;TZID=America/Los_Angeles:20260407T110000
DTSTAMP:20260423T170833
CREATED:20260305T064423Z
LAST-MODIFIED:20260305T193858Z
UID:10005404-1775556000-1775559600@reikihome.org
SUMMARY:Together in Reiki in Romanian - 21-Day Reiki Meditation
DESCRIPTION:LIVING OUR ESSENCE\, BUILDING PEACE\, SENDING LOVELIVING OUR ESSENCE\, BUILDING PEACE\, SENDING LOVE   In this 21-Days of Reiki meditation\, we unite as one global community to honor and heal Earth and all beings. We hold the planet and all living things in our hands and hearts. Even as we witness pain\, the killing of thousands and destruction of our habitat\, we make a choice. We sit for 21-days online or offline as we hold transformation and envision and embody a new Earth—one of harmony\, compassion\, acceptance\, and expanded consciousness—where all life is valued and connected. Sitting together in Reiki\, we send healing energy for world peace\, climate balance\, and wise\, heart-centered leadership. We continue to affirm that the dream of a healed and awakened planet begins now – with us.
URL:https://reikihome.org/event/together-in-reiki-in-romanian-21-day-reiki-meditation-2/
CATEGORIES:21-Day Meditation,Reiki Circle
END:VEVENT
BEGIN:VEVENT
DTSTART;TZID=America/Los_Angeles:20260407T170000
DTEND;TZID=America/Los_Angeles:20260407T174500
DTSTAMP:20260423T170833
CREATED:20260305T064425Z
LAST-MODIFIED:20260305T193903Z
UID:10005406-1775581200-1775583900@reikihome.org
SUMMARY:Together in Reiki - 21 Day Meditation
DESCRIPTION:LIVING OUR ESSENCE\, BUILDING PEACE\, SENDING LOVELIVING OUR ESSENCE\, BUILDING PEACE\, SENDING LOVE   In this 21-Days of Reiki meditation\, we unite as one global community to honor and heal Earth and all beings. We hold the planet and all living things in our hands and hearts. Even as we witness pain\, the killing of thousands and destruction of our habitat\, we make a choice. We sit for 21-days online or offline as we hold transformation and envision and embody a new Earth—one of harmony\, compassion\, acceptance\, and expanded consciousness—where all life is valued and connected. Sitting together in Reiki\, we send healing energy for world peace\, climate balance\, and wise\, heart-centered leadership. We continue to affirm that the dream of a healed and awakened planet begins now – with us. All events are listed in PDT. For your own time zone\, please check the World Clock Converter.
URL:https://reikihome.org/event/together-in-reiki-21-day-meditation-13/
CATEGORIES:21-Day Meditation,Reiki Circle
END:VEVENT
END:VCALENDAR