BEGIN:VCALENDAR
VERSION:2.0
PRODID:-//Reiki Home - ECPv6.15.20//NONSGML v1.0//EN
CALSCALE:GREGORIAN
METHOD:PUBLISH
X-WR-CALNAME:Reiki Home
X-ORIGINAL-URL:https://reikihome.org
X-WR-CALDESC:Events for Reiki Home
REFRESH-INTERVAL;VALUE=DURATION:PT1H
X-Robots-Tag:noindex
X-PUBLISHED-TTL:PT1H
BEGIN:VTIMEZONE
TZID:America/Los_Angeles
BEGIN:DAYLIGHT
TZOFFSETFROM:-0800
TZOFFSETTO:-0700
TZNAME:PDT
DTSTART:20250309T100000
END:DAYLIGHT
BEGIN:STANDARD
TZOFFSETFROM:-0700
TZOFFSETTO:-0800
TZNAME:PST
DTSTART:20251102T090000
END:STANDARD
BEGIN:DAYLIGHT
TZOFFSETFROM:-0800
TZOFFSETTO:-0700
TZNAME:PDT
DTSTART:20260308T100000
END:DAYLIGHT
BEGIN:STANDARD
TZOFFSETFROM:-0700
TZOFFSETTO:-0800
TZNAME:PST
DTSTART:20261101T090000
END:STANDARD
BEGIN:DAYLIGHT
TZOFFSETFROM:-0800
TZOFFSETTO:-0700
TZNAME:PDT
DTSTART:20270314T100000
END:DAYLIGHT
BEGIN:STANDARD
TZOFFSETFROM:-0700
TZOFFSETTO:-0800
TZNAME:PST
DTSTART:20271107T090000
END:STANDARD
END:VTIMEZONE
BEGIN:VEVENT
DTSTART;TZID=America/Los_Angeles:20260502T090000
DTEND;TZID=America/Los_Angeles:20260502T103000
DTSTAMP:20260425T083104
CREATED:20260423T131231Z
LAST-MODIFIED:20260423T131231Z
UID:10005607-1777712400-1777717800@reikihome.org
SUMMARY:Phyllis Lei Furumoto’s Legacy in Current Times
DESCRIPTION:Emerging from the January webinar Glimpses of a Better World\, this new offering invites you into a shared space of meditation\, listening\, and reflection with the living legacy of Phyllis Lei Furumoto. \nPhyllis’ voice guides the experience for quiet contemplation. Each recorded message has an accompanying artwork created by Reiki artists from around the world. These images are born from her teachings. They offer us another way of seeing\, sensing\, and understanding as we navigate our current times. \nThe experience moves in a natural rhythm: listening\, silence\, and shared reflection. Rather than explanation\, there is space to notice what arises for you. What touches\, what stays\, what reveals itself over time. In this way\, Phyllis’ legacy is not only remembered\, but encountered in the present moment. \nCome Join Us!
URL:https://reikihome.org/event/phyllisleifurumotoslegacymay2026/
CATEGORIES:Webinar
END:VEVENT
END:VCALENDAR