BEGIN:VCALENDAR
VERSION:2.0
PRODID:-//Reiki Home - ECPv6.15.20//NONSGML v1.0//EN
CALSCALE:GREGORIAN
METHOD:PUBLISH
X-ORIGINAL-URL:https://reikihome.org
X-WR-CALDESC:Events for Reiki Home
REFRESH-INTERVAL;VALUE=DURATION:PT1H
X-Robots-Tag:noindex
X-PUBLISHED-TTL:PT1H
BEGIN:VTIMEZONE
TZID:America/Los_Angeles
BEGIN:DAYLIGHT
TZOFFSETFROM:-0800
TZOFFSETTO:-0700
TZNAME:PDT
DTSTART:20250309T100000
END:DAYLIGHT
BEGIN:STANDARD
TZOFFSETFROM:-0700
TZOFFSETTO:-0800
TZNAME:PST
DTSTART:20251102T090000
END:STANDARD
BEGIN:DAYLIGHT
TZOFFSETFROM:-0800
TZOFFSETTO:-0700
TZNAME:PDT
DTSTART:20260308T100000
END:DAYLIGHT
BEGIN:STANDARD
TZOFFSETFROM:-0700
TZOFFSETTO:-0800
TZNAME:PST
DTSTART:20261101T090000
END:STANDARD
BEGIN:DAYLIGHT
TZOFFSETFROM:-0800
TZOFFSETTO:-0700
TZNAME:PDT
DTSTART:20270314T100000
END:DAYLIGHT
BEGIN:STANDARD
TZOFFSETFROM:-0700
TZOFFSETTO:-0800
TZNAME:PST
DTSTART:20271107T090000
END:STANDARD
END:VTIMEZONE
BEGIN:VEVENT
DTSTART;TZID=America/Los_Angeles:20260529T093000
DTEND;TZID=America/Los_Angeles:20260529T110000
DTSTAMP:20260425T095200
CREATED:20260403T000131Z
LAST-MODIFIED:20260417T233540Z
UID:10005442-1780047000-1780052400@reikihome.org
SUMMARY:Sharing Wisdom with Elder Master Fokke Brink
DESCRIPTION:Come join Fokke for another Sharing Wisdom gathering! \nSharing Wisdom is a space guided by Reiki\, where a group conversation unfolds organically through what is present in the circle. You are invited to bring your questions\, reflections\, and insights—and to listen for what arises together. \nWith Fokke\, there is a natural invitation into exploration. His path has been shaped by a deep curiosity about the roots\, symbols\, and essence of Reiki—not as concepts to be explained\, but as experiences to be discovered. This gathering may open into reflections on the nature of symbols\, the meeting place of Reiki and art\, and the quiet ways understanding deepens through direct experience rather than words. \nSharing Wisdom with Fokke is a conversation that will be shaped by what arises in the circle — your questions\, your reflections\, your lived practice — guided by Reiki itself. \nAll are welcome to join in the conversation.
URL:https://reikihome.org/event/sharing-wisdom-with-elder-master-fokke-brink-2/
CATEGORIES:Webinar
END:VEVENT
BEGIN:VEVENT
DTSTART;TZID=America/Los_Angeles:20260529T180000
DTEND;TZID=America/Los_Angeles:20260529T190000
DTSTAMP:20260425T095200
CREATED:20260403T001958Z
LAST-MODIFIED:20260403T010347Z
UID:10005452-1780077600-1780081200@reikihome.org
SUMMARY:Mindful Meditation and Reiki
DESCRIPTION:The group begins with mindful meditation to experience relaxation techniques.  The meditation includes progressive body relaxation and mindful breathing to relax the mind and body.  We then progress to Reiki with descriptions of hand positions and the anticipated benefit from each position from the top of the head to the bottom on the feet.   All events are listed in PDT. For your own time zone\, please check the World Clock Converter.
URL:https://reikihome.org/event/mindful-meditation-and-reiki-35/
CATEGORIES:Reiki Circles and Meditations
END:VEVENT
END:VCALENDAR