BEGIN:VCALENDAR
VERSION:2.0
PRODID:-//Reiki Home - ECPv6.15.20//NONSGML v1.0//EN
CALSCALE:GREGORIAN
METHOD:PUBLISH
X-WR-CALNAME:Reiki Home
X-ORIGINAL-URL:https://reikihome.org
X-WR-CALDESC:Events for Reiki Home
REFRESH-INTERVAL;VALUE=DURATION:PT1H
X-Robots-Tag:noindex
X-PUBLISHED-TTL:PT1H
BEGIN:VTIMEZONE
TZID:America/Los_Angeles
BEGIN:DAYLIGHT
TZOFFSETFROM:-0800
TZOFFSETTO:-0700
TZNAME:PDT
DTSTART:20250309T100000
END:DAYLIGHT
BEGIN:STANDARD
TZOFFSETFROM:-0700
TZOFFSETTO:-0800
TZNAME:PST
DTSTART:20251102T090000
END:STANDARD
BEGIN:DAYLIGHT
TZOFFSETFROM:-0800
TZOFFSETTO:-0700
TZNAME:PDT
DTSTART:20260308T100000
END:DAYLIGHT
BEGIN:STANDARD
TZOFFSETFROM:-0700
TZOFFSETTO:-0800
TZNAME:PST
DTSTART:20261101T090000
END:STANDARD
BEGIN:DAYLIGHT
TZOFFSETFROM:-0800
TZOFFSETTO:-0700
TZNAME:PDT
DTSTART:20270314T100000
END:DAYLIGHT
BEGIN:STANDARD
TZOFFSETFROM:-0700
TZOFFSETTO:-0800
TZNAME:PST
DTSTART:20271107T090000
END:STANDARD
END:VTIMEZONE
BEGIN:VEVENT
DTSTART;TZID=America/Los_Angeles:20260605T180000
DTEND;TZID=America/Los_Angeles:20260605T190000
DTSTAMP:20260425T094925
CREATED:20260403T002000Z
LAST-MODIFIED:20260403T010349Z
UID:10005453-1780682400-1780686000@reikihome.org
SUMMARY:Mindful Meditation and Reiki
DESCRIPTION:The group begins with mindful meditation to experience relaxation techniques.  The meditation includes progressive body relaxation and mindful breathing to relax the mind and body.  We then progress to Reiki with descriptions of hand positions and the anticipated benefit from each position from the top of the head to the bottom on the feet.   All events are listed in PDT. For your own time zone\, please check the World Clock Converter.
URL:https://reikihome.org/event/mindful-meditation-and-reiki-36/
CATEGORIES:Reiki Circles and Meditations
END:VEVENT
END:VCALENDAR