BEGIN:VCALENDAR
VERSION:2.0
PRODID:-//Reiki Home - ECPv6.15.20//NONSGML v1.0//EN
CALSCALE:GREGORIAN
METHOD:PUBLISH
X-ORIGINAL-URL:https://reikihome.org
X-WR-CALDESC:Events for Reiki Home
REFRESH-INTERVAL;VALUE=DURATION:PT1H
X-Robots-Tag:noindex
X-PUBLISHED-TTL:PT1H
BEGIN:VTIMEZONE
TZID:America/Los_Angeles
BEGIN:DAYLIGHT
TZOFFSETFROM:-0800
TZOFFSETTO:-0700
TZNAME:PDT
DTSTART:20250309T100000
END:DAYLIGHT
BEGIN:STANDARD
TZOFFSETFROM:-0700
TZOFFSETTO:-0800
TZNAME:PST
DTSTART:20251102T090000
END:STANDARD
BEGIN:DAYLIGHT
TZOFFSETFROM:-0800
TZOFFSETTO:-0700
TZNAME:PDT
DTSTART:20260308T100000
END:DAYLIGHT
BEGIN:STANDARD
TZOFFSETFROM:-0700
TZOFFSETTO:-0800
TZNAME:PST
DTSTART:20261101T090000
END:STANDARD
BEGIN:DAYLIGHT
TZOFFSETFROM:-0800
TZOFFSETTO:-0700
TZNAME:PDT
DTSTART:20270314T100000
END:DAYLIGHT
BEGIN:STANDARD
TZOFFSETFROM:-0700
TZOFFSETTO:-0800
TZNAME:PST
DTSTART:20271107T090000
END:STANDARD
END:VTIMEZONE
BEGIN:VEVENT
DTSTART;TZID=America/Los_Angeles:20260617T093000
DTEND;TZID=America/Los_Angeles:20260617T103000
DTSTAMP:20260425T110137
CREATED:20260403T015650Z
LAST-MODIFIED:20260403T015650Z
UID:10005532-1781688600-1781692200@reikihome.org
SUMMARY:Together in Reiki - Earthsong
DESCRIPTION:Together in Reiki circles create an opportunity to sit in a virtual circle.  Each facilitator and host offers a variety of ways to experience a Reiki circle by bringing their own creativity\, sensitivity and gifts from Reiki.  You are encouraged to enjoy a unique experience.  Participate in a language you do not speak and experience Reiki in a way that goes beyond the spoken word.  It is unique and special!   All events are listed in PDT. For your own time zone\, please check the World Clock Converter.
URL:https://reikihome.org/event/together-in-reiki-earthsong-88/
CATEGORIES:Reiki Circles and Meditations
END:VEVENT
BEGIN:VEVENT
DTSTART;TZID=America/Los_Angeles:20260617T100000
DTEND;TZID=America/Los_Angeles:20260617T113000
DTSTAMP:20260425T110137
CREATED:20260403T001353Z
LAST-MODIFIED:20260403T001353Z
UID:10005447-1781690400-1781695800@reikihome.org
SUMMARY:Sharing Wisdom with Elder Master Inger Droog (in English)
DESCRIPTION:Inger warmly invites you to join her for another Sharing Wisdom gathering! \nSharing Wisdom is about continuity — the wisdom shaped through a lifetime of Reiki meeting the wisdom awakening within each of us now. \nNo preparation needed. Bring what is alive in your practice — your questions\, reflections\, and lived experience — and allow Reiki to guide the unfolding. When we sit together in this way\, something larger than any one of us begins to move. \nAll are welcome to join in the conversation!  Registration link is coming soon!
URL:https://reikihome.org/event/sharing-wisdom-with-elder-master-inger-droog-in-english-2/
CATEGORIES:Webinar
END:VEVENT
END:VCALENDAR