BEGIN:VCALENDAR
VERSION:2.0
PRODID:-//Reiki Home - ECPv6.15.20//NONSGML v1.0//EN
CALSCALE:GREGORIAN
METHOD:PUBLISH
X-WR-CALNAME:Reiki Home
X-ORIGINAL-URL:https://reikihome.org
X-WR-CALDESC:Events for Reiki Home
REFRESH-INTERVAL;VALUE=DURATION:PT1H
X-Robots-Tag:noindex
X-PUBLISHED-TTL:PT1H
BEGIN:VTIMEZONE
TZID:America/Phoenix
BEGIN:STANDARD
TZOFFSETFROM:-0700
TZOFFSETTO:-0700
TZNAME:MST
DTSTART:20230101T000000
END:STANDARD
END:VTIMEZONE
BEGIN:VEVENT
DTSTART;TZID=America/Phoenix:20240626T100000
DTEND;TZID=America/Phoenix:20240626T113000
DTSTAMP:20260425T142000
CREATED:20240407T173552Z
LAST-MODIFIED:20240407T173751Z
UID:10004421-1719396000-1719401400@reikihome.org
SUMMARY:The Vagas Nerve: Cervical & Thoracic Cardiac Branches: The Heart & Emotions and the Pulmonary Branches: Breath Control and Laughter
DESCRIPTION:
URL:https://reikihome.org/event/the-vagas-nerve-cervical-thoracic-cardiac-branches-the-heart-emotions-and-the-pulmonary-branches-breath-control-and-laughter/
CATEGORIES:Book Discussion
END:VEVENT
BEGIN:VEVENT
DTSTART;TZID=America/Phoenix:20240529T100000
DTEND;TZID=America/Phoenix:20240529T113000
DTSTAMP:20260425T142000
CREATED:20240407T175658Z
LAST-MODIFIED:20240407T175658Z
UID:10004423-1716976800-1716982200@reikihome.org
SUMMARY:The Vagas Nerve:  Laryngeal Branches:  Singing and Chanting
DESCRIPTION:Reiki Home welcomes Ann Baldwin\, Professor Emerita from the University of Arizona for a series of discussion groups on her new book\, “The Vagus Nerve in Therapeutic Practice”.  The overall prupose of this series is to prevent\, validate\, and demonstrate several activities that can be used in conjunction with Reiki to stimulate the vagus nerve and amplify Reiki’s power.  Chapter 3:  “Laryngeal Branches: Singing and Chanting”.
URL:https://reikihome.org/event/the-vagas-nerve-laryngeal-branches-singing-and-chanting/
CATEGORIES:Book Discussion
END:VEVENT
BEGIN:VEVENT
DTSTART;TZID=America/Phoenix:20240424T100000
DTEND;TZID=America/Phoenix:20240424T113000
DTSTAMP:20260425T142000
CREATED:20240407T173029Z
LAST-MODIFIED:20240407T173029Z
UID:10004414-1713952800-1713958200@reikihome.org
SUMMARY:The Vagas Nerve: Cranial Branches: Acupuncture\, Aromatherapy and Masage
DESCRIPTION:Reiki Home welcomes Ann Baldwin\, Professor Emerita from The University of Arizona for a series of discussion groups on her new book\, “The Vagus Nerve in Therapeutic Practice”. The overall purpose of this series is to present\, validate and demonstrate several activities that can be used in conjunction with Reiki to stimulate the vagus nerve amplify Reiki’s power. Chapter 2 – “Cranial Branches: Acupuncture\, Aromatherapy and Massage”.
URL:https://reikihome.org/event/the-vagas-nerve-cranial-branches-acupuncture-aromatherapy-and-masage/
CATEGORIES:Book Discussion
END:VEVENT
END:VCALENDAR