BEGIN:VCALENDAR
VERSION:2.0
PRODID:-//Reiki Home - ECPv6.15.20//NONSGML v1.0//EN
CALSCALE:GREGORIAN
METHOD:PUBLISH
X-WR-CALNAME:Reiki Home
X-ORIGINAL-URL:https://reikihome.org
X-WR-CALDESC:Events for Reiki Home
REFRESH-INTERVAL;VALUE=DURATION:PT1H
X-Robots-Tag:noindex
X-PUBLISHED-TTL:PT1H
BEGIN:VTIMEZONE
TZID:America/Phoenix
BEGIN:STANDARD
TZOFFSETFROM:-0700
TZOFFSETTO:-0700
TZNAME:MST
DTSTART:20230101T000000
END:STANDARD
END:VTIMEZONE
BEGIN:VEVENT
DTSTART;TZID=America/Phoenix:20240523T110000
DTEND;TZID=America/Phoenix:20240523T123000
DTSTAMP:20260425T152658
CREATED:20240407T173029Z
LAST-MODIFIED:20240407T173029Z
UID:10004417-1716462000-1716467400@reikihome.org
SUMMARY:Connecting with Our Ancestors: A Meditation
DESCRIPTION:This meditation supports you in connecting with your ancestors and opens an opportunity to offer healing of past experiences and memories.
URL:https://reikihome.org/event/connecting-with-our-ancestors-a-meditation/
CATEGORIES:Meditation
END:VEVENT
BEGIN:VEVENT
DTSTART;TZID=America/Phoenix:20240422T120000
DTEND;TZID=America/Phoenix:20240422T130000
DTSTAMP:20260425T152658
CREATED:20240407T173026Z
LAST-MODIFIED:20240407T173026Z
UID:10004412-1713787200-1713790800@reikihome.org
SUMMARY:Ki of a Woman: Cultivating the Soft Power Within
DESCRIPTION:On the Day of the Earth\, we invite you to work with the grounding and playful Ki of the Earth! We will cultivate the gratitude and many blessings that we receive daily through the practice of Qigong – simple\, natural and effective. Qigong makes you feel and look radiant\, keep your feet and head steady and your heart connected to the gratitude to all living beings
URL:https://reikihome.org/event/ki-of-a-woman-cultivating-the-soft-power-within/
CATEGORIES:Meditation
END:VEVENT
BEGIN:VEVENT
DTSTART;TZID=America/Phoenix:20240422T033000
DTEND;TZID=America/Phoenix:20240422T043000
DTSTAMP:20260425T152658
CREATED:20240407T173028Z
LAST-MODIFIED:20240407T173028Z
UID:10004413-1713756600-1713760200@reikihome.org
SUMMARY:Ki of a Woman: Cultivating the Soft Power Within
DESCRIPTION:On the Day of the Earth\, we invite you to work with the grounding and playful Ki of the Earth! We will cultivate the gratitude and many blessings that we receive daily through the practice of Qigong – simple\, natural and effective. Qigong makes you feel and look radiant\, keep your feet and head steady and your heart connected to the gratitude to all living beings
URL:https://reikihome.org/event/ki-of-a-woman-cultivating-the-soft-power-within-2/
CATEGORIES:Meditation
END:VEVENT
BEGIN:VEVENT
DTSTART;TZID=America/Phoenix:20240408T110000
DTEND;TZID=America/Phoenix:20240408T130000
DTSTAMP:20260425T152658
CREATED:20240407T173024Z
LAST-MODIFIED:20240407T173024Z
UID:10004408-1712574000-1712581200@reikihome.org
SUMMARY:Reiki for Peace in Our Home
DESCRIPTION:A guided meditation to explore how we can invite true peace into our homes and\, ultimately\, to the Earth. All participants are asked to bring with them something (or someone) who symbolizes home to them. The meditation is a personal collective journey. It will be held within in the safety of a closed circle. No recording will be made.
URL:https://reikihome.org/event/reiki-for-peace-in-our-home/
CATEGORIES:Meditation
END:VEVENT
END:VCALENDAR