BEGIN:VCALENDAR
VERSION:2.0
PRODID:-//Reiki Home - ECPv6.15.20//NONSGML v1.0//EN
CALSCALE:GREGORIAN
METHOD:PUBLISH
X-WR-CALNAME:Reiki Home
X-ORIGINAL-URL:https://reikihome.org
X-WR-CALDESC:Events for Reiki Home
REFRESH-INTERVAL;VALUE=DURATION:PT1H
X-Robots-Tag:noindex
X-PUBLISHED-TTL:PT1H
BEGIN:VTIMEZONE
TZID:America/Los_Angeles
BEGIN:DAYLIGHT
TZOFFSETFROM:-0800
TZOFFSETTO:-0700
TZNAME:PDT
DTSTART:20250309T100000
END:DAYLIGHT
BEGIN:STANDARD
TZOFFSETFROM:-0700
TZOFFSETTO:-0800
TZNAME:PST
DTSTART:20251102T090000
END:STANDARD
BEGIN:DAYLIGHT
TZOFFSETFROM:-0800
TZOFFSETTO:-0700
TZNAME:PDT
DTSTART:20260308T100000
END:DAYLIGHT
BEGIN:STANDARD
TZOFFSETFROM:-0700
TZOFFSETTO:-0800
TZNAME:PST
DTSTART:20261101T090000
END:STANDARD
BEGIN:DAYLIGHT
TZOFFSETFROM:-0800
TZOFFSETTO:-0700
TZNAME:PDT
DTSTART:20270314T100000
END:DAYLIGHT
BEGIN:STANDARD
TZOFFSETFROM:-0700
TZOFFSETTO:-0800
TZNAME:PST
DTSTART:20271107T090000
END:STANDARD
END:VTIMEZONE
BEGIN:VEVENT
DTSTART;TZID=America/Los_Angeles:20260313T180000
DTEND;TZID=America/Los_Angeles:20260313T180000
DTSTAMP:20260425T125000
CREATED:20251111T193431Z
LAST-MODIFIED:20251111T193431Z
UID:10005256-1773424800-1773424800@reikihome.org
SUMMARY:Mindful Meditation and Reiki
DESCRIPTION:The group begins with mindful meditation to experience relaxation techniques.  The meditation includes progressive body relaxation and mindful breathing to relax the mind and body.  We then progress to Reiki with descriptions of hand positions and the anticipated benefit from each position from the top of the head to the bottom on the feet.   All events are listed in PDT. For your own time zone\, please check the World Clock Converter.
URL:https://reikihome.org/event/mindful-meditation-and-reiki-28/
CATEGORIES:Reiki Circles and Meditations
END:VEVENT
BEGIN:VEVENT
DTSTART;TZID=America/Los_Angeles:20260312T090000
DTEND;TZID=America/Los_Angeles:20260312T100000
DTSTAMP:20260425T125000
CREATED:20260114T204018Z
LAST-MODIFIED:20260114T204018Z
UID:10005332-1773306000-1773309600@reikihome.org
SUMMARY:Together in Reiki in Dutch and English
DESCRIPTION:Together in Reiki circles create an opportunity to sit in a virtual circle.  Each facilitator and host offers a variety of ways to experience a Reiki circle by bringing their own creativity\, sensitivity and gifts from Reiki.  You are encouraged to enjoy a unique experience.  Participate in a language you do not speak and experience Reiki in a way that goes beyond the spoken word.  It is unique and special!   All events are listed in PDT. For your own time zone\, please check the World Clock Converter.
URL:https://reikihome.org/event/together-in-reiki-in-dutch-and-english-220/
CATEGORIES:Reiki Circles and Meditations
END:VEVENT
BEGIN:VEVENT
DTSTART;TZID=America/Los_Angeles:20260311T093000
DTEND;TZID=America/Los_Angeles:20260311T103000
DTSTAMP:20260425T125000
CREATED:20260227T234920Z
LAST-MODIFIED:20260228T004240Z
UID:10005354-1773221400-1773225000@reikihome.org
SUMMARY:Sharing Wisdom with Elder Master Treechild
DESCRIPTION:Let’s Sit in Reiki Together ~ Bring What Is Alive in Your Practice \nJoin Elder Master Treechild for a gentle\, guided Sharing Wisdom gathering inspired by her Master’s Story and decades of lived Reiki practice. \nPracticing since 1982 and teaching since 1985\, Treechild has followed Reiki as a lifelong path — apprenticing closely with her teachers\, offering Reiki in the AIDS community\, teaching internationally\, and working deeply with nature and trees. Reiki has been both her vocation and the foundation of her own healing journey. \nIn this circle\, you are invited to bring what is alive in your practice — questions\, reflections\, or insights — and explore them together. \nTreechild may open with a brief reflection or simply sit in Reiki and allow the conversation to unfold naturally. \nAll are welcome!
URL:https://reikihome.org/event/sharing-wisdom-with-elder-master-treechild/
CATEGORIES:Webinar
END:VEVENT
BEGIN:VEVENT
DTSTART;TZID=America/Los_Angeles:20260310T100000
DTEND;TZID=America/Los_Angeles:20260310T110000
DTSTAMP:20260425T125000
CREATED:20260114T214934Z
LAST-MODIFIED:20260114T214934Z
UID:10005345-1773136800-1773140400@reikihome.org
SUMMARY:Together in Reiki in Romanian
DESCRIPTION:Together in Reiki circles create an opportunity to sit in a virtual circle.  Each facilitator and host offers a variety of ways to experience a Reiki circle by bringing their own creativity\, sensitivity and gifts from Reiki.  You are encouraged to enjoy a unique experience.  Participate in a language you do not speak and experience Reiki in a way that goes beyond the spoken word.  It is unique and special!   All events are listed in PDT. For your own time zone\, please check the World Clock Converter.
URL:https://reikihome.org/event/together-in-reiki-in-romanian-43/
CATEGORIES:Reiki Circles and Meditations
END:VEVENT
BEGIN:VEVENT
DTSTART;TZID=America/Los_Angeles:20260310T000000
DTEND;TZID=America/Los_Angeles:20260310T000000
DTSTAMP:20260425T125000
CREATED:20251111T195733Z
LAST-MODIFIED:20251111T195733Z
UID:10005286-1773100800-1773100800@reikihome.org
SUMMARY:Open Heart and Reiki Circle
DESCRIPTION:Send reiki\, light and love at whatever time on those dates using whatever method that works best for you (i.e. self-session\, meditation\, connect with spirit from home with everyone who participates in the circle\, a shamanic ritual\, or join Hilde in an offline\, silent meditation from 6-8 pm CET (9-11 am PDT). Topics for Open Heart and Reiki Circle:  Send reiki\, love and light for the highest good of all\, and to (1) all inhabitants of the Earth for healing and reconciliation; (2) to everyone’s potential to create world peace; and (3) to support the planet’s ascension process.
URL:https://reikihome.org/event/open-heart-and-reiki-circle-95/
CATEGORIES:Reiki Circles and Meditations
END:VEVENT
BEGIN:VEVENT
DTSTART;TZID=America/Los_Angeles:20260309T133000
DTEND;TZID=America/Los_Angeles:20260309T141500
DTSTAMP:20260425T125000
CREATED:20260101T174732Z
LAST-MODIFIED:20260101T174732Z
UID:10005295-1773063000-1773065700@reikihome.org
SUMMARY:The Path of Love and Reiki
DESCRIPTION:This circle begins with a simple somatic practice to become centered and fully present followed by a meditative practice using Reiki to empower our aspiration to be more open to Love in all its forms.  All events are listed in PST. For your own time zone\, please check the World Clock Converter.
URL:https://reikihome.org/event/the-path-of-love-and-reiki-22/
CATEGORIES:Reiki Circles and Meditations
END:VEVENT
BEGIN:VEVENT
DTSTART;TZID=America/Los_Angeles:20260309T120000
DTEND;TZID=America/Los_Angeles:20260309T130000
DTSTAMP:20260425T125000
CREATED:20260114T214936Z
LAST-MODIFIED:20260114T214936Z
UID:10005346-1773057600-1773061200@reikihome.org
SUMMARY:Peace Upon the Blue Earth/Che scenda la Pace sulla terra
DESCRIPTION:The Earth needs peace now. We can do something. We can heal the Earth with Reiki now and create reconciliation and peace for all the inhabitants upon the Earth and within our heart. We thank Marta Getty for her deep intuition of our necessities and for creating this practice.  Che scenda la Pace sulla terra.  La terra ha bisogno di pace\, ora. E noi possiamo fare qualcosa. Possiamo guarire con Reiki ora e rendere possibile la riconciliazione e la pace per tutti gli abitanti sulla terra e nel nostro cuore. Ringraziamo Marta Getty per la sua profonda intuizione delle nostre necessità e per aver creato questa particolare pratica.  All events are listed in PST. For your own time zone\, please check the World Clock Converter.
URL:https://reikihome.org/event/peace-upon-the-blue-earth-che-scenda-la-pace-sulla-terra-37/
CATEGORIES:Reiki Circles and Meditations
END:VEVENT
BEGIN:VEVENT
DTSTART;TZID=America/Los_Angeles:20260306T180000
DTEND;TZID=America/Los_Angeles:20260306T190000
DTSTAMP:20260425T125000
CREATED:20251111T193430Z
LAST-MODIFIED:20251111T193430Z
UID:10005255-1772820000-1772823600@reikihome.org
SUMMARY:Mindful Meditation and Reiki
DESCRIPTION:The group begins with mindful meditation to experience relaxation techniques.  The meditation includes progressive body relaxation and mindful breathing to relax the mind and body.  We then progress to Reiki with descriptions of hand positions and the anticipated benefit from each position from the top of the head to the bottom on the feet.   All events are listed in PST. For your own time zone\, please check the World Clock Converter.
URL:https://reikihome.org/event/mindful-meditation-and-reiki-27/
CATEGORIES:Reiki Circles and Meditations
END:VEVENT
BEGIN:VEVENT
DTSTART;TZID=America/Los_Angeles:20260306T103000
DTEND;TZID=America/Los_Angeles:20260306T120000
DTSTAMP:20260425T125000
CREATED:20260223T230633Z
LAST-MODIFIED:20260223T230633Z
UID:10005349-1772793000-1772798400@reikihome.org
SUMMARY:The Grey Book - Through Story\, History\, Culture\, and Practice
DESCRIPTION:Join us for a thoughtful conversation exploring The Grey Book and its enduring place within the Reiki community. Through personal stories\, historical perspective\, and lived experience\, this webinar invites practitioners to encounter The Grey Book not simply as a document\, but as a living thread of Reiki lineage. \nBrian Brunius\, Paul D. Mitchell\, and Justin B. Stein each offer a distinct lens — stewardship\, personal connection\, and historical and cultural context — revealing how The Grey Book continues to shape understanding of Reiki across generations and cultures. \nThis webinar brings together three deeply experienced voices within the Reiki lineage\, each offering insight shaped by decades of practice\, study\, and service. Their combined perspectives open a rare space to engage with The Grey Book as a source of living knowledge—one that continues to inform how Reiki is understood\, practiced\, and passed on today. \nWebinar BONUS: Your registration includes a hardcopy limited edition print of The Grey Book which will be mailed to you following the webinar.
URL:https://reikihome.org/event/the-grey-book-through-story-history-culture-and-practice/
CATEGORIES:Webinar
END:VEVENT
BEGIN:VEVENT
DTSTART;TZID=America/Los_Angeles:20260305T090000
DTEND;TZID=America/Los_Angeles:20260305T100000
DTSTAMP:20260425T125000
CREATED:20260113T233331Z
LAST-MODIFIED:20260114T055518Z
UID:10005313-1772701200-1772704800@reikihome.org
SUMMARY:Together in Reiki in Dutch and English
DESCRIPTION:Together in Reiki circles create an opportunity to sit in a virtual circle.  Each facilitator and host offers a variety of ways to experience a Reiki circle by bringing their own creativity\, sensitivity and gifts from Reiki.  You are encouraged to enjoy a unique experience.  Participate in a language you do not speak and experience Reiki in a way that goes beyond the spoken word.  It is unique and special!   All events are listed in PST. For your own time zone\, please check the World Clock Converter.
URL:https://reikihome.org/event/together-in-reiki-in-dutch-and-english-219/
CATEGORIES:Reiki Circles and Meditations
END:VEVENT
BEGIN:VEVENT
DTSTART;TZID=America/Los_Angeles:20260304T093000
DTEND;TZID=America/Los_Angeles:20260304T103000
DTSTAMP:20260425T125000
CREATED:20260113T233315Z
LAST-MODIFIED:20260114T214929Z
UID:10005305-1772616600-1772620200@reikihome.org
SUMMARY:Together in Reiki - Earthsong
DESCRIPTION:Together in Reiki circles create an opportunity to sit in a virtual circle.  Each facilitator and host offers a variety of ways to experience a Reiki circle by bringing their own creativity\, sensitivity and gifts from Reiki.  You are encouraged to enjoy a unique experience.  Participate in a language you do not speak and experience Reiki in a way that goes beyond the spoken word.  It is unique and special!   All events are listed in PST. For your own time zone\, please check the World Clock Converter.
URL:https://reikihome.org/event/together-in-reiki-earthsong-81/
CATEGORIES:Reiki Circles and Meditations
END:VEVENT
BEGIN:VEVENT
DTSTART;TZID=America/Los_Angeles:20260302T133000
DTEND;TZID=America/Los_Angeles:20260302T141500
DTSTAMP:20260425T125000
CREATED:20260101T174731Z
LAST-MODIFIED:20260101T174731Z
UID:10005294-1772458200-1772460900@reikihome.org
SUMMARY:The Path of Love and Reiki
DESCRIPTION:This circle begins with a simple somatic practice to become centered and fully present followed by a meditative practice using Reiki to empower our aspiration to be more open to Love in all its forms.  All events are listed in PDT. For your own time zone\, please check the World Clock Converter.
URL:https://reikihome.org/event/the-path-of-love-and-reiki-21/
CATEGORIES:Reiki Circles and Meditations
END:VEVENT
BEGIN:VEVENT
DTSTART;TZID=America/Los_Angeles:20260227T180000
DTEND;TZID=America/Los_Angeles:20260227T190000
DTSTAMP:20260425T125000
CREATED:20251111T193428Z
LAST-MODIFIED:20251111T193428Z
UID:10005254-1772215200-1772218800@reikihome.org
SUMMARY:Mindful Meditation and Reiki
DESCRIPTION:The group begins with mindful meditation to experience relaxation techniques.  The meditation includes progressive body relaxation and mindful breathing to relax the mind and body.  We then progress to Reiki with descriptions of hand positions and the anticipated benefit from each position from the top of the head to the bottom on the feet.   All events are listed in PST. For your own time zone\, please check the World Clock Converter.
URL:https://reikihome.org/event/mindful-meditation-and-reiki-26/
CATEGORIES:Reiki Circles and Meditations
END:VEVENT
BEGIN:VEVENT
DTSTART;TZID=America/Los_Angeles:20260227T080000
DTEND;TZID=America/Los_Angeles:20260227T090000
DTSTAMP:20260425T125000
CREATED:20260114T214937Z
LAST-MODIFIED:20260114T214937Z
UID:10005347-1772179200-1772182800@reikihome.org
SUMMARY:Inspired Guidance
DESCRIPTION:From a place of quiet and deep silence\, we are guided by the words shared as Frank opens himself to the guidance from the universe.  All events are listed in PST. For your own time zone\, please check the World Clock Converter.
URL:https://reikihome.org/event/inspired-guidance-147/
CATEGORIES:Reiki Circles and Meditations
END:VEVENT
BEGIN:VEVENT
DTSTART;TZID=America/Los_Angeles:20260226T090000
DTEND;TZID=America/Los_Angeles:20260226T100000
DTSTAMP:20260425T125000
CREATED:20260113T233329Z
LAST-MODIFIED:20260114T055516Z
UID:10005312-1772096400-1772100000@reikihome.org
SUMMARY:Together in Reiki in Dutch and English
DESCRIPTION:Together in Reiki circles create an opportunity to sit in a virtual circle.  Each facilitator and host offers a variety of ways to experience a Reiki circle by bringing their own creativity\, sensitivity and gifts from Reiki.  You are encouraged to enjoy a unique experience.  Participate in a language you do not speak and experience Reiki in a way that goes beyond the spoken word.  It is unique and special!   All events are listed in PST. For your own time zone\, please check the World Clock Converter.
URL:https://reikihome.org/event/together-in-reiki-in-dutch-and-english-218/
CATEGORIES:Reiki Circles and Meditations
END:VEVENT
BEGIN:VEVENT
DTSTART;TZID=America/Los_Angeles:20260224T000000
DTEND;TZID=America/Los_Angeles:20260224T000000
DTSTAMP:20260425T125000
CREATED:20251111T195731Z
LAST-MODIFIED:20251111T195731Z
UID:10005285-1771891200-1771891200@reikihome.org
SUMMARY:Open Heart and Reiki Circle
DESCRIPTION:Send reiki\, light and love at whatever time on those dates using whatever method that works best for you (i.e. self-session\, meditation\, connect with spirit from home with everyone who participates in the circle\, a shamanic ritual\, or join Hilde in an offline\, silent meditation from 6-8 pm CET (9-11 am PDT). Topics for Open Heart and Reiki Circle:  Send reiki\, love and light for the highest good of all\, and to (1) all inhabitants of the Earth for healing and reconciliation; (2) to everyone’s potential to create world peace; and (3) to support the planet’s ascension process.
URL:https://reikihome.org/event/open-heart-and-reiki-circle-94/
CATEGORIES:Reiki Circles and Meditations
END:VEVENT
BEGIN:VEVENT
DTSTART;TZID=America/Los_Angeles:20260223T133000
DTEND;TZID=America/Los_Angeles:20260223T141500
DTSTAMP:20260425T125000
CREATED:20260101T174730Z
LAST-MODIFIED:20260101T174730Z
UID:10005293-1771853400-1771856100@reikihome.org
SUMMARY:The Path of Love and Reiki
DESCRIPTION:This circle begins with a simple somatic practice to become centered and fully present followed by a meditative practice using Reiki to empower our aspiration to be more open to Love in all its forms.  All events are listed in PDT. For your own time zone\, please check the World Clock Converter.
URL:https://reikihome.org/event/the-path-of-love-and-reiki-20/
CATEGORIES:Reiki Circles and Meditations
END:VEVENT
BEGIN:VEVENT
DTSTART;TZID=America/Los_Angeles:20260220T180000
DTEND;TZID=America/Los_Angeles:20260220T190000
DTSTAMP:20260425T125000
CREATED:20251111T193427Z
LAST-MODIFIED:20251111T193427Z
UID:10005253-1771610400-1771614000@reikihome.org
SUMMARY:Mindful Meditation and Reiki
DESCRIPTION:The group begins with mindful meditation to experience relaxation techniques.  The meditation includes progressive body relaxation and mindful breathing to relax the mind and body.  We then progress to Reiki with descriptions of hand positions and the anticipated benefit from each position from the top of the head to the bottom on the feet.   All events are listed in PST. For your own time zone\, please check the World Clock Converter.
URL:https://reikihome.org/event/mindful-meditation-and-reiki-25/
CATEGORIES:Reiki Circles and Meditations
END:VEVENT
BEGIN:VEVENT
DTSTART;TZID=America/Los_Angeles:20260219T090000
DTEND;TZID=America/Los_Angeles:20260219T100000
DTSTAMP:20260425T125000
CREATED:20260113T233328Z
LAST-MODIFIED:20260114T204017Z
UID:10005311-1771491600-1771495200@reikihome.org
SUMMARY:Together in Reiki in Dutch and English
DESCRIPTION:Together in Reiki circles create an opportunity to sit in a virtual circle.  Each facilitator and host offers a variety of ways to experience a Reiki circle by bringing their own creativity\, sensitivity and gifts from Reiki.  You are encouraged to enjoy a unique experience.  Participate in a language you do not speak and experience Reiki in a way that goes beyond the spoken word.  It is unique and special!   All events are listed in PST. For your own time zone\, please check the World Clock Converter.
URL:https://reikihome.org/event/together-in-reiki-in-dutch-and-english-217/
CATEGORIES:Reiki Circles and Meditations
END:VEVENT
BEGIN:VEVENT
DTSTART;TZID=America/Los_Angeles:20260218T093000
DTEND;TZID=America/Los_Angeles:20260218T103000
DTSTAMP:20260425T125000
CREATED:20260113T233313Z
LAST-MODIFIED:20260114T214928Z
UID:10005304-1771407000-1771410600@reikihome.org
SUMMARY:Together in Reiki - Earthsong
DESCRIPTION:Together in Reiki circles create an opportunity to sit in a virtual circle.  Each facilitator and host offers a variety of ways to experience a Reiki circle by bringing their own creativity\, sensitivity and gifts from Reiki.  You are encouraged to enjoy a unique experience.  Participate in a language you do not speak and experience Reiki in a way that goes beyond the spoken word.  It is unique and special!   All events are listed in PST. For your own time zone\, please check the World Clock Converter.
URL:https://reikihome.org/event/together-in-reiki-earthsong-80/
CATEGORIES:Reiki Circles and Meditations
END:VEVENT
BEGIN:VEVENT
DTSTART;TZID=America/Los_Angeles:20260213T180000
DTEND;TZID=America/Los_Angeles:20260213T190000
DTSTAMP:20260425T125000
CREATED:20251111T193422Z
LAST-MODIFIED:20251111T193422Z
UID:10005252-1771005600-1771009200@reikihome.org
SUMMARY:Mindful Meditation and Reiki
DESCRIPTION:The group begins with mindful meditation to experience relaxation techniques.  The meditation includes progressive body relaxation and mindful breathing to relax the mind and body.  We then progress to Reiki with descriptions of hand positions and the anticipated benefit from each position from the top of the head to the bottom on the feet.  All events are listed in PST. For your own time zone\, please check the World Clock Converter.
URL:https://reikihome.org/event/mindful-meditation-and-reiki-24/
CATEGORIES:Reiki Circles and Meditations
END:VEVENT
BEGIN:VEVENT
DTSTART;TZID=America/Los_Angeles:20260210T100000
DTEND;TZID=America/Los_Angeles:20260210T110000
DTSTAMP:20260425T125000
CREATED:20260114T214929Z
LAST-MODIFIED:20260114T214929Z
UID:10005344-1770717600-1770721200@reikihome.org
SUMMARY:Together in Reiki in Romanian
DESCRIPTION:Together in Reiki circles create an opportunity to sit in a virtual circle.  Each facilitator and host offers a variety of ways to experience a Reiki circle by bringing their own creativity\, sensitivity and gifts from Reiki.  You are encouraged to enjoy a unique experience.  Participate in a language you do not speak and experience Reiki in a way that goes beyond the spoken word.  It is unique and special!   All events are listed in PST. For your own time zone\, please check the World Clock Converter.
URL:https://reikihome.org/event/together-in-reiki-in-romanian-42/
CATEGORIES:Reiki Circles and Meditations
END:VEVENT
BEGIN:VEVENT
DTSTART;TZID=America/Los_Angeles:20260210T000000
DTEND;TZID=America/Los_Angeles:20260210T000000
DTSTAMP:20260425T125000
CREATED:20251111T195730Z
LAST-MODIFIED:20251111T195730Z
UID:10005284-1770681600-1770681600@reikihome.org
SUMMARY:Open Heart and Reiki Circle
DESCRIPTION:Send reiki\, light and love at whatever time on those dates using whatever method that works best for you (i.e. self-session\, meditation\, connect with spirit from home with everyone who participates in the circle\, a shamanic ritual\, or join Hilde in an offline\, silent meditation from 6-8 pm CET (9-11 am PDT). Topics for Open Heart and Reiki Circle:  Send reiki\, love and light for the highest good of all\, and to (1) all inhabitants of the Earth for healing and reconciliation; (2) to everyone’s potential to create world peace; and (3) to support the planet’s ascension process.
URL:https://reikihome.org/event/open-heart-and-reiki-circle-93/
CATEGORIES:Reiki Circles and Meditations
END:VEVENT
BEGIN:VEVENT
DTSTART;TZID=America/Los_Angeles:20260209T133000
DTEND;TZID=America/Los_Angeles:20260209T141500
DTSTAMP:20260425T125000
CREATED:20260101T174727Z
LAST-MODIFIED:20260101T174727Z
UID:10005292-1770643800-1770646500@reikihome.org
SUMMARY:The Path of Love and Reiki
DESCRIPTION:This circle begins with a simple somatic practice to become centered and fully present followed by a meditative practice using Reiki to empower our aspiration to be more open to Love in all its forms.  All events are listed in PDT. For your own time zone\, please check the World Clock Converter.
URL:https://reikihome.org/event/the-path-of-love-and-reiki-19/
CATEGORIES:Reiki Circles and Meditations
END:VEVENT
BEGIN:VEVENT
DTSTART;TZID=America/Los_Angeles:20260206T180000
DTEND;TZID=America/Los_Angeles:20260206T190000
DTSTAMP:20260425T125000
CREATED:20251111T193420Z
LAST-MODIFIED:20251111T193420Z
UID:10005251-1770400800-1770404400@reikihome.org
SUMMARY:Mindful Meditation and Reiki
DESCRIPTION:The group begins with mindful meditation to experience relaxation techniques.  The meditation includes progressive body relaxation and mindful breathing to relax the mind and body.  We then progress to Reiki with descriptions of hand positions and the anticipated benefit from each position from the top of the head to the bottom on the feet.   All events are listed in PDT. For your own time zone\, please check the World Clock Converter.
URL:https://reikihome.org/event/mindful-meditation-and-reiki-23/
CATEGORIES:Reiki Circles and Meditations
END:VEVENT
BEGIN:VEVENT
DTSTART;TZID=America/Los_Angeles:20260205T090000
DTEND;TZID=America/Los_Angeles:20260205T100000
DTSTAMP:20260425T125000
CREATED:20260113T233326Z
LAST-MODIFIED:20260114T204016Z
UID:10005310-1770282000-1770285600@reikihome.org
SUMMARY:Together in Reiki in Dutch and English
DESCRIPTION:Together in Reiki circles create an opportunity to sit in a virtual circle.  Each facilitator and host offers a variety of ways to experience a Reiki circle by bringing their own creativity\, sensitivity and gifts from Reiki.  You are encouraged to enjoy a unique experience.  Participate in a language you do not speak and experience Reiki in a way that goes beyond the spoken word.  It is unique and special!   All events are listed in PST. For your own time zone\, please check the World Clock Converter.
URL:https://reikihome.org/event/together-in-reiki-in-dutch-and-english-216/
CATEGORIES:Reiki Circles and Meditations
END:VEVENT
BEGIN:VEVENT
DTSTART;TZID=America/Los_Angeles:20260204T080000
DTEND;TZID=America/Los_Angeles:20260204T093000
DTSTAMP:20260425T125000
CREATED:20260223T232000Z
LAST-MODIFIED:20260223T232000Z
UID:10005351-1770192000-1770197400@reikihome.org
SUMMARY:Unveiling the Healing Science of Reiki Energy with Bridgid Ruden
DESCRIPTION:Join us for a focused webinar exploring how Reiki is being studied and understood within scientific research. As interest in Reiki continues to grow\, this session offers an opportunity to engage with international\, peer-reviewed studies that examine Reiki’s healing effects across living systems. \nTogether\, we’ll look at research involving humans\, animals\, plants\, and water\, and reflect on what happens when careful scientific inquiry meets lived Reiki practice. The webinar will also introduce ways practitioners can begin developing research skills\, participate in individual projects\, and collaborate with research groups supporting the future of Reiki inquiry. \nThis is an invitation to explore Reiki through a thoughtful scientific lens – honoring experience\, curiosity\, and the ongoing question of how Reiki works in the world.
URL:https://reikihome.org/event/unveilingthehealingscienceofreikibridgidruden/
CATEGORIES:Webinar
END:VEVENT
BEGIN:VEVENT
DTSTART;TZID=America/Los_Angeles:20260130T180000
DTEND;TZID=America/Los_Angeles:20260130T190000
DTSTAMP:20260425T125000
CREATED:20251111T193418Z
LAST-MODIFIED:20251111T193418Z
UID:10005250-1769796000-1769799600@reikihome.org
SUMMARY:Mindful Meditation and Reiki
DESCRIPTION:The group begins with mindful meditation to experience relaxation techniques.  The meditation includes progressive body relaxation and mindful breathing to relax the mind and body.  We then progress to Reiki with descriptions of hand positions and the anticipated benefit from each position from the top of the head to the bottom on the feet.   All events are listed in PDT. For your own time zone\, please check the World Clock Converter.
URL:https://reikihome.org/event/mindful-meditation-and-reiki-22/
CATEGORIES:Reiki Circles and Meditations
END:VEVENT
BEGIN:VEVENT
DTSTART;TZID=America/Los_Angeles:20260129T090000
DTEND;TZID=America/Los_Angeles:20260129T100000
DTSTAMP:20260425T125000
CREATED:20260113T233324Z
LAST-MODIFIED:20260114T204015Z
UID:10005309-1769677200-1769680800@reikihome.org
SUMMARY:Together in Reiki in Dutch and English
DESCRIPTION:Together in Reiki circles create an opportunity to sit in a virtual circle.  Each facilitator and host offers a variety of ways to experience a Reiki circle by bringing their own creativity\, sensitivity and gifts from Reiki.  You are encouraged to enjoy a unique experience.  Participate in a language you do not speak and experience Reiki in a way that goes beyond the spoken word.  It is unique and special!   All events are listed in PST. For your own time zone\, please check the World Clock Converter.
URL:https://reikihome.org/event/together-in-reiki-in-dutch-and-english-215/
CATEGORIES:Reiki Circles and Meditations
END:VEVENT
BEGIN:VEVENT
DTSTART;TZID=America/Los_Angeles:20260127T000000
DTEND;TZID=America/Los_Angeles:20260127T000000
DTSTAMP:20260425T125000
CREATED:20251111T195729Z
LAST-MODIFIED:20251111T195729Z
UID:10005283-1769472000-1769472000@reikihome.org
SUMMARY:Open Heart and Reiki Circle
DESCRIPTION:Send reiki\, light and love at whatever time on those dates using whatever method that works best for you (i.e. self-session\, meditation\, connect with spirit from home with everyone who participates in the circle\, a shamanic ritual\, or join Hilde in an offline\, silent meditation from 6-8 pm CET (9-11 am PDT). Topics for Open Heart and Reiki Circle:  Send reiki\, love and light for the highest good of all\, and to (1) all inhabitants of the Earth for healing and reconciliation; (2) to everyone’s potential to create world peace; and (3) to support the planet’s ascension process.
URL:https://reikihome.org/event/open-heart-and-reiki-circle-92/
CATEGORIES:Reiki Circles and Meditations
END:VEVENT
END:VCALENDAR