BEGIN:VCALENDAR
VERSION:2.0
PRODID:-//Reiki Home - ECPv6.15.20//NONSGML v1.0//EN
CALSCALE:GREGORIAN
METHOD:PUBLISH
X-WR-CALNAME:Reiki Home
X-ORIGINAL-URL:https://reikihome.org
X-WR-CALDESC:Events for Reiki Home
REFRESH-INTERVAL;VALUE=DURATION:PT1H
X-Robots-Tag:noindex
X-PUBLISHED-TTL:PT1H
BEGIN:VTIMEZONE
TZID:America/Los_Angeles
BEGIN:DAYLIGHT
TZOFFSETFROM:-0800
TZOFFSETTO:-0700
TZNAME:PDT
DTSTART:20240310T100000
END:DAYLIGHT
BEGIN:STANDARD
TZOFFSETFROM:-0700
TZOFFSETTO:-0800
TZNAME:PST
DTSTART:20241103T090000
END:STANDARD
BEGIN:DAYLIGHT
TZOFFSETFROM:-0800
TZOFFSETTO:-0700
TZNAME:PDT
DTSTART:20250309T100000
END:DAYLIGHT
BEGIN:STANDARD
TZOFFSETFROM:-0700
TZOFFSETTO:-0800
TZNAME:PST
DTSTART:20251102T090000
END:STANDARD
BEGIN:DAYLIGHT
TZOFFSETFROM:-0800
TZOFFSETTO:-0700
TZNAME:PDT
DTSTART:20260308T100000
END:DAYLIGHT
BEGIN:STANDARD
TZOFFSETFROM:-0700
TZOFFSETTO:-0800
TZNAME:PST
DTSTART:20261101T090000
END:STANDARD
BEGIN:DAYLIGHT
TZOFFSETFROM:-0800
TZOFFSETTO:-0700
TZNAME:PDT
DTSTART:20270314T100000
END:DAYLIGHT
BEGIN:STANDARD
TZOFFSETFROM:-0700
TZOFFSETTO:-0800
TZNAME:PST
DTSTART:20271107T090000
END:STANDARD
END:VTIMEZONE
BEGIN:VTIMEZONE
TZID:PST
END:VTIMEZONE
BEGIN:VEVENT
DTSTART;TZID=America/Los_Angeles:20260209T133000
DTEND;TZID=America/Los_Angeles:20260209T141500
DTSTAMP:20260423T202955
CREATED:20260101T174727Z
LAST-MODIFIED:20260101T174727Z
UID:10005292-1770643800-1770646500@reikihome.org
SUMMARY:The Path of Love and Reiki
DESCRIPTION:This circle begins with a simple somatic practice to become centered and fully present followed by a meditative practice using Reiki to empower our aspiration to be more open to Love in all its forms.  All events are listed in PDT. For your own time zone\, please check the World Clock Converter.
URL:https://reikihome.org/event/the-path-of-love-and-reiki-19/
CATEGORIES:Reiki Circles and Meditations
END:VEVENT
BEGIN:VEVENT
DTSTART;TZID=America/Los_Angeles:20260206T180000
DTEND;TZID=America/Los_Angeles:20260206T190000
DTSTAMP:20260423T202955
CREATED:20251111T193420Z
LAST-MODIFIED:20251111T193420Z
UID:10005251-1770400800-1770404400@reikihome.org
SUMMARY:Mindful Meditation and Reiki
DESCRIPTION:The group begins with mindful meditation to experience relaxation techniques.  The meditation includes progressive body relaxation and mindful breathing to relax the mind and body.  We then progress to Reiki with descriptions of hand positions and the anticipated benefit from each position from the top of the head to the bottom on the feet.   All events are listed in PDT. For your own time zone\, please check the World Clock Converter.
URL:https://reikihome.org/event/mindful-meditation-and-reiki-23/
CATEGORIES:Reiki Circles and Meditations
END:VEVENT
BEGIN:VEVENT
DTSTART;TZID=America/Los_Angeles:20260205T090000
DTEND;TZID=America/Los_Angeles:20260205T100000
DTSTAMP:20260423T202955
CREATED:20260113T233326Z
LAST-MODIFIED:20260114T204016Z
UID:10005310-1770282000-1770285600@reikihome.org
SUMMARY:Together in Reiki in Dutch and English
DESCRIPTION:Together in Reiki circles create an opportunity to sit in a virtual circle.  Each facilitator and host offers a variety of ways to experience a Reiki circle by bringing their own creativity\, sensitivity and gifts from Reiki.  You are encouraged to enjoy a unique experience.  Participate in a language you do not speak and experience Reiki in a way that goes beyond the spoken word.  It is unique and special!   All events are listed in PST. For your own time zone\, please check the World Clock Converter.
URL:https://reikihome.org/event/together-in-reiki-in-dutch-and-english-216/
CATEGORIES:Reiki Circles and Meditations
END:VEVENT
BEGIN:VEVENT
DTSTART;TZID=America/Los_Angeles:20260204T080000
DTEND;TZID=America/Los_Angeles:20260204T093000
DTSTAMP:20260423T202955
CREATED:20260223T232000Z
LAST-MODIFIED:20260223T232000Z
UID:10005351-1770192000-1770197400@reikihome.org
SUMMARY:Unveiling the Healing Science of Reiki Energy with Bridgid Ruden
DESCRIPTION:Join us for a focused webinar exploring how Reiki is being studied and understood within scientific research. As interest in Reiki continues to grow\, this session offers an opportunity to engage with international\, peer-reviewed studies that examine Reiki’s healing effects across living systems. \nTogether\, we’ll look at research involving humans\, animals\, plants\, and water\, and reflect on what happens when careful scientific inquiry meets lived Reiki practice. The webinar will also introduce ways practitioners can begin developing research skills\, participate in individual projects\, and collaborate with research groups supporting the future of Reiki inquiry. \nThis is an invitation to explore Reiki through a thoughtful scientific lens – honoring experience\, curiosity\, and the ongoing question of how Reiki works in the world.
URL:https://reikihome.org/event/unveilingthehealingscienceofreikibridgidruden/
CATEGORIES:Webinar
END:VEVENT
BEGIN:VEVENT
DTSTART;TZID=America/Los_Angeles:20260130T180000
DTEND;TZID=America/Los_Angeles:20260130T190000
DTSTAMP:20260423T202955
CREATED:20251111T193418Z
LAST-MODIFIED:20251111T193418Z
UID:10005250-1769796000-1769799600@reikihome.org
SUMMARY:Mindful Meditation and Reiki
DESCRIPTION:The group begins with mindful meditation to experience relaxation techniques.  The meditation includes progressive body relaxation and mindful breathing to relax the mind and body.  We then progress to Reiki with descriptions of hand positions and the anticipated benefit from each position from the top of the head to the bottom on the feet.   All events are listed in PDT. For your own time zone\, please check the World Clock Converter.
URL:https://reikihome.org/event/mindful-meditation-and-reiki-22/
CATEGORIES:Reiki Circles and Meditations
END:VEVENT
BEGIN:VEVENT
DTSTART;TZID=America/Los_Angeles:20260129T090000
DTEND;TZID=America/Los_Angeles:20260129T100000
DTSTAMP:20260423T202955
CREATED:20260113T233324Z
LAST-MODIFIED:20260114T204015Z
UID:10005309-1769677200-1769680800@reikihome.org
SUMMARY:Together in Reiki in Dutch and English
DESCRIPTION:Together in Reiki circles create an opportunity to sit in a virtual circle.  Each facilitator and host offers a variety of ways to experience a Reiki circle by bringing their own creativity\, sensitivity and gifts from Reiki.  You are encouraged to enjoy a unique experience.  Participate in a language you do not speak and experience Reiki in a way that goes beyond the spoken word.  It is unique and special!   All events are listed in PST. For your own time zone\, please check the World Clock Converter.
URL:https://reikihome.org/event/together-in-reiki-in-dutch-and-english-215/
CATEGORIES:Reiki Circles and Meditations
END:VEVENT
BEGIN:VEVENT
DTSTART;TZID=America/Los_Angeles:20260127T000000
DTEND;TZID=America/Los_Angeles:20260127T000000
DTSTAMP:20260423T202955
CREATED:20251111T195729Z
LAST-MODIFIED:20251111T195729Z
UID:10005283-1769472000-1769472000@reikihome.org
SUMMARY:Open Heart and Reiki Circle
DESCRIPTION:Send reiki\, light and love at whatever time on those dates using whatever method that works best for you (i.e. self-session\, meditation\, connect with spirit from home with everyone who participates in the circle\, a shamanic ritual\, or join Hilde in an offline\, silent meditation from 6-8 pm CET (9-11 am PDT). Topics for Open Heart and Reiki Circle:  Send reiki\, love and light for the highest good of all\, and to (1) all inhabitants of the Earth for healing and reconciliation; (2) to everyone’s potential to create world peace; and (3) to support the planet’s ascension process.
URL:https://reikihome.org/event/open-heart-and-reiki-circle-92/
CATEGORIES:Reiki Circles and Meditations
END:VEVENT
BEGIN:VEVENT
DTSTART;TZID=America/Los_Angeles:20260126T133000
DTEND;TZID=America/Los_Angeles:20260126T141500
DTSTAMP:20260423T202955
CREATED:20260101T174726Z
LAST-MODIFIED:20260101T174726Z
UID:10005291-1769434200-1769436900@reikihome.org
SUMMARY:The Path of Love and Reiki
DESCRIPTION:This circle begins with a simple somatic practice to become centered and fully present followed by a meditative practice using Reiki to empower our aspiration to be more open to Love in all its forms.  All events are listed in PDT. For your own time zone\, please check the World Clock Converter.
URL:https://reikihome.org/event/the-path-of-love-and-reiki-18/
CATEGORIES:Reiki Circles and Meditations
END:VEVENT
BEGIN:VEVENT
DTSTART;TZID=America/Los_Angeles:20260125T090000
DTEND;TZID=America/Los_Angeles:20260125T090000
DTSTAMP:20260423T202955
CREATED:20260101T181709Z
LAST-MODIFIED:20260101T181709Z
UID:10005303-1769331600-1769331600@reikihome.org
SUMMARY:Introduction to Animal Reiki
DESCRIPTION:What happens when we stop doing Reiki to animals and start being Reiki with them? In this workshop designed for Reiki practitioners\, Leah D’Ambrosio introduces the Let Animals Lead® method of Animal Reiki—a meditation-based approach that honors animals as equal partners and teachers in healing.
URL:https://reikihome.org/event/introduction-to-animal-reiki-2/
CATEGORIES:Webinar
END:VEVENT
BEGIN:VEVENT
DTSTART;TZID=America/Los_Angeles:20260124T090000
DTEND;TZID=America/Los_Angeles:20260124T103000
DTSTAMP:20260423T202955
CREATED:20260101T181705Z
LAST-MODIFIED:20260101T181705Z
UID:10005302-1769245200-1769250600@reikihome.org
SUMMARY:Glimpses of a Better World
DESCRIPTION:Join us for a special webinar where we will connect with the wisdom & voice of Phyllis Lei Furumoto through a unique blend of meditation and visual art. Born during a time of deep personal and global crisis\, this project brought together the Reiki community to transform Phyllis’s words into living images. Author Dima Satori will share the journey of gathering these quotes\, while Reiki artists from around the world unveil how Phyllis’s spiritual legacy inspired their hearts and hands.
URL:https://reikihome.org/event/glimpses-of-a-better-world-3/
CATEGORIES:Webinar
END:VEVENT
BEGIN:VEVENT
DTSTART;TZID=America/Los_Angeles:20260123T180000
DTEND;TZID=America/Los_Angeles:20260123T190000
DTSTAMP:20260423T202955
CREATED:20251111T193417Z
LAST-MODIFIED:20251111T193417Z
UID:10005249-1769191200-1769194800@reikihome.org
SUMMARY:Mindful Meditation and Reiki
DESCRIPTION:The group begins with mindful meditation to experience relaxation techniques.  The meditation includes progressive body relaxation and mindful breathing to relax the mind and body.  We then progress to Reiki with descriptions of hand positions and the anticipated benefit from each position from the top of the head to the bottom on the feet.   All events are listed in PDT. For your own time zone\, please check the World Clock Converter.
URL:https://reikihome.org/event/mindful-meditation-and-reiki-21/
CATEGORIES:Reiki Circles and Meditations
END:VEVENT
BEGIN:VEVENT
DTSTART;TZID=America/Los_Angeles:20260122T090000
DTEND;TZID=America/Los_Angeles:20260122T100000
DTSTAMP:20260423T202955
CREATED:20260113T233319Z
LAST-MODIFIED:20260114T214932Z
UID:10005308-1769072400-1769076000@reikihome.org
SUMMARY:Together in Reiki in Dutch and English
DESCRIPTION:Together in Reiki circles create an opportunity to sit in a virtual circle.  Each facilitator and host offers a variety of ways to experience a Reiki circle by bringing their own creativity\, sensitivity and gifts from Reiki.  You are encouraged to enjoy a unique experience.  Participate in a language you do not speak and experience Reiki in a way that goes beyond the spoken word.  It is unique and special!   All events are listed in PDT. For your own time zone\, please check the World Clock Converter.
URL:https://reikihome.org/event/together-in-reiki-in-dutch-and-english-214/
CATEGORIES:Reiki Circles and Meditations
END:VEVENT
BEGIN:VEVENT
DTSTART;TZID=America/Los_Angeles:20260119T133000
DTEND;TZID=America/Los_Angeles:20260119T141500
DTSTAMP:20260423T202955
CREATED:20260101T174725Z
LAST-MODIFIED:20260101T174725Z
UID:10005290-1768829400-1768832100@reikihome.org
SUMMARY:The Path of Love and Reiki
DESCRIPTION:This circle begins with a simple somatic practice to become centered and fully present followed by a meditative practice using Reiki to empower our aspiration to be more open to Love in all its forms.  All events are listed in PDT. For your own time zone\, please check the World Clock Converter.
URL:https://reikihome.org/event/the-path-of-love-and-reiki-17/
CATEGORIES:Reiki Circles and Meditations
END:VEVENT
BEGIN:VEVENT
DTSTART;TZID=America/Los_Angeles:20260118T090000
DTEND;TZID=America/Los_Angeles:20260118T103000
DTSTAMP:20260423T202955
CREATED:20260101T181704Z
LAST-MODIFIED:20260101T181704Z
UID:10005301-1768726800-1768732200@reikihome.org
SUMMARY:Master's Story
DESCRIPTION:We are honored to invite you to an exclusive webinar with Krishna Kloers. Krishna’s relationship with Reiki has unfolded through steady\, sustained involvement in the international Reiki community for over 40 years. Based in Germany\, her path has been shaped not only by teaching and practice\, but by decades of participation in gatherings where Reiki has been spoken\, translated\, questioned\, clarified\, and lived together.
URL:https://reikihome.org/event/masters-story-3/
CATEGORIES:Webinar
END:VEVENT
BEGIN:VEVENT
DTSTART;TZID=America/Los_Angeles:20260115T090000
DTEND;TZID=America/Los_Angeles:20260115T100000
DTSTAMP:20260423T202955
CREATED:20260113T233318Z
LAST-MODIFIED:20260114T214931Z
UID:10005307-1768467600-1768471200@reikihome.org
SUMMARY:Together in Reiki in Dutch and English
DESCRIPTION:Together in Reiki circles create an opportunity to sit in a virtual circle.  Each facilitator and host offers a variety of ways to experience a Reiki circle by bringing their own creativity\, sensitivity and gifts from Reiki.  You are encouraged to enjoy a unique experience.  Participate in a language you do not speak and experience Reiki in a way that goes beyond the spoken word.  It is unique and special!   All events are listed in PDT. For your own time zone\, please check the World Clock Converter.
URL:https://reikihome.org/event/together-in-reiki-in-dutch-and-english-213/
CATEGORIES:Reiki Circles and Meditations
END:VEVENT
BEGIN:VEVENT
DTSTART;TZID=America/Los_Angeles:20260113T110000
DTEND;TZID=America/Los_Angeles:20260113T123000
DTSTAMP:20260423T202955
CREATED:20260101T181704Z
LAST-MODIFIED:20260101T181704Z
UID:10005300-1768302000-1768307400@reikihome.org
SUMMARY:Master's Story
DESCRIPTION:You won’t want to miss this webinar with John Latz\, a pioneer in the field of Reiki with over 40 years of experience. Having taught Reiki since 1983\, John has dedicated his life to preserving the integrity of Reiki’s lineage while integrating its profound energy into all aspects of his daily life.His journey has led him to explore a variety of transformative practices\, including meditation\, spiritual mediumship\, and Rolfing\, all of which have deepened his understanding of balance\, healing\, and bodywork.
URL:https://reikihome.org/event/masters-story-2/
CATEGORIES:Webinar
END:VEVENT
BEGIN:VEVENT
DTSTART;TZID=America/Los_Angeles:20260113T100000
DTEND;TZID=America/Los_Angeles:20260113T110000
DTSTAMP:20260423T202955
CREATED:20260114T214928Z
LAST-MODIFIED:20260114T214928Z
UID:10005343-1768298400-1768302000@reikihome.org
SUMMARY:Together in Reiki in Romanian
DESCRIPTION:Together in Reiki circles create an opportunity to sit in a virtual circle.  Each facilitator and host offers a variety of ways to experience a Reiki circle by bringing their own creativity\, sensitivity and gifts from Reiki.  You are encouraged to enjoy a unique experience.  Participate in a language you do not speak and experience Reiki in a way that goes beyond the spoken word.  It is unique and special!   All events are listed in PST. For your own time zone\, please check the World Clock Converter.
URL:https://reikihome.org/event/together-in-reiki-in-romanian-41/
CATEGORIES:Reiki Circles and Meditations
END:VEVENT
BEGIN:VEVENT
DTSTART;TZID=America/Los_Angeles:20260113T000000
DTEND;TZID=America/Los_Angeles:20260113T000000
DTSTAMP:20260423T202955
CREATED:20251111T195728Z
LAST-MODIFIED:20251111T195728Z
UID:10005282-1768262400-1768262400@reikihome.org
SUMMARY:Open Heart and Reiki Circle
DESCRIPTION:Send reiki\, light and love at whatever time on those dates using whatever method that works best for you (i.e. self-session\, meditation\, connect with spirit from home with everyone who participates in the circle\, a shamanic ritual\, or join Hilde in an offline\, silent meditation from 6-8 pm CET (9-11 am PDT). Topics for Open Heart and Reiki Circle:  Send reiki\, love and light for the highest good of all\, and to (1) all inhabitants of the Earth for healing and reconciliation; (2) to everyone’s potential to create world peace; and (3) to support the planet’s ascension process.
URL:https://reikihome.org/event/open-heart-and-reiki-circle-91/
CATEGORIES:Reiki Circles and Meditations
END:VEVENT
BEGIN:VEVENT
DTSTART;TZID=America/Los_Angeles:20260112T133000
DTEND;TZID=America/Los_Angeles:20260112T141500
DTSTAMP:20260423T202955
CREATED:20260101T174724Z
LAST-MODIFIED:20260101T174724Z
UID:10005289-1768224600-1768227300@reikihome.org
SUMMARY:The Path of Love and Reiki
DESCRIPTION:This circle begins with a simple somatic practice to become centered and fully present followed by a meditative practice using Reiki to empower our aspiration to be more open to Love in all its forms.  All events are listed in PDT. For your own time zone\, please check the World Clock Converter.
URL:https://reikihome.org/event/the-path-of-love-and-reiki-16/
CATEGORIES:Reiki Circles and Meditations
END:VEVENT
BEGIN:VEVENT
DTSTART;TZID=America/Los_Angeles:20260111T080000
DTEND;TZID=America/Los_Angeles:20260111T093000
DTSTAMP:20260423T202955
CREATED:20260101T181703Z
LAST-MODIFIED:20260101T181703Z
UID:10005299-1768118400-1768123800@reikihome.org
SUMMARY:Master's Story
DESCRIPTION:We are thrilled to invite you to enjoy an amazing webinar with Inger Droog. Inger belongs to the early generation of Reiki Masters who helped shape the practice outside Japan during its formative years in the West. Her path unfolded at a time when Reiki was still quietly finding its way\, guided by trust and an unwavering willingness to follow where Reiki led.
URL:https://reikihome.org/event/masters-story/
CATEGORIES:Webinar
END:VEVENT
BEGIN:VEVENT
DTSTART;TZID=America/Los_Angeles:20260109T180000
DTEND;TZID=America/Los_Angeles:20260109T190000
DTSTAMP:20260423T202955
CREATED:20251111T193416Z
LAST-MODIFIED:20251111T193416Z
UID:10005248-1767981600-1767985200@reikihome.org
SUMMARY:Mindful Meditation and Reiki
DESCRIPTION:The group begins with mindful meditation to experience relaxation techniques.  The meditation includes progressive body relaxation and mindful breathing to relax the mind and body.  We then progress to Reiki with descriptions of hand positions and the anticipated benefit from each position from the top of the head to the bottom on the feet.   ll events are listed in PDT. For your own time zone\, please check the World Clock Converter.
URL:https://reikihome.org/event/mindful-meditation-and-reiki-20/
CATEGORIES:Reiki Circles and Meditations
END:VEVENT
BEGIN:VEVENT
DTSTART;TZID=America/Los_Angeles:20260107T080000
DTEND;TZID=America/Los_Angeles:20260107T093000
DTSTAMP:20260423T202955
CREATED:20260101T181702Z
LAST-MODIFIED:20260101T181702Z
UID:10005298-1767772800-1767778200@reikihome.org
SUMMARY:Do Spirituality and Reiki Energy Vibrate as One
DESCRIPTION:Join us for another thought-provoking webinar exploring the deep and often personal relationship between Reiki\, spirituality\, and universal energy. This second webinar of the series continues to weave a richer tapestry of understanding for us.
URL:https://reikihome.org/event/do-spirituality-and-reiki-energy-vibrate-as-one/
CATEGORIES:Webinar
END:VEVENT
BEGIN:VEVENT
DTSTART;TZID=America/Los_Angeles:20260105T133000
DTEND;TZID=America/Los_Angeles:20260105T141500
DTSTAMP:20260423T202955
CREATED:20260101T174723Z
LAST-MODIFIED:20260101T174723Z
UID:10005288-1767619800-1767622500@reikihome.org
SUMMARY:The Path of Love and Reiki
DESCRIPTION:This circle begins with a simple somatic practice to become centered and fully present followed by a meditative practice using Reiki to empower our aspiration to be more open to Love in all its forms.  All events are listed in PDT. For your own time zone\, please check the World Clock Converter.
URL:https://reikihome.org/event/the-path-of-love-and-reiki-15/
CATEGORIES:Reiki Circles and Meditations
END:VEVENT
BEGIN:VEVENT
DTSTART;TZID=America/Los_Angeles:20251229T133000
DTEND;TZID=America/Los_Angeles:20251229T143000
DTSTAMP:20260423T202955
CREATED:20250909T180643Z
LAST-MODIFIED:20250909T220057Z
UID:10005148-1767015000-1767018600@reikihome.org
SUMMARY:The Path of Love and Reiki
DESCRIPTION:This circle begins with a simple somatic practice to become centered and fully present followed by a meditative practice using Reiki to empower our aspiration to be more opento Love in all its forms.  All events are listed in PST. For your own time zone\, please check the World Clock Converter.
URL:https://reikihome.org/event/the-path-of-love-and-reiki-12/
CATEGORIES:Reiki Circles and Meditations
END:VEVENT
BEGIN:VEVENT
DTSTART;TZID=America/Los_Angeles:20251226T080000
DTEND;TZID=America/Los_Angeles:20251226T210000
DTSTAMP:20260423T202955
CREATED:20250909T180648Z
LAST-MODIFIED:20250909T220100Z
UID:10005151-1766736000-1766782800@reikihome.org
SUMMARY:Inspired Guidance
DESCRIPTION:From a place of quiet and deep silence\, we are guided by the words shared as Frank opens himself to the guidance from the universe.  All events are listed in PST. For your own time zone\, please check the World Clock Converter.
URL:https://reikihome.org/event/inspired-guidance-146/
CATEGORIES:Reiki Circles and Meditations
END:VEVENT
BEGIN:VEVENT
DTSTART;TZID=America/Los_Angeles:20251223T090000
DTEND;TZID=America/Los_Angeles:20251223T110000
DTSTAMP:20260423T202955
CREATED:20251023T220800Z
LAST-MODIFIED:20251104T030708Z
UID:10005227-1766480400-1766487600@reikihome.org
SUMMARY:Open Heart and Reiki Circle
DESCRIPTION:Send reiki\, light and love at whatever time on those dates using whatever method that works best for you (i.e. self-session\, meditation\, connect with spirit from home with everyone who participates in the circle\, a shamanic ritual\, or join Hilde in an offline\, silent meditation from 6-8 pm CET (9-11 am PDT). Topics for Open Heart and Reiki Circle: Send reiki\, love and light for the highest good of all\, and to (1) all inhabitants of the Earth for healing and reconciliation; (2) to everyone’s potential to create world peace; and (3) to support the planet’s ascension process.
URL:https://reikihome.org/event/open-heart-and-reiki-circle-90/
CATEGORIES:Reiki Circles and Meditations
END:VEVENT
BEGIN:VEVENT
DTSTART;TZID=America/Los_Angeles:20251222T133000
DTEND;TZID=America/Los_Angeles:20251222T143000
DTSTAMP:20260423T202955
CREATED:20250909T180642Z
LAST-MODIFIED:20250909T220055Z
UID:10005147-1766410200-1766413800@reikihome.org
SUMMARY:The Path of Love and Reiki
DESCRIPTION:This circle begins with a simple somatic practice to become centered and fully present followed by a meditative practice using Reiki to empower our aspiration to be more opento Love in all its forms.  All events are listed in PST. For your own time zone\, please check the World Clock Converter.
URL:https://reikihome.org/event/the-path-of-love-and-reiki-11/
CATEGORIES:Reiki Circles and Meditations
END:VEVENT
BEGIN:VEVENT
DTSTART;TZID=PST:20251221T070000
DTEND;TZID=PST:20251221T110000
DTSTAMP:20260423T202955
CREATED:20251103T225702Z
LAST-MODIFIED:20251103T225702Z
UID:10005246-1766300400-1766314800@reikihome.org
SUMMARY:Healing Your Family Tree and Money
DESCRIPTION:The aim of this class is to look at money in relationship to your family tree and your Reiki family tree. How are you rooted in money and in which money systems? What convictions about money come from your family tree\, and which events have led to these convictions? And how is money rooted in your Reiki family tree? Are there any similarities between both family trees? We explore these questions and you will receive tools to start a healing process of six weeks.
URL:https://reikihome.org/event/healing-your-family-tree-and-money-7/
CATEGORIES:Online class
END:VEVENT
BEGIN:VEVENT
DTSTART;TZID=America/Los_Angeles:20251219T180000
DTEND;TZID=America/Los_Angeles:20251219T190000
DTSTAMP:20260423T202955
CREATED:20250908T202928Z
LAST-MODIFIED:20250909T215941Z
UID:10005091-1766167200-1766170800@reikihome.org
SUMMARY:Mindful Meditation and Reiki
DESCRIPTION:The group begins with mindful meditation to experience relaxation techniques.  The meditation includes progressive body relaxation and mindful breathing to relax the mind and body.  We then progress to Reiki with descriptions of hand positions and the anticipated benefit from each position from the top of the head to the bottom on the feet.   All events are listed in PST. For your own time zone\, please check the World Clock Converter.
URL:https://reikihome.org/event/mindful-meditation-and-reiki-19/
CATEGORIES:Reiki Circles and Meditations
END:VEVENT
BEGIN:VEVENT
DTSTART;TZID=America/Los_Angeles:20251218T090000
DTEND;TZID=America/Los_Angeles:20251218T100000
DTSTAMP:20260423T202955
CREATED:20250909T220025Z
LAST-MODIFIED:20250909T220025Z
UID:10005192-1766048400-1766052000@reikihome.org
SUMMARY:Together in Reiki in Dutch and English
DESCRIPTION:Together in Reiki circles create an opportunity to sit in a virtual circle.  Each facilitator and host offers a variety of ways to experience a Reiki circle by bringing their own creativity\, sensitivity and gifts from Reiki.  You are encouraged to enjoy a unique experience.  Participate in a language you do not speak and experience Reiki in a way that goes beyond the spoken word.  It is unique and special!   All events are listed in PST. For your own time zone\, please check the World Clock Converter.
URL:https://reikihome.org/event/together-in-reiki-in-dutch-and-english-208/
CATEGORIES:Reiki Circles and Meditations
END:VEVENT
END:VCALENDAR