BEGIN:VCALENDAR
VERSION:2.0
PRODID:-//Reiki Home - ECPv6.15.20//NONSGML v1.0//EN
CALSCALE:GREGORIAN
METHOD:PUBLISH
X-WR-CALNAME:Reiki Home
X-ORIGINAL-URL:https://reikihome.org
X-WR-CALDESC:Events for Reiki Home
REFRESH-INTERVAL;VALUE=DURATION:PT1H
X-Robots-Tag:noindex
X-PUBLISHED-TTL:PT1H
BEGIN:VTIMEZONE
TZID:America/Los_Angeles
BEGIN:DAYLIGHT
TZOFFSETFROM:-0800
TZOFFSETTO:-0700
TZNAME:PDT
DTSTART:20240310T100000
END:DAYLIGHT
BEGIN:STANDARD
TZOFFSETFROM:-0700
TZOFFSETTO:-0800
TZNAME:PST
DTSTART:20241103T090000
END:STANDARD
BEGIN:DAYLIGHT
TZOFFSETFROM:-0800
TZOFFSETTO:-0700
TZNAME:PDT
DTSTART:20250309T100000
END:DAYLIGHT
BEGIN:STANDARD
TZOFFSETFROM:-0700
TZOFFSETTO:-0800
TZNAME:PST
DTSTART:20251102T090000
END:STANDARD
BEGIN:DAYLIGHT
TZOFFSETFROM:-0800
TZOFFSETTO:-0700
TZNAME:PDT
DTSTART:20260308T100000
END:DAYLIGHT
BEGIN:STANDARD
TZOFFSETFROM:-0700
TZOFFSETTO:-0800
TZNAME:PST
DTSTART:20261101T090000
END:STANDARD
END:VTIMEZONE
BEGIN:VTIMEZONE
TZID:Africa/Abidjan
BEGIN:STANDARD
TZOFFSETFROM:+0000
TZOFFSETTO:+0000
TZNAME:GMT
DTSTART:20240101T000000
END:STANDARD
END:VTIMEZONE
BEGIN:VTIMEZONE
TZID:PST
END:VTIMEZONE
BEGIN:VTIMEZONE
TZID:America/Phoenix
BEGIN:STANDARD
TZOFFSETFROM:-0700
TZOFFSETTO:-0700
TZNAME:MST
DTSTART:20240101T000000
END:STANDARD
END:VTIMEZONE
BEGIN:VEVENT
DTSTART;TZID=America/Los_Angeles:20251203T093000
DTEND;TZID=America/Los_Angeles:20251203T103000
DTSTAMP:20260423T215515
CREATED:20250910T050237Z
LAST-MODIFIED:20250910T050237Z
UID:10005207-1764754200-1764757800@reikihome.org
SUMMARY:Together in Reiki - Earthsong
DESCRIPTION:Together in Reiki circles create an opportunity to sit in a virtual circle.  Each facilitator and host offers a variety of ways to experience a Reiki circle by bringing their own creativity\, sensitivity and gifts from Reiki.  You are encouraged to enjoy a unique experience.  Participate in a language you do not speak and experience Reiki in a way that goes beyond the spoken word.  It is unique and special!   All events are listed in PST. For your own time zone\, please check the World Clock Converter.
URL:https://reikihome.org/event/together-in-reiki-earthsong-78/
CATEGORIES:Reiki Circles and Meditations
END:VEVENT
BEGIN:VEVENT
DTSTART;TZID=Africa/Abidjan:20251203T080000
DTEND;TZID=Africa/Abidjan:20251203T093000
DTSTAMP:20260423T215515
CREATED:20250808T152031Z
LAST-MODIFIED:20250831T011744Z
UID:10004709-1764748800-1764754200@reikihome.org
SUMMARY:Does Spirituality and Reiki Energy Vibrate s One  #2
DESCRIPTION:Engaged Conversation Series: Does Spirituality and Reiki Energy Vibrate as One? With Brigid Ruden. \nJoin us for a thought-provoking three-part webinar series exploring the deep and often personal relationship between Reiki\, spirituality\, and universal energy. Each session stands alone while weaving together into a richer tapestry of understanding. \nPart 2: Spirituality and Religion\nHow do spirituality and religion intersect — or diverge — in the context of Reiki? This open conversation holds space for exploring Reiki’s place in diverse belief systems\, honoring the personal and the universal. We’ll look at Reiki as a spiritual path without dogma\, inviting questions and reflections from all traditions. \nFacilitator: Brigid Ruden\nDate: Dec 3\, 2025\nTime: 8 a.m. – 9:30 a.m. PDT/ Seattle (10am Central\, 11am EST\, 4pm UK) \nTiered Fee:\n$50 Abundance Fee\n$40 Sustainer Fee\n$30 Registration Fee \nRegister Here for Dec 3rd\, 2025 \nRecording Statement: Not Recorded. In order to create and provide a safe\, confidential space for Engaged Conversation participants to explore their inner path deeply with those sharing this journey\, the webinar will not be recorded nor available through Vimeo.
URL:https://reikihome.org/event/does-spirituality-and-reiki-energy-vibrate-s-one-2/
CATEGORIES:EC
END:VEVENT
BEGIN:VEVENT
DTSTART;TZID=PST:20251202T000000
DTEND;TZID=PST:20251202T235500
DTSTAMP:20260423T215515
CREATED:20251103T225700Z
LAST-MODIFIED:20251103T225700Z
UID:10005244-1764633600-1764719700@reikihome.org
SUMMARY:Giving Tuesday
DESCRIPTION:At its core\, Giving Tuesday is about radical generosity—a reminder that each of us has something valuable to offer. Whether it’s time\, money\, a listening ear\, or a helping hand\, it all makes a difference. This year\, our goal is ambitious yet filled with love: Raise $10\,000 to expand the rich legacy of Reiki Campus\, our online educational offerings that deepen our experience and knowledge of Reiki\, the way it works and how we can serve our communities by deepening our understanding of this timeless healing art. \nThis year\, our goal is ambitious yet filled with love: Raise $10\,000 to expand the rich legacy of Reiki Campus\, our online educational offerings that deepen our experience and knowledge of Reiki\, the way it works and how we can serve our communities by deepening our understanding of this timeless healing art. \nTogether\, we can empower individuals to expand their knowledge and extend healing to their communities with greater wisdom and care. We’d love for you to be a part of this special day.
URL:https://reikihome.org/event/giving-tuesday/
CATEGORIES:Fundraising Event
END:VEVENT
BEGIN:VEVENT
DTSTART;TZID=PST:20251130T100000
DTEND;TZID=PST:20251130T120000
DTSTAMP:20260423T215515
CREATED:20251103T225658Z
LAST-MODIFIED:20251103T225658Z
UID:10005242-1764496800-1764504000@reikihome.org
SUMMARY:Grief and Loss Collide with the Holidays - Part 1
DESCRIPTION:This two-hour interactive two-session workshop explores the types of grief that participants are experiencing and how that complicates the prospect of “celebrating” holidays when we are not feeling celebratory. \nThe focus is on loving ourselves where we are and experiencing the holidays in a way that honors what is true for us at this time.
URL:https://reikihome.org/event/grief-and-loss-collide-with-the-holidays-part-1/
CATEGORIES:Personal Development
END:VEVENT
BEGIN:VEVENT
DTSTART;TZID=America/Los_Angeles:20251127T090000
DTEND;TZID=America/Los_Angeles:20251127T100000
DTSTAMP:20260423T215515
CREATED:20250909T220019Z
LAST-MODIFIED:20250909T220019Z
UID:10005190-1764234000-1764237600@reikihome.org
SUMMARY:Together in Reiki in Dutch and English
DESCRIPTION:Together in Reiki circles create an opportunity to sit in a virtual circle.  Each facilitator and host offers a variety of ways to experience a Reiki circle by bringing their own creativity\, sensitivity and gifts from Reiki.  You are encouraged to enjoy a unique experience.  Participate in a language you do not speak and experience Reiki in a way that goes beyond the spoken word.  It is unique and special!   All events are listed in PST. For your own time zone\, please check the World Clock Converter.
URL:https://reikihome.org/event/together-in-reiki-in-dutch-and-english-206/
CATEGORIES:Reiki Circles and Meditations
END:VEVENT
BEGIN:VEVENT
DTSTART;TZID=America/Los_Angeles:20251125T090000
DTEND;TZID=America/Los_Angeles:20251125T110000
DTSTAMP:20260423T215515
CREATED:20251023T220754Z
LAST-MODIFIED:20251104T030418Z
UID:10005225-1764061200-1764068400@reikihome.org
SUMMARY:Open Heart and Reiki Circle
DESCRIPTION:Send reiki\, light and love at whatever time on those dates using whatever method that works best for you (i.e. self-session\, meditation\, connect with spirit from home with everyone who participates in the circle\, a shamanic ritual\, or join Hilde in an offline\, silent meditation from 6-8 pm CET (9-11 am PDT). Topics for Open Heart and Reiki Circle: Send reiki\, love and light for the highest good of all\, and to (1) all inhabitants of the Earth for healing and reconciliation; (2) to everyone’s potential to create world peace; and (3) to support the planet’s ascension process.
URL:https://reikihome.org/event/open-heart-and-reiki-circle-88/
CATEGORIES:Reiki Circles and Meditations
END:VEVENT
BEGIN:VEVENT
DTSTART;TZID=America/Phoenix:20251123T070000
DTEND;TZID=America/Phoenix:20251123T070000
DTSTAMP:20260423T215515
CREATED:20251103T225221Z
LAST-MODIFIED:20251103T225223Z
UID:10005229-1763881200-1763881200@reikihome.org
SUMMARY:Healing Your Family Tree and Money
DESCRIPTION:
URL:https://reikihome.org/event/healing-your-family-tree-and-money-3/
CATEGORIES:https://www.flipcause.com/secure/cause_pdetails/MjM1NDYw
END:VEVENT
BEGIN:VEVENT
DTSTART;TZID=PST:20251122T090000
DTEND;TZID=PST:20251122T103000
DTSTAMP:20260423T215515
CREATED:20251103T225654Z
LAST-MODIFIED:20251103T225654Z
UID:10005241-1763802000-1763807400@reikihome.org
SUMMARY:Glimpses of a Better World
DESCRIPTION:This book was born during a time of deep personal and global crisis. Inspired by the spiritual legacy of Phyllis Furumoto\, Dima Satori gathered her quotes from open resources and invited Reiki artists from around the world to bring them to life through art. The result is a unique collection where words and images create a shared space of healing and inspiration. It is through artwork that transforms the quotes into living images\, created by the hearts and hands of Reiki artists that inspire. \nJoin us as participants connect with Phyllis’ voice and wisdom. Reiki-Artists\, Svitlana Skrrpnik (Dnipr\, Ukraine) and Tatiana Poliakova (Moscow\, Russian) share their experiences with creating art based upon the quote. The result of the book is a unique collection where words and images create a shared place of healing and inspiration. \nRita Zlotnikov will provide translation into English and Jolanda Van Herk offers support and will help promote the book. \nAll participants will receive a discount to purchase the book.
URL:https://reikihome.org/event/glimpses-of-a-better-world-2/
CATEGORIES:Webinar
END:VEVENT
BEGIN:VEVENT
DTSTART;TZID=America/Los_Angeles:20251121T180000
DTEND;TZID=America/Los_Angeles:20251121T190000
DTSTAMP:20260423T215515
CREATED:20250908T202923Z
LAST-MODIFIED:20250909T215937Z
UID:10005088-1763748000-1763751600@reikihome.org
SUMMARY:Mindful Meditation and Reiki
DESCRIPTION:The group begins with mindful meditation to experience relaxation techniques.  The meditation includes progressive body relaxation and mindful breathing to relax the mind and body.  We then progress to Reiki with descriptions of hand positions and the anticipated benefit from each position from the top of the head to the bottom on the feet.   All events are listed in PST. For your own time zone\, please check the World Clock Converter.
URL:https://reikihome.org/event/mindful-meditation-and-reiki-16/
CATEGORIES:Reiki Circles and Meditations
END:VEVENT
BEGIN:VEVENT
DTSTART;TZID=America/Los_Angeles:20251121T080000
DTEND;TZID=America/Los_Angeles:20251121T210000
DTSTAMP:20260423T215515
CREATED:20250909T180646Z
LAST-MODIFIED:20250909T220059Z
UID:10005150-1763712000-1763758800@reikihome.org
SUMMARY:Inspired Guidance
DESCRIPTION:From a place of quiet and deep silence\, we are guided by the words shared as Frank opens himself to the guidance from the universe.  All events are listed in PST. For your own time zone\, please check the World Clock Converter.
URL:https://reikihome.org/event/inspired-guidance-145/
CATEGORIES:Reiki Circles and Meditations
END:VEVENT
BEGIN:VEVENT
DTSTART;TZID=America/Los_Angeles:20251120T090000
DTEND;TZID=America/Los_Angeles:20251120T100000
DTSTAMP:20260423T215515
CREATED:20250909T220018Z
LAST-MODIFIED:20250909T220018Z
UID:10005189-1763629200-1763632800@reikihome.org
SUMMARY:Together in Reiki in Dutch and English
DESCRIPTION:Together in Reiki circles create an opportunity to sit in a virtual circle.  Each facilitator and host offers a variety of ways to experience a Reiki circle by bringing their own creativity\, sensitivity and gifts from Reiki.  You are encouraged to enjoy a unique experience.  Participate in a language you do not speak and experience Reiki in a way that goes beyond the spoken word.  It is unique and special!   All events are listed in PST. For your own time zone\, please check the World Clock Converter.
URL:https://reikihome.org/event/together-in-reiki-in-dutch-and-english-205/
CATEGORIES:Reiki Circles and Meditations
END:VEVENT
BEGIN:VEVENT
DTSTART;TZID=America/Los_Angeles:20251119T093000
DTEND;TZID=America/Los_Angeles:20251119T103000
DTSTAMP:20260423T215515
CREATED:20250910T050236Z
LAST-MODIFIED:20250910T050236Z
UID:10005206-1763544600-1763548200@reikihome.org
SUMMARY:Together in Reiki - Earthsong
DESCRIPTION:Together in Reiki circles create an opportunity to sit in a virtual circle.  Each facilitator and host offers a variety of ways to experience a Reiki circle by bringing their own creativity\, sensitivity and gifts from Reiki.  You are encouraged to enjoy a unique experience.  Participate in a language you do not speak and experience Reiki in a way that goes beyond the spoken word.  It is unique and special!   All events are listed in PST. For your own time zone\, please check the World Clock Converter.
URL:https://reikihome.org/event/together-in-reiki-earthsong-77/
CATEGORIES:Reiki Circles and Meditations
END:VEVENT
BEGIN:VEVENT
DTSTART;TZID=America/Los_Angeles:20251114T180000
DTEND;TZID=America/Los_Angeles:20251114T190000
DTSTAMP:20260423T215515
CREATED:20250908T202922Z
LAST-MODIFIED:20250909T215936Z
UID:10005087-1763143200-1763146800@reikihome.org
SUMMARY:Mindful Meditation and Reiki
DESCRIPTION:The group begins with mindful meditation to experience relaxation techniques.  The meditation includes progressive body relaxation and mindful breathing to relax the mind and body.  We then progress to Reiki with descriptions of hand positions and the anticipated benefit from each position from the top of the head to the bottom on the feet.   All events are listed in PST. For your own time zone\, please check the World Clock Converter.
URL:https://reikihome.org/event/mindful-meditation-and-reiki-15/
CATEGORIES:Reiki Circles and Meditations
END:VEVENT
BEGIN:VEVENT
DTSTART;TZID=America/Los_Angeles:20251113T090000
DTEND;TZID=America/Los_Angeles:20251113T100000
DTSTAMP:20260423T215515
CREATED:20250909T220016Z
LAST-MODIFIED:20250909T220016Z
UID:10005188-1763024400-1763028000@reikihome.org
SUMMARY:Together in Reiki in Dutch and English
DESCRIPTION:Together in Reiki circles create an opportunity to sit in a virtual circle.  Each facilitator and host offers a variety of ways to experience a Reiki circle by bringing their own creativity\, sensitivity and gifts from Reiki.  You are encouraged to enjoy a unique experience.  Participate in a language you do not speak and experience Reiki in a way that goes beyond the spoken word.  It is unique and special!   All events are listed in PST. For your own time zone\, please check the World Clock Converter.
URL:https://reikihome.org/event/together-in-reiki-in-dutch-and-english-204/
CATEGORIES:Reiki Circles and Meditations
END:VEVENT
BEGIN:VEVENT
DTSTART;TZID=America/Los_Angeles:20251111T100000
DTEND;TZID=America/Los_Angeles:20251111T110000
DTSTAMP:20260423T215515
CREATED:20250909T220028Z
LAST-MODIFIED:20251026T032957Z
UID:10005194-1762855200-1762858800@reikihome.org
SUMMARY:Together in Reiki in Romanian
DESCRIPTION:Together in Reiki circles create an opportunity to sit in a virtual circle. Each facilitator and host offers a variety of ways to experience a Reiki circle by bringing their own creativity\, sensitivity and gifts from Reiki. You are encouraged to enjoy a unique experience. Participate in a language you do not speak and experience Reiki in a way that goes beyond the spoken word. It is unique and special! All events are listed in PST. For your own time zone\, please check the World Clock Converter.
URL:https://reikihome.org/event/together-in-reiki-in-romanian-40/
CATEGORIES:Reiki Circles and Meditations
END:VEVENT
BEGIN:VEVENT
DTSTART;TZID=America/Los_Angeles:20251111T000000
DTEND;TZID=America/Los_Angeles:20251111T000000
DTSTAMP:20260423T215515
CREATED:20251023T220753Z
LAST-MODIFIED:20251023T220753Z
UID:10005224-1762819200-1762819200@reikihome.org
SUMMARY:Open Heart and Reiki Circle
DESCRIPTION:Send reiki\, light and love at whatever time on those dates using whatever method that works best for you (i.e. self-session\, meditation\, connect with spirit from home with everyone who participates in the circle\, a shamanic ritual\, or join Hilde in an offline\, silent meditation from 6-8 pm CET (9-11 am PDT). Topics for Open Heart and Reiki Circle:  Send reiki\, love and light for the highest good of all\, and to (1) all inhabitants of the Earth for healing and reconciliation; (2) to everyone’s potential to create world peace; and (3) to support the planet’s ascension process.
URL:https://reikihome.org/event/open-heart-and-reiki-circle-87/
CATEGORIES:Reiki Circles and Meditations
END:VEVENT
BEGIN:VEVENT
DTSTART;TZID=America/Los_Angeles:20251110T120000
DTEND;TZID=America/Los_Angeles:20251110T130000
DTSTAMP:20260423T215515
CREATED:20250910T053825Z
LAST-MODIFIED:20250910T053825Z
UID:10005219-1762776000-1762779600@reikihome.org
SUMMARY:Peace Upon the Blue Earth/Che scenda la Pace sulla terra
DESCRIPTION:The Earth needs peace now. We can do something. We can heal the Earth with Reiki now and create reconciliation and peace for all the inhabitants upon the Earth and within our heart. We thank Marta Getty for her deep intuition of our necessities and for creating this practice.  Che scenda la Pace sulla terra.  La terra ha bisogno di pace\, ora. E noi possiamo fare qualcosa. Possiamo guarire con Reiki ora e rendere possibile la riconciliazione e la pace per tutti gli abitanti sulla terra e nel nostro cuore. Ringraziamo Marta Getty per la sua profonda intuizione delle nostre necessità e per aver creato questa particolare pratica.  All events are listed in PST. For your own time zone\, please check the World Clock Converter.
URL:https://reikihome.org/event/peace-upon-the-blue-earth-che-scenda-la-pace-sulla-terra-36/
CATEGORIES:Reiki Circles and Meditations
END:VEVENT
BEGIN:VEVENT
DTSTART;TZID=Africa/Abidjan:20251109T070000
DTEND;TZID=Africa/Abidjan:20251109T130000
DTSTAMP:20260423T215515
CREATED:20251103T225653Z
LAST-MODIFIED:20251104T030122Z
UID:10005240-1762671600-1762693200@reikihome.org
SUMMARY:Healing Your Family Tree and Money
DESCRIPTION:The aim of this class is to look at money in relationship to your family tree and your Reiki family tree. How are you rooted in money and in which money systems? What convictions about money come from your family tree\, and which events have led to these convictions? And how is money rooted in your Reiki family tree? Are there any similarities between both family trees? We explore these questions and you will receive tools to start a healing process of six weeks.
URL:https://reikihome.org/event/healing-your-family-tree-and-money-6/
CATEGORIES:Online class
END:VEVENT
BEGIN:VEVENT
DTSTART;TZID=Africa/Abidjan:20251108T070000
DTEND;TZID=Africa/Abidjan:20251108T130000
DTSTAMP:20260423T215515
CREATED:20251103T225652Z
LAST-MODIFIED:20251104T025812Z
UID:10005239-1762585200-1762606800@reikihome.org
SUMMARY:Healing Your Family Tree and Money
DESCRIPTION:The aim of this class is to look at money in relationship to your family tree and your Reiki family tree. How are you rooted in money and in which money systems? What convictions about money come from your family tree\, and which events have led to these convictions? And how is money rooted in your Reiki family tree? Are there any similarities between both family trees? We explore these questions and you will receive tools to start a healing process of six weeks.
URL:https://reikihome.org/event/healing-your-family-tree-and-money-5/
CATEGORIES:Online class
END:VEVENT
BEGIN:VEVENT
DTSTART;TZID=America/Los_Angeles:20251107T180000
DTEND;TZID=America/Los_Angeles:20251107T190000
DTSTAMP:20260423T215515
CREATED:20250908T202917Z
LAST-MODIFIED:20250909T215932Z
UID:10005086-1762538400-1762542000@reikihome.org
SUMMARY:Mindful Meditation and Reiki
DESCRIPTION:The group begins with mindful meditation to experience relaxation techniques.  The meditation includes progressive body relaxation and mindful breathing to relax the mind and body.  We then progress to Reiki with descriptions of hand positions and the anticipated benefit from each position from the top of the head to the bottom on the feet.  All events are listed in PST. For your own time zone\, please check the World Clock Converter.
URL:https://reikihome.org/event/mindful-meditation-and-reiki-14/
CATEGORIES:Reiki Circles and Meditations
END:VEVENT
BEGIN:VEVENT
DTSTART;TZID=Africa/Abidjan:20251107T070000
DTEND;TZID=Africa/Abidjan:20251107T130000
DTSTAMP:20260423T215515
CREATED:20251103T225651Z
LAST-MODIFIED:20251104T025654Z
UID:10005238-1762498800-1762520400@reikihome.org
SUMMARY:Healing Your Family Tree and Money
DESCRIPTION:The aim of this class is to look at money in relationship to your family tree and your Reiki family tree. How are you rooted in money and in which money systems? What convictions about money come from your family tree\, and which events have led to these convictions? And how is money rooted in your Reiki family tree? Are there any similarities between both family trees? We explore these questions and you will receive tools to start a healing process of six weeks.
URL:https://reikihome.org/event/healing-your-family-tree-and-money-4/
CATEGORIES:Online class
END:VEVENT
BEGIN:VEVENT
DTSTART;TZID=America/Los_Angeles:20251106T090000
DTEND;TZID=America/Los_Angeles:20251106T100000
DTSTAMP:20260423T215515
CREATED:20250909T220014Z
LAST-MODIFIED:20250909T220014Z
UID:10005187-1762419600-1762423200@reikihome.org
SUMMARY:Together in Reiki in Dutch and English
DESCRIPTION:Together in Reiki circles create an opportunity to sit in a virtual circle.  Each facilitator and host offers a variety of ways to experience a Reiki circle by bringing their own creativity\, sensitivity and gifts from Reiki.  You are encouraged to enjoy a unique experience.  Participate in a language you do not speak and experience Reiki in a way that goes beyond the spoken word.  It is unique and special!   All events are listed in PST. For your own time zone\, please check the World Clock Converter.
URL:https://reikihome.org/event/together-in-reiki-in-dutch-and-english-203/
CATEGORIES:Reiki Circles and Meditations
END:VEVENT
BEGIN:VEVENT
DTSTART;TZID=America/Los_Angeles:20251105T093000
DTEND;TZID=America/Los_Angeles:20251105T103000
DTSTAMP:20260423T215515
CREATED:20250910T050234Z
LAST-MODIFIED:20250910T050234Z
UID:10005205-1762335000-1762338600@reikihome.org
SUMMARY:Together in Reiki - Earthsong
DESCRIPTION:Together in Reiki circles create an opportunity to sit in a virtual circle.  Each facilitator and host offers a variety of ways to experience a Reiki circle by bringing their own creativity\, sensitivity and gifts from Reiki.  You are encouraged to enjoy a unique experience.  Participate in a language you do not speak and experience Reiki in a way that goes beyond the spoken word.  It is unique and special!   All events are listed in PST. For your own time zone\, please check the World Clock Converter.
URL:https://reikihome.org/event/together-in-reiki-earthsong-76/
CATEGORIES:Reiki Circles and Meditations
END:VEVENT
BEGIN:VEVENT
DTSTART;TZID=America/Los_Angeles:20251030T090000
DTEND;TZID=America/Los_Angeles:20251030T100000
DTSTAMP:20260423T215515
CREATED:20250910T050249Z
LAST-MODIFIED:20250910T050249Z
UID:10005212-1761814800-1761818400@reikihome.org
SUMMARY:Together in Reiki in Dutch and English
DESCRIPTION:Together in Reiki circles create an opportunity to sit in a virtual circle.  Each facilitator and host offers a variety of ways to experience a Reiki circle by bringing their own creativity\, sensitivity and gifts from Reiki.  You are encouraged to enjoy a unique experience.  Participate in a language you do not speak and experience Reiki in a way that goes beyond the spoken word.  It is unique and special!   All events are listed in PDT. For your own time zone\, please check the World Clock Converter.
URL:https://reikihome.org/event/together-in-reiki-in-dutch-and-english-212/
CATEGORIES:Reiki Circles and Meditations
END:VEVENT
BEGIN:VEVENT
DTSTART;TZID=America/Los_Angeles:20251028T000000
DTEND;TZID=America/Los_Angeles:20251028T000000
DTSTAMP:20260423T215515
CREATED:20251023T220751Z
LAST-MODIFIED:20251023T220751Z
UID:10005223-1761609600-1761609600@reikihome.org
SUMMARY:Open Heart and Reiki Circle
DESCRIPTION:Send reiki\, light and love at whatever time on those dates using whatever method that works best for you (i.e. self-session\, meditation\, connect with spirit from home with everyone who participates in the circle\, a shamanic ritual\, or join Hilde in an offline\, silent meditation from 6-8 pm CET (9-11 am PDT). Topics for Open Heart and Reiki Circle:  Send reiki\, love and light for the highest good of all\, and to (1) all inhabitants of the Earth for healing and reconciliation; (2) to everyone’s potential to create world peace; and (3) to support the planet’s ascension process.
URL:https://reikihome.org/event/open-heart-and-reiki-circle-86/
CATEGORIES:Reiki Circles and Meditations
END:VEVENT
BEGIN:VEVENT
DTSTART;TZID=America/Los_Angeles:20251024T180000
DTEND;TZID=America/Los_Angeles:20251024T190000
DTSTAMP:20260423T215515
CREATED:20250908T202916Z
LAST-MODIFIED:20250909T215931Z
UID:10005085-1761328800-1761332400@reikihome.org
SUMMARY:Mindful Meditation and Reiki
DESCRIPTION:The group begins with mindful meditation to experience relaxation techniques.  The meditation includes progressive body relaxation and mindful breathing to relax the mind and body.  We then progress to Reiki with descriptions of hand positions and the anticipated benefit from each position from the top of the head to the bottom on the feet.   All events are listed in PDT. For your own time zone\, please check the World Clock Converter.
URL:https://reikihome.org/event/mindful-meditation-and-reiki-13/
CATEGORIES:Reiki Circles and Meditations
END:VEVENT
BEGIN:VEVENT
DTSTART;TZID=America/Los_Angeles:20251024T080000
DTEND;TZID=America/Los_Angeles:20251024T210000
DTSTAMP:20260423T215515
CREATED:20250909T180645Z
LAST-MODIFIED:20250909T220058Z
UID:10005149-1761292800-1761339600@reikihome.org
SUMMARY:Inspired Guidance
DESCRIPTION:From a place of quiet and deep silence\, we are guided by the words shared as Frank opens himself to the guidance from the universe.  All events are listed in PDT. For your own time zone\, please check the World Clock Converter.
URL:https://reikihome.org/event/inspired-guidance-144/
CATEGORIES:Reiki Circles and Meditations
END:VEVENT
BEGIN:VEVENT
DTSTART;TZID=America/Los_Angeles:20251017T180000
DTEND;TZID=America/Los_Angeles:20251017T190000
DTSTAMP:20260423T215515
CREATED:20250908T202914Z
LAST-MODIFIED:20250909T215930Z
UID:10005084-1760724000-1760727600@reikihome.org
SUMMARY:Mindful Meditation and Reiki
DESCRIPTION:The group begins with mindful meditation to experience relaxation techniques.  The meditation includes progressive body relaxation and mindful breathing to relax the mind and body.  We then progress to Reiki with descriptions of hand positions and the anticipated benefit from each position from the top of the head to the bottom on the feet.   All events are listed in PDT. For your own time zone\, please check the World Clock Converter.
URL:https://reikihome.org/event/mindful-meditation-and-reiki-12/
CATEGORIES:Reiki Circles and Meditations
END:VEVENT
BEGIN:VEVENT
DTSTART;TZID=America/Los_Angeles:20251016T090000
DTEND;TZID=America/Los_Angeles:20251016T100000
DTSTAMP:20260423T215515
CREATED:20250910T050247Z
LAST-MODIFIED:20250910T050247Z
UID:10005211-1760605200-1760608800@reikihome.org
SUMMARY:Together in Reiki in Dutch and English
DESCRIPTION:Together in Reiki circles create an opportunity to sit in a virtual circle.  Each facilitator and host offers a variety of ways to experience a Reiki circle by bringing their own creativity\, sensitivity and gifts from Reiki.  You are encouraged to enjoy a unique experience.  Participate in a language you do not speak and experience Reiki in a way that goes beyond the spoken word.  It is unique and special!   All events are listed in PDT. For your own time zone\, please check the World Clock Converter.
URL:https://reikihome.org/event/together-in-reiki-in-dutch-and-english-211/
CATEGORIES:Reiki Circles and Meditations
END:VEVENT
BEGIN:VEVENT
DTSTART;TZID=America/Los_Angeles:20251015T093000
DTEND;TZID=America/Los_Angeles:20251015T103000
DTSTAMP:20260423T215515
CREATED:20250910T050233Z
LAST-MODIFIED:20250910T050233Z
UID:10005204-1760520600-1760524200@reikihome.org
SUMMARY:Together in Reiki - Earthsong
DESCRIPTION:Together in Reiki circles create an opportunity to sit in a virtual circle.  Each facilitator and host offers a variety of ways to experience a Reiki circle by bringing their own creativity\, sensitivity and gifts from Reiki.  You are encouraged to enjoy a unique experience.  Participate in a language you do not speak and experience Reiki in a way that goes beyond the spoken word.  It is unique and special!   All events are listed in PDT. For your own time zone\, please check the World Clock Converter.
URL:https://reikihome.org/event/together-in-reiki-earthsong-75/
CATEGORIES:Reiki Circles and Meditations
END:VEVENT
END:VCALENDAR