BEGIN:VCALENDAR
VERSION:2.0
PRODID:-//Reiki Home - ECPv6.15.20//NONSGML v1.0//EN
CALSCALE:GREGORIAN
METHOD:PUBLISH
X-WR-CALNAME:Reiki Home
X-ORIGINAL-URL:https://reikihome.org
X-WR-CALDESC:Events for Reiki Home
REFRESH-INTERVAL;VALUE=DURATION:PT1H
X-Robots-Tag:noindex
X-PUBLISHED-TTL:PT1H
BEGIN:VTIMEZONE
TZID:America/Phoenix
BEGIN:STANDARD
TZOFFSETFROM:-0700
TZOFFSETTO:-0700
TZNAME:MST
DTSTART:20240101T000000
END:STANDARD
END:VTIMEZONE
BEGIN:VTIMEZONE
TZID:America/Los_Angeles
BEGIN:DAYLIGHT
TZOFFSETFROM:-0800
TZOFFSETTO:-0700
TZNAME:PDT
DTSTART:20240310T100000
END:DAYLIGHT
BEGIN:STANDARD
TZOFFSETFROM:-0700
TZOFFSETTO:-0800
TZNAME:PST
DTSTART:20241103T090000
END:STANDARD
BEGIN:DAYLIGHT
TZOFFSETFROM:-0800
TZOFFSETTO:-0700
TZNAME:PDT
DTSTART:20250309T100000
END:DAYLIGHT
BEGIN:STANDARD
TZOFFSETFROM:-0700
TZOFFSETTO:-0800
TZNAME:PST
DTSTART:20251102T090000
END:STANDARD
BEGIN:DAYLIGHT
TZOFFSETFROM:-0800
TZOFFSETTO:-0700
TZNAME:PDT
DTSTART:20260308T100000
END:DAYLIGHT
BEGIN:STANDARD
TZOFFSETFROM:-0700
TZOFFSETTO:-0800
TZNAME:PST
DTSTART:20261101T090000
END:STANDARD
END:VTIMEZONE
BEGIN:VEVENT
DTSTART;TZID=America/Phoenix:20250405T000000
DTEND;TZID=America/Phoenix:20250405T000000
DTSTAMP:20260425T211604
CREATED:20250328T001615Z
LAST-MODIFIED:20250328T001615Z
UID:10004603-1743811200-1743811200@reikihome.org
SUMMARY:Together in Reiki - 21 Days of Reiki Meditation (offline)
DESCRIPTION:We sit in Reiki: We sit in Peace.  We come together envisioning a global community of love\, light and healing where all people are loved\, appreciated and accepted for who they are.  We send blessings and healing energy to Mother Earth and to all of her inhabitants.  Now is the time for each of us to assist in creating a new world – one of peace\, love\, abundance\, acceptance and joy.  Join with others around the world during this 21 Days of Reiki Meditation in sending healing\, loving energy out into the world and to all of its’ people to help transform ourselves and our plant.  Sit in Reiki at a time that works best for you as you join others in sending Reiki for:  1) world peace;  2) climate change;  3) healing energy between nations\, healing energy to the governments and leaders in the world;  and 4) opening to an expanded consciousness of Love.
URL:https://reikihome.org/event/together-in-reiki-21-days-of-reiki-meditation-offline-2/
END:VEVENT
BEGIN:VEVENT
DTSTART;TZID=America/Phoenix:20250404T000000
DTEND;TZID=America/Phoenix:20250404T000000
DTSTAMP:20260425T211604
CREATED:20250328T001614Z
LAST-MODIFIED:20250328T001614Z
UID:10004602-1743724800-1743724800@reikihome.org
SUMMARY:Together in Reiki - 21 Days of Reiki Meditation (offline)
DESCRIPTION:We sit in Reiki: We sit in Peace.  We come together envisioning a global community of love\, light and healing where all people are loved\, appreciated and accepted for who they are.  We send blessings and healing energy to Mother Earth and to all of her inhabitants.  Now is the time for each of us to assist in creating a new world – one of peace\, love\, abundance\, acceptance and joy.  Join with others around the world during this 21 Days of Reiki Meditation in sending healing\, loving energy out into the world and to all of its’ people to help transform ourselves and our plant.  Sit in Reiki at a time that works best for you as you join others in sending Reiki for:  1) world peace;  2) climate change;  3) healing energy between nations\, healing energy to the governments and leaders in the world;  and 4) opening to an expanded consciousness of Love.
URL:https://reikihome.org/event/together-in-reiki-21-days-of-reiki-meditation-offline/
END:VEVENT
BEGIN:VEVENT
DTSTART;TZID=America/Los_Angeles:20250403T090000
DTEND;TZID=America/Los_Angeles:20250403T100000
DTSTAMP:20260425T211604
CREATED:20250319T195352Z
LAST-MODIFIED:20250319T195449Z
UID:10004564-1743670800-1743674400@reikihome.org
SUMMARY:Together in Reiki in Dutch and English - 21 Days of Reiki Meditation
DESCRIPTION:Together in Reiki circles create an opportunity to sit in a virtual circle.  Each facilitator and host offers a variety of ways to experience a Reiki circle by bringing their own creativity\, sensitivity and gifts from Reiki.  You are encouraged to enjoy a unique experience.  Participate in a language you do not speak and experience Reiki in a way that goes beyond the spoken word.  It is unique and special!   All events are listed in PDT. For your own time zone\, please check the World Clock Converter.
URL:https://reikihome.org/event/together-in-reiki-in-dutch-and-english-21-days-of-reiki-meditation/
CATEGORIES:Reiki Circles and Meditations
END:VEVENT
BEGIN:VEVENT
DTSTART;TZID=America/Los_Angeles:20250402T093000
DTEND;TZID=America/Los_Angeles:20250402T103000
DTSTAMP:20260425T211604
CREATED:20250319T195349Z
LAST-MODIFIED:20250319T195444Z
UID:10004562-1743586200-1743589800@reikihome.org
SUMMARY:Together in Reiki - Earthsong - 21 Days of Reiki Meditation
DESCRIPTION:Together in Reiki circles create an opportunity to sit in a virtual circle.  Each facilitator and host offers a variety of ways to experience a Reiki circle by bringing their own creativity\, sensitivity and gifts from Reiki.  You are encouraged to enjoy a unique experience.  Participate in a language you do not speak and experience Reiki in a way that goes beyond the spoken word.  It is unique and special!   All events are listed in PDT. For your own time zone\, please check the World Clock Converter.
URL:https://reikihome.org/event/together-in-reiki-earthsong-21-days-of-reiki-meditation/
CATEGORIES:Reiki Circles and Meditations
END:VEVENT
BEGIN:VEVENT
DTSTART;VALUE=DATE:20250325
DTEND;VALUE=DATE:20250326
DTSTAMP:20260425T211604
CREATED:20241212T004838Z
LAST-MODIFIED:20241212T005244Z
UID:10004543-1742860800-1742947199@reikihome.org
SUMMARY:Open Heart and Reiki Circle
DESCRIPTION:Send reiki\, light and love at whatever time on those dates using wh tever method that works best for you (i.e. self-session\, meditation\, connect with spirit from home with everyone who participates in the circle\, a shamanic ritual\, or join Hilde in an offline\, silent meditation from 6-8 pm CET (9-11 am PDT). Topics for Open Heart and Reiki Circle: Send reiki\, love and light for the highest good of all\, and to (1) all inhabitants of the Earth for healing and reconciliation; (2) to everyone’s potential to create world peace; and (3) to support the planet’s ascension process.
URL:https://reikihome.org/event/open-heart-and-reiki-circle-69/
CATEGORIES:Reiki Circles and Meditations
END:VEVENT
BEGIN:VEVENT
DTSTART;TZID=America/Los_Angeles:20250321T080000
DTEND;TZID=America/Los_Angeles:20250321T090000
DTSTAMP:20260425T211604
CREATED:20250118T233747Z
LAST-MODIFIED:20250118T233747Z
UID:10004553-1742544000-1742547600@reikihome.org
SUMMARY:Inspired Guidance
DESCRIPTION:From a place of quiet and deep silence\, we are guided by the words shared as Frank opens himself to the guidance from the universe.  All events are listed in PDT. For your own time zone\, please check the World Clock Converter.
URL:https://reikihome.org/event/inspired-guidance-140/
CATEGORIES:Reiki Circles and Meditations
END:VEVENT
BEGIN:VEVENT
DTSTART;TZID=America/Los_Angeles:20250318T093000
DTEND;TZID=America/Los_Angeles:20250318T103000
DTSTAMP:20260425T211604
CREATED:20260113T233316Z
LAST-MODIFIED:20260114T214930Z
UID:10005306-1742290200-1742293800@reikihome.org
SUMMARY:Together in Reiki - Earthsong
DESCRIPTION:Together in Reiki circles create an opportunity to sit in a virtual circle.  Each facilitator and host offers a variety of ways to experience a Reiki circle by bringing their own creativity\, sensitivity and gifts from Reiki.  You are encouraged to enjoy a unique experience.  Participate in a language you do not speak and experience Reiki in a way that goes beyond the spoken word.  It is unique and special!   All events are listed in PDT. For your own time zone\, please check the World Clock Converter.
URL:https://reikihome.org/event/together-in-reiki-earthsong-82/
CATEGORIES:Reiki Circles and Meditations
END:VEVENT
BEGIN:VEVENT
DTSTART;TZID=America/Los_Angeles:20250313T090000
DTEND;TZID=America/Los_Angeles:20250313T100000
DTSTAMP:20260425T211604
CREATED:20250118T233753Z
LAST-MODIFIED:20250118T233753Z
UID:10004557-1741856400-1741860000@reikihome.org
SUMMARY:Together in Reiki in Dutch and English
DESCRIPTION:Together in Reiki circles create an opportunity to sit in a virtual circle.  Each facilitator and host offers a variety of ways to experience a Reiki circle by bringing their own creativity\, sensitivity and gifts from Reiki.  You are encouraged to enjoy a unique experience.  Participate in a language you do not speak and experience Reiki in a way that goes beyond the spoken word.  It is unique and special!   All events are listed in PDT. For your own time zone\, please check the World Clock Converter.
URL:https://reikihome.org/event/together-in-reiki-in-dutch-and-english-186/
CATEGORIES:Reiki Circles and Meditations
END:VEVENT
BEGIN:VEVENT
DTSTART;TZID=America/Los_Angeles:20250312T093000
DTEND;TZID=America/Los_Angeles:20250312T103000
DTSTAMP:20260425T211604
CREATED:20250118T233750Z
LAST-MODIFIED:20250118T233750Z
UID:10004555-1741771800-1741775400@reikihome.org
SUMMARY:Together in Reiki - Earthsong
DESCRIPTION:Together in Reiki circles create an opportunity to sit in a virtual circle.  Each facilitator and host offers a variety of ways to experience a Reiki circle by bringing their own creativity\, sensitivity and gifts from Reiki.  You are encouraged to enjoy a unique experience.  Participate in a language you do not speak and experience Reiki in a way that goes beyond the spoken word.  It is unique and special!   All events are listed in PDT. For your own time zone\, please check the World Clock Converter.
URL:https://reikihome.org/event/together-in-reiki-earthsong-60/
CATEGORIES:Reiki Circles and Meditations
END:VEVENT
BEGIN:VEVENT
DTSTART;VALUE=DATE:20250311
DTEND;VALUE=DATE:20250312
DTSTAMP:20260425T211604
CREATED:20241212T004835Z
LAST-MODIFIED:20241212T005315Z
UID:10004542-1741651200-1741737599@reikihome.org
SUMMARY:Open Heart and Reiki Circle
DESCRIPTION:Send reiki\, light and love at whatever time on those dates using wh tever method that works best for you (i.e. self-session\, meditation\, connect with spirit from home with everyone who participates in the circle\, a shamanic ritual\, or join Hilde in an offline\, silent meditation from 6-8 pm CET (9-11 am PDT). Topics for Open Heart and Reiki Circle: Send reiki\, love and light for the highest good of all\, and to (1) all inhabitants of the Earth for healing and reconciliation; (2) to everyone’s potential to create world peace; and (3) to support the planet’s ascension process.
URL:https://reikihome.org/event/open-heart-and-reiki-circle-68/
CATEGORIES:Reiki Circles and Meditations
END:VEVENT
BEGIN:VEVENT
DTSTART;TZID=America/Los_Angeles:20250306T090000
DTEND;TZID=America/Los_Angeles:20250306T100000
DTSTAMP:20260425T211604
CREATED:20250118T233751Z
LAST-MODIFIED:20250118T233751Z
UID:10004556-1741251600-1741255200@reikihome.org
SUMMARY:Together in Reiki in Dutch and English
DESCRIPTION:Together in Reiki circles create an opportunity to sit in a virtual circle.  Each facilitator and host offers a variety of ways to experience a Reiki circle by bringing their own creativity\, sensitivity and gifts from Reiki.  You are encouraged to enjoy a unique experience.  Participate in a language you do not speak and experience Reiki in a way that goes beyond the spoken word.  It is unique and special!   All events are listed in PST. For your own time zone\, please check the World Clock Converter.
URL:https://reikihome.org/event/together-in-reiki-in-dutch-and-english-185/
CATEGORIES:Reiki Circles and Meditations
END:VEVENT
BEGIN:VEVENT
DTSTART;TZID=America/Los_Angeles:20250305T093000
DTEND;TZID=America/Los_Angeles:20250305T103000
DTSTAMP:20260425T211604
CREATED:20250118T233749Z
LAST-MODIFIED:20250118T233749Z
UID:10004554-1741167000-1741170600@reikihome.org
SUMMARY:Together in Reiki - Earthsong
DESCRIPTION:Together in Reiki circles create an opportunity to sit in a virtual circle.  Each facilitator and host offers a variety of ways to experience a Reiki circle by bringing their own creativity\, sensitivity and gifts from Reiki.  You are encouraged to enjoy a unique experience.  Participate in a language you do not speak and experience Reiki in a way that goes beyond the spoken word.  It is unique and special!   All events are listed in PST. For your own time zone\, please check the World Clock Converter.
URL:https://reikihome.org/event/together-in-reiki-earthsong-59/
CATEGORIES:Reiki Circles and Meditations
END:VEVENT
BEGIN:VEVENT
DTSTART;TZID=America/Los_Angeles:20250228T080000
DTEND;TZID=America/Los_Angeles:20250228T090000
DTSTAMP:20260425T211604
CREATED:20250102T001830Z
LAST-MODIFIED:20250102T001830Z
UID:10004544-1740729600-1740733200@reikihome.org
SUMMARY:Inspired Guidance
DESCRIPTION:From a place of quiet and deep silence\, we are guided by the words shared as Frank opens himself to the guidance from the universe.  All events are listed in PST. For your own time zone\, please check the World Clock Converter.
URL:https://reikihome.org/event/inspired-guidance-139/
CATEGORIES:Reiki Circles and Meditations
END:VEVENT
BEGIN:VEVENT
DTSTART;TZID=America/Los_Angeles:20250227T090000
DTEND;TZID=America/Los_Angeles:20250227T100000
DTSTAMP:20260425T211604
CREATED:20250102T001841Z
LAST-MODIFIED:20250102T001841Z
UID:10004550-1740646800-1740650400@reikihome.org
SUMMARY:Together in Reiki in Dutch and English
DESCRIPTION:Together in Reiki circles create an opportunity to sit in a virtual circle.  Each facilitator and host offers a variety of ways to experience a Reiki circle by bringing their own creativity\, sensitivity and gifts from Reiki.  You are encouraged to enjoy a unique experience.  Participate in a language you do not speak and experience Reiki in a way that goes beyond the spoken word.  It is unique and special!   All events are listed in PST. For your own time zone\, please check the World Clock Converter.
URL:https://reikihome.org/event/together-in-reiki-in-dutch-and-english-184/
CATEGORIES:Reiki Circles and Meditations
END:VEVENT
BEGIN:VEVENT
DTSTART;VALUE=DATE:20250225
DTEND;VALUE=DATE:20250226
DTSTAMP:20260425T211604
CREATED:20241212T004834Z
LAST-MODIFIED:20241212T005112Z
UID:10004541-1740441600-1740527999@reikihome.org
SUMMARY:Open Heart and Reiki Circle
DESCRIPTION:Send reiki\, light and love at whatever time on those dates using wh tever method that works best for you (i.e. self-session\, meditation\, connect with spirit from home with everyone who participates in the circle\, a shamanic ritual\, or join Hilde in an offline\, silent meditation from 6-8 pm CET (9-11 am PST). Topics for Open Heart and Reiki Circle: Send reiki\, love and light for the highest good of all\, and to (1) all inhabitants of the Earth for healing and reconciliation; (2) to everyone’s potential to create world peace; and (3) to support the planet’s ascension process.
URL:https://reikihome.org/event/open-heart-and-reiki-circle-67/
CATEGORIES:Reiki Circles and Meditations
END:VEVENT
BEGIN:VEVENT
DTSTART;TZID=America/Los_Angeles:20250220T090000
DTEND;TZID=America/Los_Angeles:20250220T100000
DTSTAMP:20260425T211604
CREATED:20250102T001839Z
LAST-MODIFIED:20250102T001839Z
UID:10004549-1740042000-1740045600@reikihome.org
SUMMARY:Together in Reiki in Dutch and English
DESCRIPTION:Together in Reiki circles create an opportunity to sit in a virtual circle.  Each facilitator and host offers a variety of ways to experience a Reiki circle by bringing their own creativity\, sensitivity and gifts from Reiki.  You are encouraged to enjoy a unique experience.  Participate in a language you do not speak and experience Reiki in a way that goes beyond the spoken word.  It is unique and special!   All events are listed in PST. For your own time zone\, please check the World Clock Converter.
URL:https://reikihome.org/event/together-in-reiki-in-dutch-and-english-183/
CATEGORIES:Reiki Circles and Meditations
END:VEVENT
BEGIN:VEVENT
DTSTART;TZID=America/Los_Angeles:20250219T093000
DTEND;TZID=America/Los_Angeles:20250219T103000
DTSTAMP:20260425T211604
CREATED:20250102T001832Z
LAST-MODIFIED:20250102T001832Z
UID:10004546-1739957400-1739961000@reikihome.org
SUMMARY:Together in Reiki - Earthsong
DESCRIPTION:Together in Reiki circles create an opportunity to sit in a virtual circle.  Each facilitator and host offers a variety of ways to experience a Reiki circle by bringing their own creativity\, sensitivity and gifts from Reiki.  You are encouraged to enjoy a unique experience.  Participate in a language you do not speak and experience Reiki in a way that goes beyond the spoken word.  It is unique and special!   All events are listed in PST. For your own time zone\, please check the World Clock Converter.
URL:https://reikihome.org/event/together-in-reiki-earthsong-58/
CATEGORIES:Reiki Circles and Meditations
END:VEVENT
BEGIN:VEVENT
DTSTART;TZID=America/Los_Angeles:20250213T090000
DTEND;TZID=America/Los_Angeles:20250213T100000
DTSTAMP:20260425T211604
CREATED:20250102T001838Z
LAST-MODIFIED:20250102T001838Z
UID:10004548-1739437200-1739440800@reikihome.org
SUMMARY:Together in Reiki in Dutch and English
DESCRIPTION:Together in Reiki circles create an opportunity to sit in a virtual circle.  Each facilitator and host offers a variety of ways to experience a Reiki circle by bringing their own creativity\, sensitivity and gifts from Reiki.  You are encouraged to enjoy a unique experience.  Participate in a language you do not speak and experience Reiki in a way that goes beyond the spoken word.  It is unique and special!   All events are listed in PST. For your own time zone\, please check the World Clock Converter.
URL:https://reikihome.org/event/together-in-reiki-in-dutch-and-english-182/
CATEGORIES:Reiki Circles and Meditations
END:VEVENT
BEGIN:VEVENT
DTSTART;TZID=America/Los_Angeles:20250211T100000
DTEND;TZID=America/Los_Angeles:20250211T110000
DTSTAMP:20260425T211604
CREATED:20250102T001842Z
LAST-MODIFIED:20250102T001842Z
UID:10004551-1739268000-1739271600@reikihome.org
SUMMARY:Together in Reiki in Romanian
DESCRIPTION:Together in Reiki circles create an opportunity to sit in a virtual circle.  Each facilitator and host offers a variety of ways to experience a Reiki circle by bringing their own creativity\, sensitivity and gifts from Reiki.  You are encouraged to enjoy a unique experience.  Participate in a language you do not speak and experience Reiki in a way that goes beyond the spoken word.  It is unique and special!   All events are listed in PST. For your own time zone\, please check the World Clock Converter.
URL:https://reikihome.org/event/together-in-reiki-in-romanian-35/
CATEGORIES:Reiki Circles and Meditations
END:VEVENT
BEGIN:VEVENT
DTSTART;VALUE=DATE:20250211
DTEND;VALUE=DATE:20250212
DTSTAMP:20260425T211604
CREATED:20241212T004833Z
LAST-MODIFIED:20241212T005430Z
UID:10004540-1739232000-1739318399@reikihome.org
SUMMARY:Open Heart and Reiki Circle
DESCRIPTION:Send reiki\, light and love at whatever time on those dates using wh tever method that works best for you (i.e. self-session\, meditation\, connect with spirit from home with everyone who participates in the circle\, a shamanic ritual\, or join Hilde in an offline\, silent meditation from 6-8 pm CET (9-11 am PST). Topics for Open Heart and Reiki Circle: Send reiki\, love and light for the highest good of all\, and to (1) all inhabitants of the Earth for healing and reconciliation; (2) to everyone’s potential to create world peace; and (3) to support the planet’s ascension process.
URL:https://reikihome.org/event/open-heart-and-reiki-circle-66/
CATEGORIES:Reiki Circles and Meditations
END:VEVENT
BEGIN:VEVENT
DTSTART;TZID=America/Los_Angeles:20250210T120000
DTEND;TZID=America/Los_Angeles:20250210T130000
DTSTAMP:20260425T211604
CREATED:20250102T001843Z
LAST-MODIFIED:20250102T001843Z
UID:10004552-1739188800-1739192400@reikihome.org
SUMMARY:Peace Upon the Blue Earth/Che scenda la Pace sulla terra
DESCRIPTION:The Earth needs peace now. We can do something. We can heal the Earth with Reiki now and create reconciliation and peace for all the inhabitants upon the Earth and within our heart. We thank Marta Getty for her deep intuition of our necessities and for creating this practice.  Che scenda la Pace sulla terra.  La terra ha bisogno di pace\, ora. E noi possiamo fare qualcosa. Possiamo guarire con Reiki ora e rendere possibile la riconciliazione e la pace per tutti gli abitanti sulla terra e nel nostro cuore. Ringraziamo Marta Getty per la sua profonda intuizione delle nostre necessità e per aver creato questa particolare pratica.  All events are listed in PST. For your own time zone\, please check the World Clock Converter.
URL:https://reikihome.org/event/peace-upon-the-blue-earth-che-scenda-la-pace-sulla-terra-28/
CATEGORIES:Reiki Circles and Meditations
END:VEVENT
BEGIN:VEVENT
DTSTART;TZID=America/Los_Angeles:20250206T090000
DTEND;TZID=America/Los_Angeles:20250206T100000
DTSTAMP:20260425T211604
CREATED:20250102T001833Z
LAST-MODIFIED:20250102T001833Z
UID:10004547-1738832400-1738836000@reikihome.org
SUMMARY:Together in Reiki in Dutch and English
DESCRIPTION:Together in Reiki circles create an opportunity to sit in a virtual circle.  Each facilitator and host offers a variety of ways to experience a Reiki circle by bringing their own creativity\, sensitivity and gifts from Reiki.  You are encouraged to enjoy a unique experience.  Participate in a language you do not speak and experience Reiki in a way that goes beyond the spoken word.  It is unique and special!   All events are listed in PST. For your own time zone\, please check the World Clock Converter.
URL:https://reikihome.org/event/together-in-reiki-in-dutch-and-english-181/
CATEGORIES:Reiki Circles and Meditations
END:VEVENT
BEGIN:VEVENT
DTSTART;TZID=America/Los_Angeles:20250205T093000
DTEND;TZID=America/Los_Angeles:20250205T103000
DTSTAMP:20260425T211604
CREATED:20250102T001831Z
LAST-MODIFIED:20250102T001831Z
UID:10004545-1738747800-1738751400@reikihome.org
SUMMARY:Together in Reiki - Earthsong
DESCRIPTION:Together in Reiki circles create an opportunity to sit in a virtual circle.  Each facilitator and host offers a variety of ways to experience a Reiki circle by bringing their own creativity\, sensitivity and gifts from Reiki.  You are encouraged to enjoy a unique experience.  Participate in a language you do not speak and experience Reiki in a way that goes beyond the spoken word.  It is unique and special!   All events are listed in PST. For your own time zone\, please check the World Clock Converter.
URL:https://reikihome.org/event/together-in-reiki-earthsong-57/
CATEGORIES:Reiki Circles and Meditations
END:VEVENT
BEGIN:VEVENT
DTSTART;TZID=America/Los_Angeles:20250130T090000
DTEND;TZID=America/Los_Angeles:20250130T100000
DTSTAMP:20260425T211604
CREATED:20241212T003712Z
LAST-MODIFIED:20241212T003712Z
UID:10004535-1738227600-1738231200@reikihome.org
SUMMARY:Together in Reiki in Dutch and English
DESCRIPTION:
URL:https://reikihome.org/event/together-in-reiki-in-dutch-and-english-180/
CATEGORIES:https://us06web.zoom.us/j/84809873978?pwd=VWFHblBrQ3JrS1JEd0EzUTBmdFJTQT09 meeting ID: 848 0987 3978 Passcode: 723633
END:VEVENT
BEGIN:VEVENT
DTSTART;VALUE=DATE:20250128
DTEND;VALUE=DATE:20250129
DTSTAMP:20260425T211604
CREATED:20241212T004832Z
LAST-MODIFIED:20241212T005516Z
UID:10004539-1738022400-1738108799@reikihome.org
SUMMARY:Open Heart and Reiki Circle
DESCRIPTION:Send reiki\, light and love at whatever time on those dates using wh tever method that works best for you (i.e. self-session\, meditation\, connect with spirit from home with everyone who participates in the circle\, a shamanic ritual\, or join Hilde in an offline\, silent meditation from 6-8 pm CET (9-11 am PST). Topics for Open Heart and Reiki Circle: Send reiki\, love and light for the highest good of all\, and to (1) all inhabitants of the Earth for healing and reconciliation; (2) to everyone’s potential to create world peace; and (3) to support the planet’s ascension process.
URL:https://reikihome.org/event/open-heart-and-reiki-circle-65/
CATEGORIES:Reiki Circles and Meditations
END:VEVENT
BEGIN:VEVENT
DTSTART;TZID=America/Los_Angeles:20250123T090000
DTEND;TZID=America/Los_Angeles:20250123T100000
DTSTAMP:20260425T211604
CREATED:20241212T003711Z
LAST-MODIFIED:20241212T003711Z
UID:10004534-1737622800-1737626400@reikihome.org
SUMMARY:Together in Reiki in Dutch and English
DESCRIPTION:
URL:https://reikihome.org/event/together-in-reiki-in-dutch-and-english-179/
CATEGORIES:https://us06web.zoom.us/j/84809873978?pwd=VWFHblBrQ3JrS1JEd0EzUTBmdFJTQT09 meeting ID: 848 0987 3978 Passcode: 723633
END:VEVENT
BEGIN:VEVENT
DTSTART;TZID=America/Los_Angeles:20250116T090000
DTEND;TZID=America/Los_Angeles:20250116T100000
DTSTAMP:20260425T211604
CREATED:20241212T003707Z
LAST-MODIFIED:20241212T003707Z
UID:10004533-1737018000-1737021600@reikihome.org
SUMMARY:Together in Reiki in Dutch and English
DESCRIPTION:
URL:https://reikihome.org/event/together-in-reiki-in-dutch-and-english-178/
CATEGORIES:https://us06web.zoom.us/j/84809873978?pwd=VWFHblBrQ3JrS1JEd0EzUTBmdFJTQT09 meeting ID: 848 0987 3978 Passcode: 723633
END:VEVENT
BEGIN:VEVENT
DTSTART;TZID=America/Los_Angeles:20250115T093000
DTEND;TZID=America/Los_Angeles:20250115T103000
DTSTAMP:20260425T211604
CREATED:20241212T003705Z
LAST-MODIFIED:20241212T003705Z
UID:10004531-1736933400-1736937000@reikihome.org
SUMMARY:Together in Reiki - Earthsong
DESCRIPTION:
URL:https://reikihome.org/event/together-in-reiki-earthsong-56/
CATEGORIES:https://us06web.zoom.us/j/84809873978?pwd=VWFHblBrQ3JrS1JEd0EzUTBmdFJTQT09 meeting ID: 848 0987 3978 Passcode: 723633
END:VEVENT
BEGIN:VEVENT
DTSTART;TZID=America/Los_Angeles:20250114T100000
DTEND;TZID=America/Los_Angeles:20250114T110000
DTSTAMP:20260425T211604
CREATED:20241212T003713Z
LAST-MODIFIED:20241212T003713Z
UID:10004536-1736848800-1736852400@reikihome.org
SUMMARY:Together in Reiki in Romanian
DESCRIPTION:
URL:https://reikihome.org/event/together-in-reiki-in-romanian-34/
CATEGORIES:https://us06web.zoom.us/j/84809873978?pwd=VWFHblBrQ3JrS1JEd0EzUTBmdFJTQT09 meeting ID: 848 0987 3978 Passcode: 723633
END:VEVENT
BEGIN:VEVENT
DTSTART;VALUE=DATE:20250114
DTEND;VALUE=DATE:20250115
DTSTAMP:20260425T211604
CREATED:20241212T004831Z
LAST-MODIFIED:20241212T005549Z
UID:10004538-1736812800-1736899199@reikihome.org
SUMMARY:Open Heart and Reiki Circle
DESCRIPTION:Send reiki\, light and love at whatever time on those dates using wh tever method that works best for you (i.e. self-session\, meditation\, connect with spirit from home with everyone who participates in the circle\, a shamanic ritual\, or join Hilde in an offline\, silent meditation from 6-8 pm CET (9-11 am PST). Topics for Open Heart and Reiki Circle: Send reiki\, love and light for the highest good of all\, and to (1) all inhabitants of the Earth for healing and reconciliation; (2) to everyone’s potential to create world peace; and (3) to support the planet’s ascension process.
URL:https://reikihome.org/event/open-heart-and-reiki-circle-64/
CATEGORIES:Reiki Circles and Meditations
END:VEVENT
END:VCALENDAR