BEGIN:VCALENDAR
VERSION:2.0
PRODID:-//Reiki Home - ECPv6.15.20//NONSGML v1.0//EN
CALSCALE:GREGORIAN
METHOD:PUBLISH
X-WR-CALNAME:Reiki Home
X-ORIGINAL-URL:https://reikihome.org
X-WR-CALDESC:Events for Reiki Home
REFRESH-INTERVAL;VALUE=DURATION:PT1H
X-Robots-Tag:noindex
X-PUBLISHED-TTL:PT1H
BEGIN:VTIMEZONE
TZID:Africa/Abidjan
BEGIN:STANDARD
TZOFFSETFROM:+0000
TZOFFSETTO:+0000
TZNAME:GMT
DTSTART:20190101T000000
END:STANDARD
END:VTIMEZONE
BEGIN:VEVENT
DTSTART;TZID=Africa/Abidjan:20200605T080000
DTEND;TZID=Africa/Abidjan:20200605T090000
DTSTAMP:20260425T141902
CREATED:20200601T135306Z
LAST-MODIFIED:20200601T140210Z
UID:10000604-1591344000-1591347600@reikihome.org
SUMMARY:Together in Reiki Circle
DESCRIPTION:Together in Reiki circles create an opportunity to sit in a virtual circle.  \nAll events are listed in PDT (America/Los Angeles). For your own time zone\, please check the World Clock Converter https://www.timeanddate.com/worldclock/converter-classic.html
URL:https://reikihome.org/event/together-in-reiki-circle-86/
CATEGORIES:Together in Reiki Circle
END:VEVENT
BEGIN:VEVENT
DTSTART;TZID=Africa/Abidjan:20200603T080000
DTEND;TZID=Africa/Abidjan:20200603T090000
DTSTAMP:20260425T141902
CREATED:20200601T135305Z
LAST-MODIFIED:20200601T140004Z
UID:10000603-1591171200-1591174800@reikihome.org
SUMMARY:Together in Reiki Circle
DESCRIPTION:Together in Reiki circles create an opportunity to sit in a virtual circle.  \nAll events are listed in PDT (America/Los Angeles). For your own time zone\, please check the World Clock Converter https://www.timeanddate.com/worldclock/converter-classic.html
URL:https://reikihome.org/event/together-in-reiki-circle-85/
CATEGORIES:Together in Reiki Circle
END:VEVENT
END:VCALENDAR