BEGIN:VCALENDAR
VERSION:2.0
PRODID:-//Reiki Home - ECPv6.15.20//NONSGML v1.0//EN
CALSCALE:GREGORIAN
METHOD:PUBLISH
X-ORIGINAL-URL:https://reikihome.org
X-WR-CALDESC:Events for Reiki Home
REFRESH-INTERVAL;VALUE=DURATION:PT1H
X-Robots-Tag:noindex
X-PUBLISHED-TTL:PT1H
BEGIN:VTIMEZONE
TZID:America/Phoenix
BEGIN:STANDARD
TZOFFSETFROM:-0700
TZOFFSETTO:-0700
TZNAME:MST
DTSTART:20230101T000000
END:STANDARD
END:VTIMEZONE
BEGIN:VEVENT
DTSTART;TZID=America/Phoenix:20240127T090000
DTEND;TZID=America/Phoenix:20240127T100000
DTSTAMP:20260425T170200
CREATED:20231231T230224Z
LAST-MODIFIED:20240105T171627Z
UID:10004224-1706346000-1706349600@reikihome.org
SUMMARY:What do the symbols point out within the system of Reiki:
DESCRIPTION:In the traditional Japanese system of Reiki there are 4 symbols\, 3 in Okuden Reiki II and 1 in Shinpiden Reiki III. Why are they there and how do you work with them? No matter what we do or practice with we always have to know why we use it and how to use it\, if we understand that in the right way we will get so much more out of these practices. This webcast will be interpreted.
URL:https://reikihome.org/event/what-do-the-symbols-point-out-within-the-system-of-reiki/
END:VEVENT
END:VCALENDAR