BEGIN:VCALENDAR
VERSION:2.0
PRODID:-//Reiki Home - ECPv6.15.20//NONSGML v1.0//EN
CALSCALE:GREGORIAN
METHOD:PUBLISH
X-WR-CALNAME:Reiki Home
X-ORIGINAL-URL:https://reikihome.org
X-WR-CALDESC:Events for Reiki Home
REFRESH-INTERVAL;VALUE=DURATION:PT1H
X-Robots-Tag:noindex
X-PUBLISHED-TTL:PT1H
BEGIN:VTIMEZONE
TZID:America/Los_Angeles
BEGIN:DAYLIGHT
TZOFFSETFROM:-0800
TZOFFSETTO:-0700
TZNAME:PDT
DTSTART:20230312T100000
END:DAYLIGHT
BEGIN:STANDARD
TZOFFSETFROM:-0700
TZOFFSETTO:-0800
TZNAME:PST
DTSTART:20231105T090000
END:STANDARD
BEGIN:DAYLIGHT
TZOFFSETFROM:-0800
TZOFFSETTO:-0700
TZNAME:PDT
DTSTART:20240310T100000
END:DAYLIGHT
BEGIN:STANDARD
TZOFFSETFROM:-0700
TZOFFSETTO:-0800
TZNAME:PST
DTSTART:20241103T090000
END:STANDARD
BEGIN:DAYLIGHT
TZOFFSETFROM:-0800
TZOFFSETTO:-0700
TZNAME:PDT
DTSTART:20250309T100000
END:DAYLIGHT
BEGIN:STANDARD
TZOFFSETFROM:-0700
TZOFFSETTO:-0800
TZNAME:PST
DTSTART:20251102T090000
END:STANDARD
END:VTIMEZONE
BEGIN:VTIMEZONE
TZID:America/Phoenix
BEGIN:STANDARD
TZOFFSETFROM:-0700
TZOFFSETTO:-0700
TZNAME:MST
DTSTART:20220101T000000
END:STANDARD
END:VTIMEZONE
BEGIN:VEVENT
DTSTART;TZID=America/Los_Angeles:20241127T093000
DTEND;TZID=America/Los_Angeles:20241127T103000
DTSTAMP:20260425T112602
CREATED:20241117T221349Z
LAST-MODIFIED:20241117T221349Z
UID:10004515-1732699800-1732703400@reikihome.org
SUMMARY:Reiki II Circle - Show Gratitude
DESCRIPTION:These circles offer an opportunity to send Reiki to each other and to topics/requests as the circle is interactive.  Our time together is as much about self-care to strengthen us as about sending distant Reiki to others – a way of showing gratitude to every living thing.  Each circles closes with a guided sending from Rick.  All events are listed in PST. For your own time zone\, please check the World Clock Converter.
URL:https://reikihome.org/event/reiki-ii-circle-show-gratitude-26/
CATEGORIES:Reiki Circles and Meditations
END:VEVENT
BEGIN:VEVENT
DTSTART;TZID=America/Phoenix:20241030T093000
DTEND;TZID=America/Phoenix:20241030T103000
DTSTAMP:20260425T112602
CREATED:20240907T213034Z
LAST-MODIFIED:20240907T213034Z
UID:10004503-1730280600-1730284200@reikihome.org
SUMMARY:Reiki II Circle - Show Gratitude
DESCRIPTION:These circles offer an opportunity to send Reiki to each other and to topics/requests as the circle is interactive.  Our time together is as much about self-care to strengthen us as about sending distant Reiki to others – a way of showing gratitude to every living thing.  Each circles closes with a guided sending from Rick.  All events are listed in PDT. For your own time zone\, please check the World Clock Converter.
URL:https://reikihome.org/event/reiki-ii-circle-show-gratitude-25/
CATEGORIES:Reiki Circles and Meditations
END:VEVENT
BEGIN:VEVENT
DTSTART;TZID=America/Phoenix:20240925T090000
DTEND;TZID=America/Phoenix:20240925T103000
DTSTAMP:20260425T112602
CREATED:20240709T132437Z
LAST-MODIFIED:20240709T132437Z
UID:10004479-1727254800-1727260200@reikihome.org
SUMMARY:Reiki II Circle - Show Gratitude
DESCRIPTION:These circles offer an opportunity to send Reiki to each other and to topics/requests as the circle is interactive.  Our time together is as much about self-care to strengthen us as about sending distant Reiki to others – a way of showing gratitude to every living thing.  Each circles closes with a guided sending from Rick.  All events are listed in PDT. For your own time zone\, please check the World Clock Converter. \nhttps://us06web.zoom.us/j/84809873978?pwd=VWFHblBrQ3JrS1JEd0EzUTBmdFJTQT09\nmeeting ID:  848 0987 3978   Passcode:  723633
URL:https://reikihome.org/event/reiki-ii-circle-show-gratitude-24/
CATEGORIES:Reiki Circles and Meditations
END:VEVENT
BEGIN:VEVENT
DTSTART;TZID=America/Phoenix:20240424T090000
DTEND;TZID=America/Phoenix:20240424T101500
DTSTAMP:20260425T112602
CREATED:20240319T212611Z
LAST-MODIFIED:20240319T212611Z
UID:10004396-1713949200-1713953700@reikihome.org
SUMMARY:Reiki 2 Circle - Showing Gratitude
DESCRIPTION:
URL:https://reikihome.org/event/reiki-2-circle-showing-gratitude-2/
CATEGORIES:Reiki Circle,Together in Reiki
END:VEVENT
BEGIN:VEVENT
DTSTART;TZID=America/Phoenix:20240410T090000
DTEND;TZID=America/Phoenix:20240410T101500
DTSTAMP:20260425T112602
CREATED:20240319T211305Z
LAST-MODIFIED:20240319T211305Z
UID:10004338-1712739600-1712744100@reikihome.org
SUMMARY:21-Day Meditation/Reiki II Circle - Show Gratitude
DESCRIPTION:
URL:https://reikihome.org/event/21-day-meditation-reiki-ii-circle-show-gratitude/
CATEGORIES:21-Day Meditation,Reiki Circle
END:VEVENT
BEGIN:VEVENT
DTSTART;TZID=America/Phoenix:20240327T090000
DTEND;TZID=America/Phoenix:20240327T101500
DTSTAMP:20260425T112602
CREATED:20231229T185659Z
LAST-MODIFIED:20231229T185659Z
UID:10004188-1711530000-1711534500@reikihome.org
SUMMARY:Reiki II Circle - Show Gratitude
DESCRIPTION:These circles offer an opportunity to send Reiki to each other and to topics/requests as the circle is interactive.  Our time together is as much about self-care to strengthen us as about sending distant Reiki to others – a way of showing gratitude to every living thing.  Each circles closes with a guided sending from Rick.  All events are listed in PDT. For your own time zone\, please check the World Clock Converter.\nmeeting ID:  848 0987 3978   Passcode:  723633
URL:https://reikihome.org/event/reiki-ii-circle-show-gratitude-23/
CATEGORIES:Reiki Circles and Meditations
END:VEVENT
BEGIN:VEVENT
DTSTART;TZID=America/Phoenix:20240228T090000
DTEND;TZID=America/Phoenix:20240228T101500
DTSTAMP:20260425T112602
CREATED:20231229T185658Z
LAST-MODIFIED:20231229T185658Z
UID:10004187-1709110800-1709115300@reikihome.org
SUMMARY:Reiki II Circle - Show Gratitude
DESCRIPTION:These circles offer an opportunity to send Reiki to each other and to topics/requests as the circle is interactive.  Our time together is as much about self-care to strengthen us as about sending distant Reiki to others – a way of showing gratitude to every living thing.  Each circles closes with a guided sending from Rick.  All events are listed in PST. For your own time zone\, please check the World Clock Converter.\nmeeting ID:  848 0987 3978   Passcode:  723633
URL:https://reikihome.org/event/reiki-ii-circle-show-gratitude-22/
CATEGORIES:Reiki Circles and Meditations
END:VEVENT
BEGIN:VEVENT
DTSTART;TZID=America/Phoenix:20240131T090000
DTEND;TZID=America/Phoenix:20240131T101500
DTSTAMP:20260425T112602
CREATED:20231229T185656Z
LAST-MODIFIED:20231229T190134Z
UID:10004186-1706691600-1706696100@reikihome.org
SUMMARY:Reiki II Circle - Show Gratitude
DESCRIPTION:These circles offer an opportunity to send Reiki to each other and to topics/requests as the circle is interactive.  Our time together is as much about self-care to strengthen us as about sending distant Reiki to others – a way of showing gratitude to every living thing.  Each circles closes with a guided sending from Rick.  All events are listed in PST. For your own time zone\, please check the World Clock Converter.\nmeeting ID:  848 0987 3978   Passcode:  723633
URL:https://reikihome.org/event/reiki-ii-circle-show-gratitude-21/
CATEGORIES:Reiki Circles and Meditations
END:VEVENT
BEGIN:VEVENT
DTSTART;TZID=America/Phoenix:20231227T090000
DTEND;TZID=America/Phoenix:20231227T101500
DTSTAMP:20260425T112602
CREATED:20230827T035726Z
LAST-MODIFIED:20230827T035726Z
UID:10004121-1703667600-1703672100@reikihome.org
SUMMARY:Reiki II Circle - Show Gratitude
DESCRIPTION:These circles offer an opportunity to send Reiki to each other and to topics/requests as the circle is interactive. Our time together is as much about self-care to strengthen us as about sending distant Reiki to others – a way of showing gratitude to every living thing. Each circles closes with a guided sending from Rick. All events are listed in PDT. \nFor your own time zone\, please check the World Clock Converter. \nhttps://us06web.zoom.us/j/84809873978?pwd=VWFHblBrQ3JrS1JEd0EzUTBmdFJTQT09\nmeeting ID: 848 0987 3978 Passcode: 723633
URL:https://reikihome.org/event/reiki-ii-circle-show-gratitude-20/
END:VEVENT
BEGIN:VEVENT
DTSTART;TZID=America/Phoenix:20231129T090000
DTEND;TZID=America/Phoenix:20231129T101500
DTSTAMP:20260425T112602
CREATED:20230827T035653Z
LAST-MODIFIED:20230827T035653Z
UID:10004120-1701248400-1701252900@reikihome.org
SUMMARY:Reiki II Circle - Show Gratitude
DESCRIPTION:These circles offer an opportunity to send Reiki to each other and to topics/requests as the circle is interactive. Our time together is as much about self-care to strengthen us as about sending distant Reiki to others – a way of showing gratitude to every living thing. Each circles closes with a guided sending from Rick. All events are listed in PDT. \nFor your own time zone\, please check the World Clock Converter. \nhttps://us06web.zoom.us/j/84809873978?pwd=VWFHblBrQ3JrS1JEd0EzUTBmdFJTQT09\nmeeting ID: 848 0987 3978 Passcode: 723633
URL:https://reikihome.org/event/reiki-ii-circle-show-gratitude-19/
END:VEVENT
BEGIN:VEVENT
DTSTART;TZID=America/Phoenix:20231025T090000
DTEND;TZID=America/Phoenix:20231025T101500
DTSTAMP:20260425T112602
CREATED:20230827T035616Z
LAST-MODIFIED:20230827T035616Z
UID:10004119-1698224400-1698228900@reikihome.org
SUMMARY:Reiki II Circle - Show Gratitude
DESCRIPTION:These circles offer an opportunity to send Reiki to each other and to topics/requests as the circle is interactive. Our time together is as much about self-care to strengthen us as about sending distant Reiki to others – a way of showing gratitude to every living thing. Each circles closes with a guided sending from Rick. All events are listed in PDT. \nFor your own time zone\, please check the World Clock Converter. \nhttps://us06web.zoom.us/j/84809873978?pwd=VWFHblBrQ3JrS1JEd0EzUTBmdFJTQT09\nmeeting ID: 848 0987 3978 Passcode: 723633
URL:https://reikihome.org/event/reiki-ii-circle-show-gratitude-18/
END:VEVENT
END:VCALENDAR