BEGIN:VCALENDAR
VERSION:2.0
PRODID:-//Reiki Home - ECPv6.15.20//NONSGML v1.0//EN
CALSCALE:GREGORIAN
METHOD:PUBLISH
X-ORIGINAL-URL:https://reikihome.org
X-WR-CALDESC:Events for Reiki Home
REFRESH-INTERVAL;VALUE=DURATION:PT1H
X-Robots-Tag:noindex
X-PUBLISHED-TTL:PT1H
BEGIN:VTIMEZONE
TZID:America/Phoenix
BEGIN:STANDARD
TZOFFSETFROM:-0700
TZOFFSETTO:-0700
TZNAME:MST
DTSTART:20220101T000000
END:STANDARD
END:VTIMEZONE
BEGIN:VEVENT
DTSTART;TZID=America/Phoenix:20230410T010000
DTEND;TZID=America/Phoenix:20230410T020000
DTSTAMP:20260425T100419
CREATED:20230328T113131Z
LAST-MODIFIED:20230328T113131Z
UID:10003915-1681088400-1681092000@reikihome.org
SUMMARY:21-Day Meditation/Together in Reiki in Dutch and English
DESCRIPTION:
URL:https://reikihome.org/event/21-day-meditation-together-in-reiki-in-dutch-and-english-5/
CATEGORIES:21-Day Meditation,Reiki Circle
END:VEVENT
BEGIN:VEVENT
DTSTART;TZID=America/Phoenix:20230408T010000
DTEND;TZID=America/Phoenix:20230408T020000
DTSTAMP:20260425T100419
CREATED:20230328T112239Z
LAST-MODIFIED:20230328T112239Z
UID:10003887-1680915600-1680919200@reikihome.org
SUMMARY:21-Day Meditation/Together in Reiki in Dutch and English
DESCRIPTION:
URL:https://reikihome.org/event/21-day-meditation-together-in-reiki-in-dutch-and-english-4/
CATEGORIES:21-Day Meditation,Reiki Circle
END:VEVENT
END:VCALENDAR