BEGIN:VCALENDAR
VERSION:2.0
PRODID:-//Reiki Home - ECPv6.15.20//NONSGML v1.0//EN
CALSCALE:GREGORIAN
METHOD:PUBLISH
X-ORIGINAL-URL:https://reikihome.org
X-WR-CALDESC:Events for Reiki Home
REFRESH-INTERVAL;VALUE=DURATION:PT1H
X-Robots-Tag:noindex
X-PUBLISHED-TTL:PT1H
BEGIN:VTIMEZONE
TZID:America/Phoenix
BEGIN:STANDARD
TZOFFSETFROM:-0700
TZOFFSETTO:-0700
TZNAME:MST
DTSTART:20230101T000000
END:STANDARD
END:VTIMEZONE
BEGIN:VEVENT
DTSTART;TZID=America/Phoenix:20240511T093000
DTEND;TZID=America/Phoenix:20240511T113000
DTSTAMP:20260425T083552
CREATED:20240407T173029Z
LAST-MODIFIED:20240407T173346Z
UID:10004416-1715419800-1715427000@reikihome.org
SUMMARY:Reiki in Colors
DESCRIPTION:Art is a language of soul. We knew it from the very beginning. Do you remember your childish paintings and how much fun\, joy and naturalness you felt while doing them? Being creative is as natural as breathing\, it touches and reflects the creator which is in you. As we become grown-ups\, the innocence of painting and the capability to do it hide themselves. Art in work with Reiki will make tangible and profound our journey. This workshop is a journey with Reiki embraced through Art that will show you the depth and beauty of your inner world.
URL:https://reikihome.org/event/reiki-in-colors-4/
CATEGORIES:Workshop
END:VEVENT
BEGIN:VEVENT
DTSTART;TZID=America/Phoenix:20240511T010000
DTEND;TZID=America/Phoenix:20240511T030000
DTSTAMP:20260425T083552
CREATED:20240407T173029Z
LAST-MODIFIED:20240407T173404Z
UID:10004415-1715389200-1715396400@reikihome.org
SUMMARY:Reiki in Colors
DESCRIPTION:Art is a language of soul. We knew it from the very beginning. Do you remember your childish paintings and how much fun\, joy and naturalness you felt while doing them? Being creative is as natural as breathing\, it touches and reflects the creator which is in you. As we become grown-ups\, the innocence of painting and the capability to do it hide themselves. Art in work with Reiki will make tangible and profound our journey. This workshop is a journey with Reiki embraced through Art that will show you the depth and beauty of your inner world.
URL:https://reikihome.org/event/reiki-in-colors-3/
CATEGORIES:Workshop
END:VEVENT
BEGIN:VEVENT
DTSTART;TZID=America/Phoenix:20240420T093000
DTEND;TZID=America/Phoenix:20240420T113000
DTSTAMP:20260425T083552
CREATED:20240407T173026Z
LAST-MODIFIED:20240407T173026Z
UID:10004411-1713605400-1713612600@reikihome.org
SUMMARY:Reiki in Colors
DESCRIPTION:Art is a language of soul. We knew it from the very beginning. Do you remember your childish paintings and how much fun\, joy and naturalness you felt while doing them? Being creative is as natural as breathing\, it touches and reflects the creator which is in you. As we become grown-ups\, the innocence of painting and the capability to do it hide themselves. Art in work with Reiki will make tangible and profound our journey. This workshop is a journey with Reiki embraced through Art that will show you the depth and beauty of your inner world.
URL:https://reikihome.org/event/reiki-in-colors-2/
CATEGORIES:Workshop
END:VEVENT
BEGIN:VEVENT
DTSTART;TZID=America/Phoenix:20240420T010000
DTEND;TZID=America/Phoenix:20240420T030000
DTSTAMP:20260425T083552
CREATED:20240407T173025Z
LAST-MODIFIED:20240407T173025Z
UID:10004410-1713574800-1713582000@reikihome.org
SUMMARY:Reiki in Colors
DESCRIPTION:Art is a language of soul. We knew it from the very beginning. Do you remember your childish paintings and how much fun\, joy and naturalness you felt while doing them? Being creative is as natural as breathing\, it touches and reflects the creator which is in you. As we become grown-ups\, the innocence of painting and the capability to do it hide themselves. Art in work with Reiki will make tangible and profound our journey. This workshop is a journey with Reiki embraced through Art that will show you the depth and beauty of your inner world.
URL:https://reikihome.org/event/reiki-in-colors/
CATEGORIES:Workshop
END:VEVENT
BEGIN:VEVENT
DTSTART;TZID=America/Phoenix:20240113T093000
DTEND;TZID=America/Phoenix:20240113T113000
DTSTAMP:20260425T083552
CREATED:20231231T230229Z
LAST-MODIFIED:20240107T185842Z
UID:10004225-1705138200-1705145400@reikihome.org
SUMMARY:Reiki Precepts in Colors: Introduction (English)
DESCRIPTION:Art is a language of soul. We knew it from the very beginning. Do you remember your childish paintings and how much fun\, joy and naturalness you felt while doing them? Being creative is as natural as breathing\, it touches and reflects the creator which is in you. As we become grown-ups\, the innocence of painting and the capability to do it hide themselves. In this course we will reemerge creativity so that it does speak through colors and heals what needs to be healed. Art in work with Reiki will make tangible and profound our journey. \nTime: English Language at 9:30 a.m. Pacific Time; 6:30 p.m. Europe
URL:https://reikihome.org/event/reiki-precepts-in-colors-introduction-3/
CATEGORIES:Reiki Campus Webcast
END:VEVENT
BEGIN:VEVENT
DTSTART;TZID=America/Phoenix:20240113T053000
DTEND;TZID=America/Phoenix:20240113T073000
DTSTAMP:20260425T083552
CREATED:20231231T224930Z
LAST-MODIFIED:20240107T185956Z
UID:10004215-1705123800-1705131000@reikihome.org
SUMMARY:Reiki Precepts in Colors: Introduction (Russian)
DESCRIPTION:Art is a language of soul. We knew it from the very beginning. Do you remember your childish paintings and how much fun\, joy and naturalness you felt while doing them? Being creative is as natural as breathing\, it touches and reflects the creator which is in you. As we become grown-ups\, the innocence of painting and the capability to do it hide themselves. In this course we will reemerge creativity so that it does speak through colors and heals what needs to be healed. Art in work with Reiki will make tangible and profound our journey. \nTime: Russian Language at 5:30 a.m. Pacific Time; 2:30 p.m. Europe
URL:https://reikihome.org/event/reiki-precepts-in-colors-introduction-2/
CATEGORIES:Reiki Campus Webcast
END:VEVENT
BEGIN:VEVENT
DTSTART;TZID=America/Phoenix:20240113T013000
DTEND;TZID=America/Phoenix:20240113T033000
DTSTAMP:20260425T083552
CREATED:20231231T224929Z
LAST-MODIFIED:20240107T190214Z
UID:10004214-1705109400-1705116600@reikihome.org
SUMMARY:Reiki Precepts in Colors: Introduction (Italian)
DESCRIPTION:Art is a language of soul. We knew it from the very beginning. Do you remember your childish paintings and how much fun\, joy and naturalness you felt while doing them? Being creative is as natural as breathing\, it touches and reflects the creator which is in you. As we become grown-ups\, the innocence of painting and the capability to do it hide themselves. In this course we will reemerge creativity so that it does speak through colors and heals what needs to be healed. Art in work with Reiki will make tangible and profound our journey. \nTime: Italian Language at 1:30 a.m. Pacific Time; 10:30 a.m. Europe
URL:https://reikihome.org/event/reiki-precepts-in-colors-introduction/
CATEGORIES:Reiki Campus Webcast
END:VEVENT
END:VCALENDAR