BEGIN:VCALENDAR
VERSION:2.0
PRODID:-//Reiki Home - ECPv6.15.20//NONSGML v1.0//EN
CALSCALE:GREGORIAN
METHOD:PUBLISH
X-ORIGINAL-URL:https://reikihome.org
X-WR-CALDESC:Events for Reiki Home
REFRESH-INTERVAL;VALUE=DURATION:PT1H
X-Robots-Tag:noindex
X-PUBLISHED-TTL:PT1H
BEGIN:VTIMEZONE
TZID:America/Los_Angeles
BEGIN:DAYLIGHT
TZOFFSETFROM:-0800
TZOFFSETTO:-0700
TZNAME:PDT
DTSTART:20200308T100000
END:DAYLIGHT
BEGIN:STANDARD
TZOFFSETFROM:-0700
TZOFFSETTO:-0800
TZNAME:PST
DTSTART:20201101T090000
END:STANDARD
BEGIN:DAYLIGHT
TZOFFSETFROM:-0800
TZOFFSETTO:-0700
TZNAME:PDT
DTSTART:20210314T100000
END:DAYLIGHT
BEGIN:STANDARD
TZOFFSETFROM:-0700
TZOFFSETTO:-0800
TZNAME:PST
DTSTART:20211107T090000
END:STANDARD
BEGIN:DAYLIGHT
TZOFFSETFROM:-0800
TZOFFSETTO:-0700
TZNAME:PDT
DTSTART:20220313T100000
END:DAYLIGHT
BEGIN:STANDARD
TZOFFSETFROM:-0700
TZOFFSETTO:-0800
TZNAME:PST
DTSTART:20221106T090000
END:STANDARD
END:VTIMEZONE
BEGIN:VEVENT
DTSTART;TZID=America/Los_Angeles:20211205T100000
DTEND;TZID=America/Los_Angeles:20211205T113000
DTSTAMP:20260425T140642
CREATED:20211121T160241Z
LAST-MODIFIED:20211121T180410Z
UID:10002444-1638698400-1638703800@reikihome.org
SUMMARY:Reiki Story Time
DESCRIPTION:Reiki Story Time is a time to gather and listen to stories about Reiki practices and journeys. You will hear stories shared by Reiki teachers and practitioners from around the world.  Enjoy their wisdom as we broaden our collective path. Every story is unique\, and yet\, the same. What experiences pulled at their hearts? How has Reiki transformed them? What do they share with their students?\n The purpose of Reiki Story Time is to celebrate diversity\, meet each other in that healing space of Reiki and share the wisdom held within our global community.  During this series\, we will explore multiple perspectives and life paths.\nJourney with us as you sit in the warmth of a group with curiosity and delicious anticipation. Every Reiki story is magical and holds unexpected gifts.\n December Guest:  Sundar Kadayam is an entrepreneur\, healer\, writer and spiritual teacher. He has trained in the traditional system of Reiki for over 10 years with Frans Stiene.  The awakened living and non-dual teachings of the great sage Ramana Maharshi have been a major influence on his spiritual path. Sundar’s sharing centers around Self Realization\, and abiding in one’s own True Nature. To learn more about Sundar Kadayam and to see a list of his books and offerings\, you may visit his website at https://SundarKadayam.com/.  All events are listed in PST.  For your own time zone\, please see the World Clock Converter.
URL:https://reikihome.org/event/reiki-story-time-4/
CATEGORIES:Reiki Home Webcast,Webcast
END:VEVENT
BEGIN:VEVENT
DTSTART;TZID=America/Los_Angeles:20211107T100000
DTEND;TZID=America/Los_Angeles:20211107T113000
DTSTAMP:20260425T140642
CREATED:20211012T024627Z
LAST-MODIFIED:20211012T024627Z
UID:10002401-1636279200-1636284600@reikihome.org
SUMMARY:Reiki Story Time
DESCRIPTION:Reiki Story Time is a time to gather and listen to stories about Reiki practices and journeys. You will hear stories shared by Reiki teachers and practitioners from around the world.  Enjoy their wisdom as we broaden our collective path. Every story is unique\, and yet\, the same. What experiences pulled at their hearts? How has Reiki transformed them? What do they share with their students?\n The purpose of Reiki Story Time is to celebrate diversity\, meet each other in that healing space of Reiki and share the wisdom held within our global community.  During this series\, we will explore multiple perspectives and life paths.\nJourney with us as you sit in the warmth of a group with curiosity and delicious anticipation. Every Reiki story is magical and holds unexpected gifts. \nNovember’s Guest:  Ifetayo White is a 76 year old Reiki Teacher who is the founder and director of The Lowcountry School of Reiki on St. Helena Island\, SC.   A parent\, grandparent\, friend and professional\, she continues to devote herself to her own mental\, emotional\, physical and spiritual growth and that of others. fetayo began receiving Reiki in her hometown\, Washington DC\, in the early 80s and was attuned Reiki I in 1995.  Having  taught Reiki since 1999 she was again attuned Usui Shinpiden Level III by Frans Stiene of the International House of Reiki in Feb 2020. This work and her training as a massage therapist\, Jin Shin Do acupressure practitioner\, and 10 years experience working in mental health has created the container for her practice in somatic healing of traumatic memory stored in the body. As a long-time meditation practitioner and instructor\, Ifetayo has led countless meditation sessions for children and adults in person\, at events\, during virtual workshops\, and on Insight Timer.  Her ReTurning hOMe Transformational Mentoring Program has provided a bridge for individuals to explore the trauma and fears that  prevent them from living their lives to the fullest.\nFor Ifetayo Reiki is the foundation of everything she does in her life and she is devoted to the daily practices of living Reiki. To enjoy a balance of life\, Ifetayo enjoys being in nature\, swimming\, writing\, and spending time with her two daughters\, grandchildren\, and large community of family and friends.  All events are listed in PDT.  For your own time zone\, please see the World Clock Converter.
URL:https://reikihome.org/event/reiki-story-time-3/
CATEGORIES:Reiki Home Webcast,Webcast
END:VEVENT
BEGIN:VEVENT
DTSTART;TZID=America/Los_Angeles:20210905T100000
DTEND;TZID=America/Los_Angeles:20210905T113000
DTSTAMP:20260425T140642
CREATED:20210817T195832Z
LAST-MODIFIED:20210817T200025Z
UID:10001939-1630836000-1630841400@reikihome.org
SUMMARY:Reiki Story Time
DESCRIPTION:Reiki Story Time is a time to gather and listen to stories about Reiki practices and journeys. You will hear stories shared by Reiki teachers and practitioners from around the world. Enjoy their wisdom as we broaden our collective path. Guest: Antonella Vicini. Antonella is a writer and editor of THE BADGER\, author of Talking with Gods\, Sages\, Fairies…. (a novel) steeped in classical and indological studies. She has spent her life learning from people as well as from the ancient texts that keep revealing their immortal\, thus contemporary teachings. A teacher at heart\, be it in school or workshops\, she is happy to share new visions and face new challenges. Antonella is a professional rebirther and trainer (since 1987)\, Reiki Master (since 1991)\, stress management and leadership trainer\, writer and visionary. She also leads workshops on shamanic journeying and soul healing. Her website is https://www.thebadgerproductions.com/ All events are listed in PDT. For your own time zone\, please see the World Clock Converter.
URL:https://reikihome.org/event/reiki-story-time/
CATEGORIES:Reiki Home Webcast,Webcast
END:VEVENT
END:VCALENDAR