BEGIN:VCALENDAR
VERSION:2.0
PRODID:-//Reiki Home - ECPv6.15.20//NONSGML v1.0//EN
CALSCALE:GREGORIAN
METHOD:PUBLISH
X-WR-CALNAME:Reiki Home
X-ORIGINAL-URL:https://reikihome.org
X-WR-CALDESC:Events for Reiki Home
REFRESH-INTERVAL;VALUE=DURATION:PT1H
X-Robots-Tag:noindex
X-PUBLISHED-TTL:PT1H
BEGIN:VTIMEZONE
TZID:America/Phoenix
BEGIN:STANDARD
TZOFFSETFROM:-0700
TZOFFSETTO:-0700
TZNAME:MST
DTSTART:20210101T000000
END:STANDARD
END:VTIMEZONE
BEGIN:VEVENT
DTSTART;TZID=America/Phoenix:20220507T100000
DTEND;TZID=America/Phoenix:20220507T113000
DTSTAMP:20260425T083553
CREATED:20220409T144108Z
LAST-MODIFIED:20220429T183245Z
UID:10003376-1651917600-1651923000@reikihome.org
SUMMARY:On the Move with a Wisdom-Keeper Grandmother
DESCRIPTION:The purpose of this webcast series is to bring harmony\, compassion and healing into our world so that together we create and enjoy a better future. Many arms of service will be explored\, such as: strengthening the current life force\, bringing the world together in workable ways\, listening to the voices of the land\, science of whole person healing\, calling and empowerment of women\, music as healing energy\, grounding into answers for real problems facing local communities. Join Norma Jean Young as her life circulates among many peoples and world communities. In this series of webcasts\, she reflects on current needs\, affairs and community improvements. You are invited to collaborate\, partner and be an inspiration and spark of light in your local community.
URL:https://reikihome.org/event/on-the-move-with-a-wisdom-keeper-grandmother/
CATEGORIES:Reiki Campus Webcast
END:VEVENT
END:VCALENDAR