BEGIN:VCALENDAR
VERSION:2.0
PRODID:-//Reiki Home - ECPv6.15.20//NONSGML v1.0//EN
CALSCALE:GREGORIAN
METHOD:PUBLISH
X-WR-CALNAME:Reiki Home
X-ORIGINAL-URL:https://reikihome.org
X-WR-CALDESC:Events for Reiki Home
REFRESH-INTERVAL;VALUE=DURATION:PT1H
X-Robots-Tag:noindex
X-PUBLISHED-TTL:PT1H
BEGIN:VTIMEZONE
TZID:America/Phoenix
BEGIN:STANDARD
TZOFFSETFROM:-0700
TZOFFSETTO:-0700
TZNAME:MST
DTSTART:20220101T000000
END:STANDARD
END:VTIMEZONE
BEGIN:VEVENT
DTSTART;TZID=America/Phoenix:20230110T100000
DTEND;TZID=America/Phoenix:20230110T110000
DTSTAMP:20260425T130252
CREATED:20221120T215202Z
LAST-MODIFIED:20221120T215202Z
UID:10003811-1673344800-1673348400@reikihome.org
SUMMARY:Together in Reiki in Romanian
DESCRIPTION:Together in Reiki circles create an opportunity to sit in a virtual circle. Each facilitator and host offers a variety of ways to experience a Reiki circle by bringing their own creativity\, sensitivity and gifts from Reiki. You are encouraged to enjoy a unique experience. Participate in a language you do not speak and experience Reiki in a way that goes beyond the spoken word. It is unique and special! A \nll events are listed in PST. For your own time zone\, please check the World Clock Converter.
URL:https://reikihome.org/event/together-in-reiki-in-romanian-22/
CATEGORIES:Reiki Circles and Meditations
END:VEVENT
END:VCALENDAR