BEGIN:VCALENDAR
VERSION:2.0
PRODID:-//Reiki Home - ECPv6.15.20//NONSGML v1.0//EN
CALSCALE:GREGORIAN
METHOD:PUBLISH
X-WR-CALNAME:Reiki Home
X-ORIGINAL-URL:https://reikihome.org
X-WR-CALDESC:Events for Reiki Home
REFRESH-INTERVAL;VALUE=DURATION:PT1H
X-Robots-Tag:noindex
X-PUBLISHED-TTL:PT1H
BEGIN:VTIMEZONE
TZID:America/Phoenix
BEGIN:STANDARD
TZOFFSETFROM:-0700
TZOFFSETTO:-0700
TZNAME:MST
DTSTART:20170101T000000
END:STANDARD
END:VTIMEZONE
BEGIN:VEVENT
DTSTART;TZID=America/Phoenix:20180127T110000
DTEND;TZID=America/Phoenix:20180127T130000
DTSTAMP:20260425T212651
CREATED:20180101T222457Z
LAST-MODIFIED:20180101T223436Z
UID:10000056-1517050800-1517058000@reikihome.org
SUMMARY:Global Community Gathering
DESCRIPTION:Celebrate the growth and where we are as an organization. Reflect upon the journey. Explore the vision that is emerging.\nBy invitation only.  \nTime in Pacific Standard Time (Portland Oregon\, USA)\nhttps://www.timeanddate.com/worldclock/converter.html
URL:https://reikihome.org/event/global-community-gathering/
CATEGORIES:Gatherings
END:VEVENT
END:VCALENDAR